BEGIN:VCALENDAR
VERSION:2.0
PRODID:-//Swing - ECPv6.15.17.1//NONSGML v1.0//EN
CALSCALE:GREGORIAN
METHOD:PUBLISH
X-ORIGINAL-URL:https://www.swing.se
X-WR-CALDESC:Händelser för Swing
REFRESH-INTERVAL;VALUE=DURATION:PT1H
X-Robots-Tag:noindex
X-PUBLISHED-TTL:PT1H
BEGIN:VTIMEZONE
TZID:Europe/Stockholm
BEGIN:DAYLIGHT
TZOFFSETFROM:+0100
TZOFFSETTO:+0200
TZNAME:CEST
DTSTART:20250330T010000
END:DAYLIGHT
BEGIN:STANDARD
TZOFFSETFROM:+0200
TZOFFSETTO:+0100
TZNAME:CET
DTSTART:20251026T010000
END:STANDARD
BEGIN:DAYLIGHT
TZOFFSETFROM:+0100
TZOFFSETTO:+0200
TZNAME:CEST
DTSTART:20260329T010000
END:DAYLIGHT
BEGIN:STANDARD
TZOFFSETFROM:+0200
TZOFFSETTO:+0100
TZNAME:CET
DTSTART:20261025T010000
END:STANDARD
BEGIN:DAYLIGHT
TZOFFSETFROM:+0100
TZOFFSETTO:+0200
TZNAME:CEST
DTSTART:20270328T010000
END:DAYLIGHT
BEGIN:STANDARD
TZOFFSETFROM:+0200
TZOFFSETTO:+0100
TZNAME:CET
DTSTART:20271031T010000
END:STANDARD
END:VTIMEZONE
BEGIN:VEVENT
DTSTART;TZID=Europe/Stockholm:20260428T170000
DTEND;TZID=Europe/Stockholm:20260428T190000
DTSTAMP:20260421T185643
CREATED:20251202T212014Z
LAST-MODIFIED:20251202T212119Z
UID:10002637-1777395600-1777402800@www.swing.se
SUMMARY:BRR Tävlingsträning
DESCRIPTION:Ort: Växjö\nVar: Lilla hallen\, Växjö\nNär: Tisdagar 17.00-19.00\nStartdatum: 2026-01-13\nUppehåll: \nSlutdatum: 2025-05-26\nAntal tillfällen: 20\nKursledare: –\nMedlemskap: Obligatoriskt\nBeskrivning: Träningstillfälle för dig som tävlar i någon av BRR-danserna. \nObservera att det är en annan avgift för den här träningen. Kontakta klubben för mer information om du är intresserad. \nVarmt välkomna till oss på Dansklubben Swing i Växjö!! \n(OBS! Anmälan sker endast genom samverkan med klubben info@swing.se)
URL:https://www.swing.se/event/brr-tavlingstraning-3/2026-04-28/
LOCATION:Swinghallen\, Växjö\, Arabygatan 80\, Växjö\, 35246
CATEGORIES:Lilla hallen,Tävlingsträning
ORGANIZER;CN="Dansklubben Swing":MAILTO:info@swing.se
END:VEVENT
BEGIN:VEVENT
DTSTART;TZID=Europe/Stockholm:20260428T180000
DTEND;TZID=Europe/Stockholm:20260428T190000
DTSTAMP:20260421T185643
CREATED:20251202T212101Z
LAST-MODIFIED:20251202T212249Z
UID:10002677-1777399200-1777402800@www.swing.se
SUMMARY:Tiodans tävlingsträning
DESCRIPTION:Ort: Växjö\nVar: Stora hallen / Lilla hallen\, Växjö\nNär: Tisdagar 18.00-19.00 / 19.00-20.00\nStartdatum: 2026-01-13\nUppehåll: \nSlutdatum: 2026-05-12\nAntal tillfällen: 18\nKursledare: –\nMedlemskap: Obligatoriskt\nBeskrivning: Träningstillfälle för dig som tävlar i tiodans. \nVarmt välkomna till oss på Dansklubben Swing i Växjö!! \n(OBS! Anmälan sker endast genom samverkan med klubben info@swing.se)
URL:https://www.swing.se/event/tiodans-tavlingstraning-7/2026-04-28/
LOCATION:Swinghallen\, Växjö\, Arabygatan 80\, Växjö\, 35246
CATEGORIES:Stora hallen,Tävlingsträning
ORGANIZER;CN="Dansklubben Swing":MAILTO:info@swing.se
END:VEVENT
BEGIN:VEVENT
DTSTART;TZID=Europe/Stockholm:20260428T190000
DTEND;TZID=Europe/Stockholm:20260428T200000
DTSTAMP:20260421T185643
CREATED:20251202T212208Z
LAST-MODIFIED:20251202T212208Z
UID:10002660-1777402800-1777406400@www.swing.se
SUMMARY:Tiodans tävlingsträning
DESCRIPTION:Ort: Växjö\nVar: Stora hallen / Lilla hallen\, Växjö\nNär: Tisdagar 18.00-19.00 / 19.00-20.00\nStartdatum: 2026-01-13\nUppehåll: \nSlutdatum: 2026-05-12\nAntal tillfällen: 18\nKursledare: –\nMedlemskap: Obligatoriskt\nBeskrivning: Träningstillfälle för dig som tävlar i tiodans. \nVarmt välkomna till oss på Dansklubben Swing i Växjö!! \n(OBS! Anmälan sker endast genom samverkan med klubben info@swing.se)
URL:https://www.swing.se/event/tiodans-tavlingstraning-8/2026-04-28/
LOCATION:Swinghallen\, Växjö\, Arabygatan 80\, Växjö\, 35246
CATEGORIES:Lilla hallen,Tävlingsträning
ORGANIZER;CN="Dansklubben Swing":MAILTO:info@swing.se
END:VEVENT
BEGIN:VEVENT
DTSTART;TZID=Europe/Stockholm:20260429T183000
DTEND;TZID=Europe/Stockholm:20260429T193000
DTSTAMP:20260421T185643
CREATED:20251202T212640Z
LAST-MODIFIED:20251202T212640Z
UID:10002743-1777487400-1777491000@www.swing.se
SUMMARY:Boogie Woogie Tävlingsträning
DESCRIPTION:Ort: Växjö\nVar: Lilla hallen\, Växjö\nNär: Onsdagar 18.30-19.30\nStartdatum: 2026-01-14\nUppehåll: \nSlutdatum: 2026-05-27\nAntal tillfällen: 20\nKursledare: Joel Lundberg\nMedlemskap: Obligatoriskt\nBeskrivning: Träningstillfälle för dig som tävlar i Boogie Woogie. \nObservera att det är en annan avgift för den här träningen. Kontakta klubben för mer information om du är intresserad. \nVarmt välkomna till oss på Dansklubben Swing i Växjö!! \n(OBS! Anmälan sker endast genom samverkan med klubben info@swing.se)
URL:https://www.swing.se/event/boogie-woogie-tavlingstraning-6/2026-04-29/
LOCATION:Swinghallen\, Växjö\, Arabygatan 80\, Växjö\, 35246
CATEGORIES:Lilla hallen,Tävlingsträning
ORGANIZER;CN="Dansklubben Swing":MAILTO:info@swing.se
END:VEVENT
BEGIN:VEVENT
DTSTART;TZID=Europe/Stockholm:20260429T193000
DTEND;TZID=Europe/Stockholm:20260429T210000
DTSTAMP:20260421T185643
CREATED:20251202T212714Z
LAST-MODIFIED:20251202T212714Z
UID:10002763-1777491000-1777496400@www.swing.se
SUMMARY:Bugg Tävlingsträning
DESCRIPTION:Ort: Växjö\nVar: Lilla hallen\, Växjö\nNär: Onsdagar 19.30-21.00\nStartdatum: 2026-01-14\nUppehåll: \nSlutdatum: 2026-05-27\nAntal tillfällen: 20\nKursledare: Joel Lundberg\nMedlemskap: Obligatoriskt\nBeskrivning: Träningstillfälle för dig som tävlar i bugg. \nObservera att det är en annan avgift för den här träningen. Kontakta klubben för mer information om du är intresserad. \nVarmt välkomna till oss på Dansklubben Swing i Växjö!! \n(OBS! Anmälan sker endast genom samverkan med klubben info@swing.se)
URL:https://www.swing.se/event/bugg-tavlingstraning-6/2026-04-29/
LOCATION:Swinghallen\, Växjö\, Arabygatan 80\, Växjö\, 35246
CATEGORIES:Lilla hallen,Tävlingsträning
ORGANIZER;CN="Dansklubben Swing":MAILTO:info@swing.se
END:VEVENT
BEGIN:VEVENT
DTSTART;TZID=Europe/Stockholm:20260503T161500
DTEND;TZID=Europe/Stockholm:20260503T170000
DTSTAMP:20260421T185643
CREATED:20251202T213302Z
LAST-MODIFIED:20251202T213302Z
UID:10002836-1777824900-1777827600@www.swing.se
SUMMARY:Tiodans för tävlingsdansare
DESCRIPTION:Ort: Växjö\nVar: Stora hallen\, Växjö\nNär: Söndagar 16:15-17:15\nStartdatum: 2026-02-01\nUppehåll: 2026-02-22\, 2026-03-01\, 2026-03-15\, 2026-04-05 och 2026-04-19\nSlutdatum: 2026-04-26\nAntal tillfällen: 9\nKursledare: Eva Walden och Tomas Petersson\nMedlemskap: Obligatoriskt\nBeskrivning: Träningstillfälle för dig som tävlar i tiodans i klasserna E\, D\, C.\nVarmt välkomna till oss på Dansklubben Swing i Växjö!! \n(OBS! Anmälan sker genom samverkan med klubben info@swing.se)
URL:https://www.swing.se/event/tiodans-for-tavlingsdansare-5/2026-05-03/
LOCATION:Swinghallen\, Växjö\, Arabygatan 80\, Växjö\, 35246
CATEGORIES:Stora hallen,Tävlingsträning
ORGANIZER;CN="Dansklubben Swing":MAILTO:info@swing.se
END:VEVENT
BEGIN:VEVENT
DTSTART;TZID=Europe/Stockholm:20260503T163000
DTEND;TZID=Europe/Stockholm:20260503T203000
DTSTAMP:20260421T185643
CREATED:20251202T214433Z
LAST-MODIFIED:20251202T214442Z
UID:10002861-1777825800-1777840200@www.swing.se
SUMMARY:Orkesterdans – Blender
DESCRIPTION:Kom och dansa till Blender 16.30 – 20.30 i Gemla Folkets Park. \nDansen är öppen för alla. \nVarmt välkomna till oss på Dansklubben Swing i Växjö!!
URL:https://www.swing.se/event/orkesterdans-blender-4/
LOCATION:Folket Park\, Gemla\, Industrivägen 1\, Gemla\, 36032\, Sverige
CATEGORIES:Orkesterdanser
ORGANIZER;CN="Dansklubben Swing":MAILTO:info@swing.se
END:VEVENT
END:VCALENDAR