BEGIN:VCALENDAR
VERSION:2.0
PRODID:-//Swing - ECPv6.15.17.1//NONSGML v1.0//EN
CALSCALE:GREGORIAN
METHOD:PUBLISH
X-ORIGINAL-URL:https://www.swing.se
X-WR-CALDESC:Händelser för Swing
REFRESH-INTERVAL;VALUE=DURATION:PT1H
X-Robots-Tag:noindex
X-PUBLISHED-TTL:PT1H
BEGIN:VTIMEZONE
TZID:Europe/Stockholm
BEGIN:DAYLIGHT
TZOFFSETFROM:+0100
TZOFFSETTO:+0200
TZNAME:CEST
DTSTART:20250330T010000
END:DAYLIGHT
BEGIN:STANDARD
TZOFFSETFROM:+0200
TZOFFSETTO:+0100
TZNAME:CET
DTSTART:20251026T010000
END:STANDARD
BEGIN:DAYLIGHT
TZOFFSETFROM:+0100
TZOFFSETTO:+0200
TZNAME:CEST
DTSTART:20260329T010000
END:DAYLIGHT
BEGIN:STANDARD
TZOFFSETFROM:+0200
TZOFFSETTO:+0100
TZNAME:CET
DTSTART:20261025T010000
END:STANDARD
BEGIN:DAYLIGHT
TZOFFSETFROM:+0100
TZOFFSETTO:+0200
TZNAME:CEST
DTSTART:20270328T010000
END:DAYLIGHT
BEGIN:STANDARD
TZOFFSETFROM:+0200
TZOFFSETTO:+0100
TZNAME:CET
DTSTART:20271031T010000
END:STANDARD
END:VTIMEZONE
BEGIN:VEVENT
DTSTART;TZID=Europe/Stockholm:20260413T181500
DTEND;TZID=Europe/Stockholm:20260413T191500
DTSTAMP:20260421T185522
CREATED:20251202T211241Z
LAST-MODIFIED:20251202T211410Z
UID:10002586-1776104100-1776107700@www.swing.se
SUMMARY:Bugg Steg 1
DESCRIPTION:Ort: Växjö\nVar: Stora hallen\, Växjö\nNär: Måndagar 18.15-19.15\nStartdatum: 2026-01-19\nUppehåll: 2026-04-06\nSlutdatum: 2026-04-13\nAntal tillfällen: 12\nKursledare: Elin Cederbrant och André Gustafsson\nMedlemskap: Obligatoriskt\nBeskrivning: Har du aldrig dansat bugg tidigare så är detta kursen för dig!\nMålet med kursen är att lära sig grunderna och lite enkla figurer (ex. vänstersnurr & högersnurr). Vi övar till många olika typer av musik & med massor av dansglädje.\nIngen som helst dansvana krävs. \nOBS! Tänk på att detta är en nybörjarkurs. Har du dansat länge och känner att du behärskar grunderna är du istället välkommen på våra fortsättningskurser. \nVarmt välkomna till oss på Dansklubben Swing i Växjö!!
URL:https://www.swing.se/event/bugg-steg-1-7/2026-04-13/
LOCATION:Swinghallen\, Växjö\, Arabygatan 80\, Växjö\, 35246
CATEGORIES:Ordinarie kursverksamhet,Stora hallen
ORGANIZER;CN="Dansklubben Swing":MAILTO:info@swing.se
END:VEVENT
BEGIN:VEVENT
DTSTART;TZID=Europe/Stockholm:20260413T193000
DTEND;TZID=Europe/Stockholm:20260413T203000
DTSTAMP:20260421T185522
CREATED:20251202T211351Z
LAST-MODIFIED:20251202T211351Z
UID:10002598-1776108600-1776112200@www.swing.se
SUMMARY:Bugg Steg 2
DESCRIPTION:Ort: Växjö\nVar: Stora hallen\, Växjö\nNär: Måndagar 19.30-20.30\nStartdatum: 2026-01-19\nUppehåll: 2026-04-06\nSlutdatum: 2026-04-13\nAntal tillfällen: 12\nKursledare: Lowe Arnehov\, André Gustafsson\nMedlemskap: Obligatoriskt\nBeskrivning: Fortsättningskurs för dig som gått minst en nybörjarkurs. Vi repeterar grunderna och fortsätter sedan att bygga på med teknik och figurer för att utvecklas i dansen. Mycket dans till olika typer av musik utlovas i kombination med härlig dansglädje! \n\nOBS! Tänk på att detta är steg 2\, steget efter nybörjarkurs. Har du dansat länge och känner att du behärskar grunderna rekommenderar vi den ledarledda socialdansen i lilla hallen samma tid. \nVarmt välkomna till oss på Dansklubben Swing i Växjö!!
URL:https://www.swing.se/event/bugg-steg-2-7/2026-04-13/
LOCATION:Swinghallen\, Växjö\, Arabygatan 80\, Växjö\, 35246
CATEGORIES:Ordinarie kursverksamhet,Stora hallen
ORGANIZER;CN="Dansklubben Swing":MAILTO:info@swing.se
END:VEVENT
BEGIN:VEVENT
DTSTART;TZID=Europe/Stockholm:20260413T193000
DTEND;TZID=Europe/Stockholm:20260413T203000
DTSTAMP:20260421T185522
CREATED:20251202T211458Z
LAST-MODIFIED:20251202T211643Z
UID:10002610-1776108600-1776112200@www.swing.se
SUMMARY:Bugg Socialdans – ledarstyrd
DESCRIPTION:Ort: Växjö\nVar: Lilla hallen\, Växjö\nNär: Måndagar 19.30-20.30\nStartdatum: 2026-01-19\nUppehåll: 2026-04-06\nSlutdatum: 2026-04-13\nAntal tillfällen: 12\nKursledare: Kenneth Welin och Susanne Lindqvist\nMedlemskap: Obligatoriskt\nBeskrivning: Vi ses för en härlig timme tillsammans och värmer upp inför steg 3 med en ledarstyrd socialdans. Vi dansar till lite olika tempon och olika typer av musik. Vi använder oss av garage och framflytt. Självklart är du välkommen även om du inte planerar att fortsätta kvällen med steg 3. \nVarmt välkomna till oss på Dansklubben Swing i Växjö!!
URL:https://www.swing.se/event/bugg-socialdans-ledarstyrd-3/2026-04-13/
LOCATION:Swinghallen\, Växjö\, Arabygatan 80\, Växjö\, 35246
CATEGORIES:Lilla hallen,Ordinarie kursverksamhet
ORGANIZER;CN="Dansklubben Swing":MAILTO:info@swing.se
END:VEVENT
BEGIN:VEVENT
DTSTART;TZID=Europe/Stockholm:20260413T204000
DTEND;TZID=Europe/Stockholm:20260413T214000
DTSTAMP:20260421T185522
CREATED:20251202T211826Z
LAST-MODIFIED:20251202T211826Z
UID:10002622-1776112800-1776116400@www.swing.se
SUMMARY:Bugg Steg 3
DESCRIPTION:Ort: Växjö\nVar: Stora hallen\, Växjö\nNär: Måndagar 20.40-21.40\nStartdatum: 2026-01-19\nUppehåll: 2026-04-06\nSlutdatum: 2026-04-13\nAntal tillfällen: 12\nKursledare: Kenneth Welin och Susanne Lindqvist\nMedlemskap: Obligatoriskt\nBeskrivning: Välkomna till bugg steg 3. Denna kursen passar dig som har gått steg 2 minst en termin och känner dig väl bekväm med alla moment på steg 2. Du känner även att du väl behärskar tryck-och-drag förning\, puls\, grundbeteende och höger- och vänstervändningar i flera variationer. Vi kommer jobba mycket med att våga testa nya kombinationer och rörelser på egen hand. Olika stegvariationer och lite musikanpassning står också med på schemat. \n\nVarmt välkomna till oss på Dansklubben Swing i Växjö!!
URL:https://www.swing.se/event/bugg-steg-3-6/2026-04-13/
LOCATION:Swinghallen\, Växjö\, Arabygatan 80\, Växjö\, 35246
CATEGORIES:Ordinarie kursverksamhet,Stora hallen
ORGANIZER;CN="Dansklubben Swing":MAILTO:info@swing.se
END:VEVENT
BEGIN:VEVENT
DTSTART;TZID=Europe/Stockholm:20260414T170000
DTEND;TZID=Europe/Stockholm:20260414T190000
DTSTAMP:20260421T185522
CREATED:20251202T212014Z
LAST-MODIFIED:20251202T212119Z
UID:10002635-1776186000-1776193200@www.swing.se
SUMMARY:BRR Tävlingsträning
DESCRIPTION:Ort: Växjö\nVar: Lilla hallen\, Växjö\nNär: Tisdagar 17.00-19.00\nStartdatum: 2026-01-13\nUppehåll: \nSlutdatum: 2025-05-26\nAntal tillfällen: 20\nKursledare: –\nMedlemskap: Obligatoriskt\nBeskrivning: Träningstillfälle för dig som tävlar i någon av BRR-danserna. \nObservera att det är en annan avgift för den här träningen. Kontakta klubben för mer information om du är intresserad. \nVarmt välkomna till oss på Dansklubben Swing i Växjö!! \n(OBS! Anmälan sker endast genom samverkan med klubben info@swing.se)
URL:https://www.swing.se/event/brr-tavlingstraning-3/2026-04-14/
LOCATION:Swinghallen\, Växjö\, Arabygatan 80\, Växjö\, 35246
CATEGORIES:Lilla hallen,Tävlingsträning
ORGANIZER;CN="Dansklubben Swing":MAILTO:info@swing.se
END:VEVENT
BEGIN:VEVENT
DTSTART;TZID=Europe/Stockholm:20260414T180000
DTEND;TZID=Europe/Stockholm:20260414T190000
DTSTAMP:20260421T185522
CREATED:20251202T212101Z
LAST-MODIFIED:20251202T212249Z
UID:10002675-1776189600-1776193200@www.swing.se
SUMMARY:Tiodans tävlingsträning
DESCRIPTION:Ort: Växjö\nVar: Stora hallen / Lilla hallen\, Växjö\nNär: Tisdagar 18.00-19.00 / 19.00-20.00\nStartdatum: 2026-01-13\nUppehåll: \nSlutdatum: 2026-05-12\nAntal tillfällen: 18\nKursledare: –\nMedlemskap: Obligatoriskt\nBeskrivning: Träningstillfälle för dig som tävlar i tiodans. \nVarmt välkomna till oss på Dansklubben Swing i Växjö!! \n(OBS! Anmälan sker endast genom samverkan med klubben info@swing.se)
URL:https://www.swing.se/event/tiodans-tavlingstraning-7/2026-04-14/
LOCATION:Swinghallen\, Växjö\, Arabygatan 80\, Växjö\, 35246
CATEGORIES:Stora hallen,Tävlingsträning
ORGANIZER;CN="Dansklubben Swing":MAILTO:info@swing.se
END:VEVENT
BEGIN:VEVENT
DTSTART;TZID=Europe/Stockholm:20260414T190000
DTEND;TZID=Europe/Stockholm:20260414T200000
DTSTAMP:20260421T185522
CREATED:20251202T212208Z
LAST-MODIFIED:20251202T212208Z
UID:10002658-1776193200-1776196800@www.swing.se
SUMMARY:Tiodans tävlingsträning
DESCRIPTION:Ort: Växjö\nVar: Stora hallen / Lilla hallen\, Växjö\nNär: Tisdagar 18.00-19.00 / 19.00-20.00\nStartdatum: 2026-01-13\nUppehåll: \nSlutdatum: 2026-05-12\nAntal tillfällen: 18\nKursledare: –\nMedlemskap: Obligatoriskt\nBeskrivning: Träningstillfälle för dig som tävlar i tiodans. \nVarmt välkomna till oss på Dansklubben Swing i Växjö!! \n(OBS! Anmälan sker endast genom samverkan med klubben info@swing.se)
URL:https://www.swing.se/event/tiodans-tavlingstraning-8/2026-04-14/
LOCATION:Swinghallen\, Växjö\, Arabygatan 80\, Växjö\, 35246
CATEGORIES:Lilla hallen,Tävlingsträning
ORGANIZER;CN="Dansklubben Swing":MAILTO:info@swing.se
END:VEVENT
BEGIN:VEVENT
DTSTART;TZID=Europe/Stockholm:20260414T190000
DTEND;TZID=Europe/Stockholm:20260414T210000
DTSTAMP:20260421T185522
CREATED:20260407T172015Z
LAST-MODIFIED:20260407T172015Z
UID:10002913-1776193200-1776200400@www.swing.se
SUMMARY:West Coast Swing Socialdans
DESCRIPTION:Socialdans i West Coast Swing kl. 19.00-21.00.
URL:https://www.swing.se/event/west-coast-swing-socialdans/2026-04-14/
LOCATION:Swinghallen\, Växjö\, Arabygatan 80\, Växjö\, 35246
CATEGORIES:Övrigt,Stora hallen
ORGANIZER;CN="Dansklubben Swing":MAILTO:info@swing.se
END:VEVENT
BEGIN:VEVENT
DTSTART;TZID=Europe/Stockholm:20260415T183000
DTEND;TZID=Europe/Stockholm:20260415T193000
DTSTAMP:20260421T185522
CREATED:20251202T212640Z
LAST-MODIFIED:20251202T212640Z
UID:10002741-1776277800-1776281400@www.swing.se
SUMMARY:Boogie Woogie Tävlingsträning
DESCRIPTION:Ort: Växjö\nVar: Lilla hallen\, Växjö\nNär: Onsdagar 18.30-19.30\nStartdatum: 2026-01-14\nUppehåll: \nSlutdatum: 2026-05-27\nAntal tillfällen: 20\nKursledare: Joel Lundberg\nMedlemskap: Obligatoriskt\nBeskrivning: Träningstillfälle för dig som tävlar i Boogie Woogie. \nObservera att det är en annan avgift för den här träningen. Kontakta klubben för mer information om du är intresserad. \nVarmt välkomna till oss på Dansklubben Swing i Växjö!! \n(OBS! Anmälan sker endast genom samverkan med klubben info@swing.se)
URL:https://www.swing.se/event/boogie-woogie-tavlingstraning-6/2026-04-15/
LOCATION:Swinghallen\, Växjö\, Arabygatan 80\, Växjö\, 35246
CATEGORIES:Lilla hallen,Tävlingsträning
ORGANIZER;CN="Dansklubben Swing":MAILTO:info@swing.se
END:VEVENT
BEGIN:VEVENT
DTSTART;TZID=Europe/Stockholm:20260415T193000
DTEND;TZID=Europe/Stockholm:20260415T210000
DTSTAMP:20260421T185522
CREATED:20251202T212714Z
LAST-MODIFIED:20251202T212714Z
UID:10002761-1776281400-1776286800@www.swing.se
SUMMARY:Bugg Tävlingsträning
DESCRIPTION:Ort: Växjö\nVar: Lilla hallen\, Växjö\nNär: Onsdagar 19.30-21.00\nStartdatum: 2026-01-14\nUppehåll: \nSlutdatum: 2026-05-27\nAntal tillfällen: 20\nKursledare: Joel Lundberg\nMedlemskap: Obligatoriskt\nBeskrivning: Träningstillfälle för dig som tävlar i bugg. \nObservera att det är en annan avgift för den här träningen. Kontakta klubben för mer information om du är intresserad. \nVarmt välkomna till oss på Dansklubben Swing i Växjö!! \n(OBS! Anmälan sker endast genom samverkan med klubben info@swing.se)
URL:https://www.swing.se/event/bugg-tavlingstraning-6/2026-04-15/
LOCATION:Swinghallen\, Växjö\, Arabygatan 80\, Växjö\, 35246
CATEGORIES:Lilla hallen,Tävlingsträning
ORGANIZER;CN="Dansklubben Swing":MAILTO:info@swing.se
END:VEVENT
BEGIN:VEVENT
DTSTART;TZID=Europe/Stockholm:20260416T133000
DTEND;TZID=Europe/Stockholm:20260416T160000
DTSTAMP:20260421T185522
CREATED:20251202T212803Z
LAST-MODIFIED:20251202T212803Z
UID:10002779-1776346200-1776355200@www.swing.se
SUMMARY:Gott & Blandat För Dig Som Är Senior
DESCRIPTION:Ort: Växjö\nVar: Stora hallen\, Växjö\nNär: Torsdagar 13.30-16.00\nStartdatum: 2026-01-22\nUppehåll: 2026-04-02\nSlutdatum: 2026-04-16\nAntal tillfällen: 12\nKursledare: Konny Holmgren och Ellinor Lydig\nMedlemskap: Obligatoriskt\nBeskrivning: Gott & Blandat är kursen för dig som gillar socialt “Gott” umgänge\, att fika “Gott” och att må “Gott”.\nDu tycker också om att “Blanda” olika dansstilar och att “Blanda” dans och fika! \nVi kommer under några timmar att omväxlande köra kurs\, fika och dansa. Kursen fokuserar på nybörjar- bugg och foxtrot men vi kommer även prova på andra danser som går bra att dansa socialt ute på dansbanorna. \nDå vi behöver veta hur mycket “gofika” vi måste fixa så är det separat anmälan till den här kursen. \nKursavgiften för kursen är endast 399 kronor om du har fyllt 65.\nDu som har löst den ordinarie träningsavgiften betalar du inget extra för kursen men vi behöver även din anmälan för fikans skull. \nVi hoppas att detta ska bli en gemensam trevlig eftermiddag för er som har åldern inne. \nVarmt välkomna till oss på Dansklubben Swing i Växjö!!
URL:https://www.swing.se/event/gott-blandat-for-dig-som-ar-senior-5/2026-04-16/
LOCATION:Swinghallen\, Växjö\, Arabygatan 80\, Växjö\, 35246
CATEGORIES:Ordinarie kursverksamhet,Stora hallen
ORGANIZER;CN="Dansklubben Swing":MAILTO:info@swing.se
END:VEVENT
BEGIN:VEVENT
DTSTART;TZID=Europe/Stockholm:20260416T180000
DTEND;TZID=Europe/Stockholm:20260416T190000
DTSTAMP:20260421T185522
CREATED:20260111T144125Z
LAST-MODIFIED:20260111T144125Z
UID:10002905-1776362400-1776366000@www.swing.se
SUMMARY:Lindy hop Steg 2
DESCRIPTION:Ort: Växjö\nVar: Lilla hallen\, Växjö\nNär: Torsdagar 18.00-19.00\nStartdatum: 2026-01-22\nUppehåll: 2026-04-02\nSlutdatum: 2026-04-16\nAntal tillfällen: 12\nKursledare: Kenneth Welin och Csilla Holmström\nMedlemskap: Obligatoriskt\nBeskrivning: En kurs för dig som dansat Lindy hop tidigare och nu vill utmana dig själv med nya roliga steg och turer! Spelar ingen roll hur länge du dansat\, ett år eller ett decennium. \nEfter kursen finns möjlighet till socialdans i 30 min fram till Steg 1 börjar. \nVarmt välkomna till oss på Dansklubben Swing i Växjö!!
URL:https://www.swing.se/event/lindy-hop-steg-2/2026-04-16/
LOCATION:Swinghallen\, Växjö\, Arabygatan 80\, Växjö\, 35246
CATEGORIES:Lilla hallen,Ordinarie kursverksamhet
ORGANIZER;CN="Dansklubben Swing":MAILTO:info@swing.se
END:VEVENT
BEGIN:VEVENT
DTSTART;TZID=Europe/Stockholm:20260416T183000
DTEND;TZID=Europe/Stockholm:20260416T193000
DTSTAMP:20260421T185522
CREATED:20251202T212856Z
LAST-MODIFIED:20251202T212856Z
UID:10002791-1776364200-1776367800@www.swing.se
SUMMARY:Tiodans Steg 1
DESCRIPTION:Modern vals\, Quickstep\, Tango\, Slowfox \nOrt: Växjö\nVar: Stora hallen\, Växjö\nNär: Torsdagar 18.30-19.30\nStartdatum: 2026-01-22\nUppehåll: 2026-04-02\nSlutdatum: 2026-04-16\nAntal tillfällen: 12\nKursledare: Konny Holmgren och Ellinor Lydig\nMedlemskap: Obligatoriskt\nBeskrivning: Har du aldrig dansat någon av dessa danser tidigare så är detta kursen för dig! Målet med kursen är att lära sig grunderna och lite enkla figurer. Allt detta gör vi naturligtvis med massor av dansglädje!! \nVarmt välkomna till oss på Dansklubben Swing i Växjö!!
URL:https://www.swing.se/event/tiodans-steg-1-5/2026-04-16/
LOCATION:Swinghallen\, Växjö\, Arabygatan 80\, Växjö\, 35246
CATEGORIES:Ordinarie kursverksamhet,Stora hallen
ORGANIZER;CN="Dansklubben Swing":MAILTO:info@swing.se
END:VEVENT
BEGIN:VEVENT
DTSTART;TZID=Europe/Stockholm:20260416T193000
DTEND;TZID=Europe/Stockholm:20260416T203000
DTSTAMP:20260421T185522
CREATED:20251202T212933Z
LAST-MODIFIED:20251202T212933Z
UID:10002803-1776367800-1776371400@www.swing.se
SUMMARY:Tiodans Steg 2
DESCRIPTION:Samba\, Jive\, Modern vals\, Quickstep\n\nOrt: Växjö\nVar: Stora hallen\, Växjö\nNär: Torsdagar 19.30-20.30\nStartdatum: 2026-01-22\nUppehåll: 2026-04-02\nSlutdatum: 2026-04-16\nAntal tillfällen: 12\nKursledare: Eva Walden och Tomas Petersson\nMedlemskap: Obligatoriskt\nBeskrivning: I denna kursen bygger vi på med fler turer och teknik. Har du gått Steg 1 i Samba och Jive är det inga problem att börja med de 6 första veckorna av kursen. Kommer du gå Steg 1 i Modern vals och Quickstep så är det inga problem att vara med de 6 sista veckorna av kursen. Har du gått tiodanskurserna tidigare så är du naturligtvis hjärtligt välkommen. \nVarmt välkomna till oss på Dansklubben Swing i Växjö!!
URL:https://www.swing.se/event/tiodans-steg-2-5/2026-04-16/
LOCATION:Swinghallen\, Växjö\, Arabygatan 80\, Växjö\, 35246
CATEGORIES:Ordinarie kursverksamhet,Stora hallen
ORGANIZER;CN="Dansklubben Swing":MAILTO:info@swing.se
END:VEVENT
BEGIN:VEVENT
DTSTART;TZID=Europe/Stockholm:20260416T193000
DTEND;TZID=Europe/Stockholm:20260416T203000
DTSTAMP:20260421T185522
CREATED:20251202T213124Z
LAST-MODIFIED:20260111T143948Z
UID:10002893-1776367800-1776371400@www.swing.se
SUMMARY:Lindy hop Steg 1
DESCRIPTION:Ort: Växjö\nVar: Lilla hallen\, Växjö\nNär: Torsdagar 19.30-20.30\nStartdatum: 2026-01-22\nUppehåll: 2026-04-02\nSlutdatum: 2026-04-16\nAntal tillfällen: 12\nKursledare: Cecilia Andersson och Sami Tobias Nyckling\nMedlemskap: Obligatoriskt\nBeskrivning: Sugen på att lära dig swing? Detta är kursen för dig som aldrig dansat Lindy hop tidigare eller för dig som vill repetera grunderna. \nVarmt välkomna till oss på Dansklubben Swing i Växjö!!
URL:https://www.swing.se/event/lindy-hop-steg-1-2/2026-04-16/
LOCATION:Swinghallen\, Växjö\, Arabygatan 80\, Växjö\, 35246
CATEGORIES:Lilla hallen,Ordinarie kursverksamhet
ORGANIZER;CN="Dansklubben Swing":MAILTO:info@swing.se
END:VEVENT
BEGIN:VEVENT
DTSTART;TZID=Europe/Stockholm:20260416T203000
DTEND;TZID=Europe/Stockholm:20260416T212000
DTSTAMP:20260421T185522
CREATED:20251202T213015Z
LAST-MODIFIED:20251202T213015Z
UID:10002815-1776371400-1776374400@www.swing.se
SUMMARY:Tiodans Steg 3
DESCRIPTION:Cha Cha\, Rumba\, Samba\, Jive\n\nOrt: Växjö\nVar: Stora hallen\, Växjö\nNär: Torsdagar 20.30-21.20\nStartdatum: 2026-01-22\nUppehåll: 2026-04-02\nSlutdatum: 2026-04-16\nAntal tillfällen: 12\nKursledare: Eva Walden och Tomas Petersson\nMedlemskap: Obligatoriskt\nBeskrivning: I denna kursen bygger vi på med fler turer och teknik. Har du gått Steg 2 i Cha Cha och Rumba är det inga problem att börja med de 6 första veckorna av kursen. Kommer du gå Steg 2 i Samba och Jive så är det inga problem att vara med de 6 sista veckorna av kursen. Har du gått tiodanskurserna tidigare så är du naturligtvis hjärtligt välkommen. \nVarmt välkomna till oss på Dansklubben Swing i Växjö!!
URL:https://www.swing.se/event/tiodans-steg-3-5/2026-04-16/
LOCATION:Swinghallen\, Växjö\, Arabygatan 80\, Växjö\, 35246
CATEGORIES:Ordinarie kursverksamhet,Stora hallen
ORGANIZER;CN="Dansklubben Swing":MAILTO:info@swing.se
END:VEVENT
BEGIN:VEVENT
DTSTART;TZID=Europe/Stockholm:20260418T100000
DTEND;TZID=Europe/Stockholm:20260418T160000
DTSTAMP:20260421T185522
CREATED:20260321T161925Z
LAST-MODIFIED:20260321T161925Z
UID:10002912-1776506400-1776528000@www.swing.se
SUMMARY:Intensivkurs i Wienervals!!
DESCRIPTION:Lördagen den 18/4 klockan 10.00 till 16.00 anordnar vi en intensivkurs i Wienervals. Vi kommer börja från grunden vilket betyder att inga förkunskaper eller dansvana krävs. \nPris: 150 kronor/person. (0 kronor/person för medlemmar i DK Swing som betalt träningsavgift för Vårterminen 2026). \nParvis anmälan har förtur men det går också bra att anmäla sig enskilt så tar vi in till jämna par efterhand.\nNi kommer att få en bekräftelse på om ni blivit antagna. \nAnmälan sker via kursprogrammet. \nVarmt välkomna till oss på Dansklubben Swing i Växjö!!
URL:https://www.swing.se/event/intensivkurs-i-wienervals/
LOCATION:Swinghallen\, Växjö\, Arabygatan 80\, Växjö\, 35246
CATEGORIES:Helgkurser,Stora hallen
ORGANIZER;CN="Dansklubben Swing":MAILTO:info@swing.se
END:VEVENT
BEGIN:VEVENT
DTSTART;TZID=Europe/Stockholm:20260419T163000
DTEND;TZID=Europe/Stockholm:20260419T203000
DTSTAMP:20260421T185522
CREATED:20251202T214245Z
LAST-MODIFIED:20251202T214245Z
UID:10002860-1776616200-1776630600@www.swing.se
SUMMARY:Orkesterdans – Streaks
DESCRIPTION:Kom och dansa till Streaks 16.30 – 20.30 i Swinghallen. \nDansen är öppen för alla. \nVarmt välkomna till oss på Dansklubben Swing i Växjö!!
URL:https://www.swing.se/event/orkesterdans-streaks/
LOCATION:Swinghallen\, Växjö\, Arabygatan 80\, Växjö\, 35246
CATEGORIES:Lilla hallen,Orkesterdanser,Stora hallen
ORGANIZER;CN="Dansklubben Swing":MAILTO:info@swing.se
END:VEVENT
END:VCALENDAR