BEGIN:VCALENDAR
VERSION:2.0
PRODID:-//Swing - ECPv6.15.17.1//NONSGML v1.0//EN
CALSCALE:GREGORIAN
METHOD:PUBLISH
X-ORIGINAL-URL:https://www.swing.se
X-WR-CALDESC:Händelser för Swing
REFRESH-INTERVAL;VALUE=DURATION:PT1H
X-Robots-Tag:noindex
X-PUBLISHED-TTL:PT1H
BEGIN:VTIMEZONE
TZID:Europe/Stockholm
BEGIN:DAYLIGHT
TZOFFSETFROM:+0100
TZOFFSETTO:+0200
TZNAME:CEST
DTSTART:20240331T010000
END:DAYLIGHT
BEGIN:STANDARD
TZOFFSETFROM:+0200
TZOFFSETTO:+0100
TZNAME:CET
DTSTART:20241027T010000
END:STANDARD
BEGIN:DAYLIGHT
TZOFFSETFROM:+0100
TZOFFSETTO:+0200
TZNAME:CEST
DTSTART:20250330T010000
END:DAYLIGHT
BEGIN:STANDARD
TZOFFSETFROM:+0200
TZOFFSETTO:+0100
TZNAME:CET
DTSTART:20251026T010000
END:STANDARD
BEGIN:DAYLIGHT
TZOFFSETFROM:+0100
TZOFFSETTO:+0200
TZNAME:CEST
DTSTART:20260329T010000
END:DAYLIGHT
BEGIN:STANDARD
TZOFFSETFROM:+0200
TZOFFSETTO:+0100
TZNAME:CET
DTSTART:20261025T010000
END:STANDARD
END:VTIMEZONE
BEGIN:VEVENT
DTSTART;TZID=Europe/Stockholm:20251202T170000
DTEND;TZID=Europe/Stockholm:20251202T190000
DTSTAMP:20260424T092553
CREATED:20250906T123515Z
LAST-MODIFIED:20250906T123733Z
UID:10002325-1764694800-1764702000@www.swing.se
SUMMARY:BRR Tävlingsträning
DESCRIPTION:Ort: Växjö\nVar: Lilla hallen\, Växjö\nNär: Tisdagar 17.00-19.00\nStartdatum: 2025-08-27\nUppehåll: \nSlutdatum: 2025-12-17\nAntal tillfällen: 17\nKursledare: –\nMedlemskap: Obligatoriskt\nBeskrivning: Träningstillfälle för dig som tävlar i någon av BRR-danserna. \nObservera att det är en annan avgift för den här träningen. Kontakta klubben för mer information om du är intresserad. \nVarmt välkomna till oss på Dansklubben Swing i Växjö!! \n(OBS! Anmälan sker endast genom samverkan med klubben info@swing.se)
URL:https://www.swing.se/event/brr-tavlingstraning-2-2/2025-12-02/
LOCATION:Swinghallen\, Växjö\, Arabygatan 80\, Växjö\, 35246
CATEGORIES:Lilla hallen,Tävlingsträning
ORGANIZER;CN="Dansklubben Swing":MAILTO:info@swing.se
END:VEVENT
BEGIN:VEVENT
DTSTART;TZID=Europe/Stockholm:20251202T180000
DTEND;TZID=Europe/Stockholm:20251202T190000
DTSTAMP:20260424T092553
CREATED:20250906T123249Z
LAST-MODIFIED:20250906T123249Z
UID:10002310-1764698400-1764702000@www.swing.se
SUMMARY:Tiodans tävlingsträning
DESCRIPTION:Ort: Växjö\nVar: Stora hallen\, Växjö\nNär: Tisdagar 18.00-19.00\nStartdatum: 2025-08-26\nUppehåll: \nSlutdatum: 2025-12-09\nAntal tillfällen: 16\nKursledare: –\nMedlemskap: Obligatoriskt\nBeskrivning: Träningstillfälle för dig som tävlar i tiodans. \nVarmt välkomna till oss på Dansklubben Swing i Växjö!! \n(OBS! Anmälan sker endast genom samverkan med klubben info@swing.se)
URL:https://www.swing.se/event/tiodans-tavlingstraning-5/2025-12-02/
LOCATION:Swinghallen\, Växjö\, Arabygatan 80\, Växjö\, 35246
CATEGORIES:Stora hallen,Tävlingsträning
ORGANIZER;CN="Dansklubben Swing":MAILTO:info@swing.se
END:VEVENT
BEGIN:VEVENT
DTSTART;TZID=Europe/Stockholm:20251202T190000
DTEND;TZID=Europe/Stockholm:20251202T200000
DTSTAMP:20260424T092553
CREATED:20250906T124252Z
LAST-MODIFIED:20250906T124252Z
UID:10002342-1764702000-1764705600@www.swing.se
SUMMARY:Tiodans tävlingsträning
DESCRIPTION:Ort: Växjö\nVar: Lilla hallen\, Växjö\nNär: Tisdagar 19.00-20.00\nStartdatum: 2025-08-26\nUppehåll: \nSlutdatum: 2025-12-09\nAntal tillfällen: 16\nKursledare: –\nMedlemskap: Obligatoriskt\nBeskrivning: Träningstillfälle för dig som tävlar i tiodans. \nVarmt välkomna till oss på Dansklubben Swing i Växjö!! \n(OBS! Anmälan sker endast genom samverkan med klubben info@swing.se)
URL:https://www.swing.se/event/tiodans-tavlingstraning-6/2025-12-02/
LOCATION:Swinghallen\, Växjö\, Arabygatan 80\, Växjö\, 35246
CATEGORIES:Lilla hallen,Tävlingsträning
ORGANIZER;CN="Dansklubben Swing":MAILTO:info@swing.se
END:VEVENT
BEGIN:VEVENT
DTSTART;TZID=Europe/Stockholm:20251203T183000
DTEND;TZID=Europe/Stockholm:20251203T193000
DTSTAMP:20260424T092553
CREATED:20250906T124910Z
LAST-MODIFIED:20250906T124910Z
UID:10002418-1764786600-1764790200@www.swing.se
SUMMARY:Boogie Woogie Tävlingsträning
DESCRIPTION:Ort: Växjö\nVar: Lilla hallen\, Växjö\nNär: Onsdagar 18.30-19.30\nStartdatum: 2025-08-27\nUppehåll: \nSlutdatum: 2025-12-17\nAntal tillfällen: 17\nKursledare: Joel Lundberg\nMedlemskap: Obligatoriskt\nBeskrivning: Träningstillfälle för dig som tävlar i Boogie Woogie. \nObservera att det är en annan avgift för den här träningen. Kontakta klubben för mer information om du är intresserad. \nVarmt välkomna till oss på Dansklubben Swing i Växjö!! \n(OBS! Anmälan sker endast genom samverkan med klubben info@swing.se)
URL:https://www.swing.se/event/boogie-woogie-tavlingstraning-5/2025-12-03/
LOCATION:Swinghallen\, Växjö\, Arabygatan 80\, Växjö\, 35246
CATEGORIES:Lilla hallen,Tävlingsträning
ORGANIZER;CN="Dansklubben Swing":MAILTO:info@swing.se
END:VEVENT
BEGIN:VEVENT
DTSTART;TZID=Europe/Stockholm:20251203T193000
DTEND;TZID=Europe/Stockholm:20251203T210000
DTSTAMP:20260424T092553
CREATED:20250906T125043Z
LAST-MODIFIED:20250906T125043Z
UID:10002435-1764790200-1764795600@www.swing.se
SUMMARY:Bugg Tävlingsträning
DESCRIPTION:Ort: Växjö\nVar: Lilla hallen\, Växjö\nNär: Onsdagar 19.30-21.00\nStartdatum: 2025-08-27\nUppehåll: \nSlutdatum: 2025-12-17\nAntal tillfällen: 17\nKursledare: Joel Lundberg\nMedlemskap: Obligatoriskt\nBeskrivning: Träningstillfälle för dig som tävlar i bugg. \nObservera att det är en annan avgift för den här träningen. Kontakta klubben för mer information om du är intresserad. \nVarmt välkomna till oss på Dansklubben Swing i Växjö!! \n(OBS! Anmälan sker endast genom samverkan med klubben info@swing.se)
URL:https://www.swing.se/event/bugg-tavlingstraning-5/2025-12-03/
LOCATION:Swinghallen\, Växjö\, Arabygatan 80\, Växjö\, 35246
CATEGORIES:Lilla hallen,Tävlingsträning
ORGANIZER;CN="Dansklubben Swing":MAILTO:info@swing.se
END:VEVENT
BEGIN:VEVENT
DTSTART;TZID=Europe/Stockholm:20251204T190000
DTEND;TZID=Europe/Stockholm:20251204T220000
DTSTAMP:20260424T092553
CREATED:20250906T133807Z
LAST-MODIFIED:20250906T133807Z
UID:10002569-1764874800-1764885600@www.swing.se
SUMMARY:Kursavslutning
DESCRIPTION:Torsdagen den 4:e december kl 19.00 till 22.00 bjuder vi alla som deltagit på kurs under höstterminen på dans och fika.
URL:https://www.swing.se/event/kursavslutning-6/
LOCATION:Swinghallen\, Växjö\, Arabygatan 80\, Växjö\, 35246
CATEGORIES:Övrigt,Stora hallen
ORGANIZER;CN="Dansklubben Swing":MAILTO:info@swing.se
END:VEVENT
BEGIN:VEVENT
DTSTART;TZID=Europe/Stockholm:20251207T161500
DTEND;TZID=Europe/Stockholm:20251207T171500
DTSTAMP:20260424T092553
CREATED:20250906T131957Z
LAST-MODIFIED:20250906T131957Z
UID:10002550-1765124100-1765127700@www.swing.se
SUMMARY:Tiodans för tävlingsdansare
DESCRIPTION:Ort: Växjö\nVar: Stora hallen\, Växjö\nNär: Söndagar 16:15-17:15\nStartdatum: 2025-08-31\nUppehåll: 2025-09-07\, 2025-09-28\, 2025-11-09\, 2025-11-23 på grund av orkesterdanser.\nSlutdatum: 2025-12-07\nAntal tillfällen: 12\nKursledare: Eva Walden och Tomas Petersson\nMedlemskap: Obligatoriskt\nBeskrivning: Träningstillfälle för dig som tävlar i tiodans i klasserna E\, D\, C.\nVarmt välkomna till oss på Dansklubben Swing i Växjö!! \n(OBS! Anmälan sker genom samverkan med klubben info@swing.se)
URL:https://www.swing.se/event/tiodans-for-tavlingsdansare-4/2025-12-07/
LOCATION:Swinghallen\, Växjö\, Arabygatan 80\, Växjö\, 35246
CATEGORIES:Stora hallen,Tävlingsträning
ORGANIZER;CN="Dansklubben Swing":MAILTO:info@swing.se
END:VEVENT
END:VCALENDAR