BEGIN:VCALENDAR
VERSION:2.0
PRODID:-//Swing - ECPv6.15.17.1//NONSGML v1.0//EN
CALSCALE:GREGORIAN
METHOD:PUBLISH
X-WR-CALNAME:Swing
X-ORIGINAL-URL:https://www.swing.se
X-WR-CALDESC:Händelser för Swing
REFRESH-INTERVAL;VALUE=DURATION:PT1H
X-Robots-Tag:noindex
X-PUBLISHED-TTL:PT1H
BEGIN:VTIMEZONE
TZID:Europe/Stockholm
BEGIN:DAYLIGHT
TZOFFSETFROM:+0100
TZOFFSETTO:+0200
TZNAME:CEST
DTSTART:20240331T010000
END:DAYLIGHT
BEGIN:STANDARD
TZOFFSETFROM:+0200
TZOFFSETTO:+0100
TZNAME:CET
DTSTART:20241027T010000
END:STANDARD
BEGIN:DAYLIGHT
TZOFFSETFROM:+0100
TZOFFSETTO:+0200
TZNAME:CEST
DTSTART:20250330T010000
END:DAYLIGHT
BEGIN:STANDARD
TZOFFSETFROM:+0200
TZOFFSETTO:+0100
TZNAME:CET
DTSTART:20251026T010000
END:STANDARD
BEGIN:DAYLIGHT
TZOFFSETFROM:+0100
TZOFFSETTO:+0200
TZNAME:CEST
DTSTART:20260329T010000
END:DAYLIGHT
BEGIN:STANDARD
TZOFFSETFROM:+0200
TZOFFSETTO:+0100
TZNAME:CET
DTSTART:20261025T010000
END:STANDARD
END:VTIMEZONE
BEGIN:VEVENT
DTSTART;TZID=Europe/Stockholm:20250407T183000
DTEND;TZID=Europe/Stockholm:20250407T220000
DTSTAMP:20260426T031414
CREATED:20250331T172408Z
LAST-MODIFIED:20250331T172408Z
UID:10002230-1744050600-1744063200@www.swing.se
SUMMARY:Kursavslutning
DESCRIPTION:Tiden går så snabbt att vi redan är inne på sista kursveckan\, vilket betyder att det snart är dags för kursavslutning. \nMåndagen den 7:e april kl 18.30 till 22.00 bjuder vi alla som deltagit på kurs under vårterminen på dans och fika.\nVi hoppas att så många som möjligt vill komma och att vi ses där.\n\nTycker ni att det än är lite tidigt att ta sommaruppehåll finns det flera möjligheter till mer dans efter terminen är slut.\n10/4\, 17/4 och 24/4 anordnar vi en intensivkurs i Wienervals som fortfarande går att anmäla sig till. Anmälan hittar du i vårt kursprogram.\n9/4\, 16/4 och 23/4 anordnar vi socialdans med fox för alla som vill delta helt gratis.\n12/4 kl 19.00 till 22.00 har vi Balroom band på besök i swinghallen. De spelar musik för bland annat tiodans och lindy hop.\n\nHål även ögonen öppna för Gemladanserna som snart börjar.\n\nVarmt välkomna till oss på Dansklubben Swing i Växjö!!
URL:https://www.swing.se/event/kursavslutning-5/
LOCATION:Swinghallen\, Växjö\, Arabygatan 80\, Växjö\, 35246
CATEGORIES:Övrigt,Stora hallen
ORGANIZER;CN="Dansklubben Swing":MAILTO:info@swing.se
END:VEVENT
BEGIN:VEVENT
DTSTART;TZID=Europe/Stockholm:20250409T183000
DTEND;TZID=Europe/Stockholm:20250409T193000
DTSTAMP:20260426T031414
CREATED:20241214T151556Z
LAST-MODIFIED:20241214T152433Z
UID:10002088-1744223400-1744227000@www.swing.se
SUMMARY:Boogie Woogie Tävlingsträning
DESCRIPTION:Träningstillfälle för dig som tävlar i Boogie Woogie. \nObservera att det är en annan avgift för den här träningen. Kontakta klubben för mer information om du är intresserad. \nVarmt välkomna till oss på Dansklubben Swing i Växjö!! \n(OBS! Anmälan sker endast genom samverkan med klubben info@swing.se)
URL:https://www.swing.se/event/boogie-woogie-tavlingstraning-4/2025-04-09/
LOCATION:Swinghallen\, Växjö\, Arabygatan 80\, Växjö\, 35246
CATEGORIES:Lilla hallen,Tävlingsträning
ORGANIZER;CN="Dansklubben Swing":MAILTO:info@swing.se
END:VEVENT
BEGIN:VEVENT
DTSTART;TZID=Europe/Stockholm:20250409T193000
DTEND;TZID=Europe/Stockholm:20250409T210000
DTSTAMP:20260426T031414
CREATED:20241214T151355Z
LAST-MODIFIED:20241214T151355Z
UID:10002068-1744227000-1744232400@www.swing.se
SUMMARY:Bugg Tävlingsträning
DESCRIPTION:Träningstillfälle för dig som tävlar i bugg. \nObservera att det är en annan avgift för den här träningen. Kontakta klubben för mer information om du är intresserad. \nVarmt välkomna till oss på Dansklubben Swing i Växjö!! \n(OBS! Anmälan sker endast genom samverkan med klubben info@swing.se)
URL:https://www.swing.se/event/bugg-tavlingstraning-4/2025-04-09/
LOCATION:Swinghallen\, Växjö\, Arabygatan 80\, Växjö\, 35246
CATEGORIES:Lilla hallen,Tävlingsträning
ORGANIZER;CN="Dansklubben Swing":MAILTO:info@swing.se
END:VEVENT
BEGIN:VEVENT
DTSTART;TZID=Europe/Stockholm:20250409T193000
DTEND;TZID=Europe/Stockholm:20250409T221500
DTSTAMP:20260426T031414
CREATED:20250330T131055Z
LAST-MODIFIED:20250330T131055Z
UID:10002225-1744227000-1744236900@www.swing.se
SUMMARY:Socialdans Fox!
DESCRIPTION:Snart är vårsolen här och det firar vi med att köra Fox socialdans onsdag 9 april\, 16 april och 23 april klockan 19:30 till 22:15 i Swinghallen. Detta är gratis och alla är välkomna! \nVi kommer inte sälja någon fika så ta med vad ni behöver. \nVarmt välkomna! Kram Foxteamet.
URL:https://www.swing.se/event/socialdans-fox/2025-04-09/
LOCATION:Swinghallen\, Växjö\, Arabygatan 80\, Växjö\, 35246
CATEGORIES:Övrigt,Stora hallen
ORGANIZER;CN="Dansklubben Swing":MAILTO:info@swing.se
END:VEVENT
BEGIN:VEVENT
DTSTART;TZID=Europe/Stockholm:20250410T183000
DTEND;TZID=Europe/Stockholm:20250410T203000
DTSTAMP:20260426T031414
CREATED:20250306T172415Z
LAST-MODIFIED:20250306T172415Z
UID:10002223-1744309800-1744317000@www.swing.se
SUMMARY:Wienervals
DESCRIPTION:Intensivkurs i Wienervals från grunden. Inga krav på förkunskaper eller dansvana. \nFör anmälan se kursprogrammet.
URL:https://www.swing.se/event/wienervals-3/2025-04-10/
LOCATION:Swinghallen\, Växjö\, Arabygatan 80\, Växjö\, 35246
CATEGORIES:Ordinarie kursverksamhet,Stora hallen
ORGANIZER;CN="Dansklubben Swing":MAILTO:info@swing.se
END:VEVENT
BEGIN:VEVENT
DTSTART;TZID=Europe/Stockholm:20250412T190000
DTEND;TZID=Europe/Stockholm:20250412T220000
DTSTAMP:20260426T031414
CREATED:20250224T182539Z
LAST-MODIFIED:20250301T115400Z
UID:10002219-1744484400-1744495200@www.swing.se
SUMMARY:Orkesterdans – Ballroom band
DESCRIPTION:Kom och dansa till Ballroom band  19.00 – 22.00 i Swinghallen. \nDansen är öppen för alla. Varmt välkomna till oss på Dansklubben Swing i Växjö!!
URL:https://www.swing.se/event/orkesterdans-ballroom-band/
LOCATION:Swinghallen\, Växjö\, Arabygatan 80\, Växjö\, 35246
CATEGORIES:Orkesterdanser,Stora hallen
ORGANIZER;CN="Dansklubben Swing":MAILTO:info@swing.se
END:VEVENT
BEGIN:VEVENT
DTSTART;TZID=Europe/Stockholm:20250413T100000
DTEND;TZID=Europe/Stockholm:20250413T104500
DTSTAMP:20260426T031414
CREATED:20241217T184422Z
LAST-MODIFIED:20241217T184717Z
UID:10002200-1744538400-1744541100@www.swing.se
SUMMARY:Amerikansk Linedance
DESCRIPTION:Autentiska danser som dansas på fester och uteställen i delar av USA. Vi lär oss en ny dans vid varje kurstillfälle. Förkunskaper krävs ej. \nVarmt välkomna till oss på Dansklubben Swing i Växjö!! \nSe vårt kursprogram för anmälan.
URL:https://www.swing.se/event/amerikansk-linedance/2025-04-13/
LOCATION:Swinghallen\, Växjö\, Arabygatan 80\, Växjö\, 35246
CATEGORIES:Ordinarie kursverksamhet,Stora hallen
ORGANIZER;CN="Dansklubben Swing":MAILTO:info@swing.se
END:VEVENT
END:VCALENDAR