BEGIN:VCALENDAR
VERSION:2.0
PRODID:-//Swing - ECPv6.15.17.1//NONSGML v1.0//EN
CALSCALE:GREGORIAN
METHOD:PUBLISH
X-WR-CALNAME:Swing
X-ORIGINAL-URL:https://www.swing.se
X-WR-CALDESC:Händelser för Swing
REFRESH-INTERVAL;VALUE=DURATION:PT1H
X-Robots-Tag:noindex
X-PUBLISHED-TTL:PT1H
BEGIN:VTIMEZONE
TZID:Europe/Stockholm
BEGIN:DAYLIGHT
TZOFFSETFROM:+0100
TZOFFSETTO:+0200
TZNAME:CEST
DTSTART:20250330T010000
END:DAYLIGHT
BEGIN:STANDARD
TZOFFSETFROM:+0200
TZOFFSETTO:+0100
TZNAME:CET
DTSTART:20251026T010000
END:STANDARD
BEGIN:DAYLIGHT
TZOFFSETFROM:+0100
TZOFFSETTO:+0200
TZNAME:CEST
DTSTART:20260329T010000
END:DAYLIGHT
BEGIN:STANDARD
TZOFFSETFROM:+0200
TZOFFSETTO:+0100
TZNAME:CET
DTSTART:20261025T010000
END:STANDARD
BEGIN:DAYLIGHT
TZOFFSETFROM:+0100
TZOFFSETTO:+0200
TZNAME:CEST
DTSTART:20270328T010000
END:DAYLIGHT
BEGIN:STANDARD
TZOFFSETFROM:+0200
TZOFFSETTO:+0100
TZNAME:CET
DTSTART:20271031T010000
END:STANDARD
END:VTIMEZONE
BEGIN:VEVENT
DTSTART;TZID=Europe/Stockholm:20260422T193000
DTEND;TZID=Europe/Stockholm:20260422T210000
DTSTAMP:20260421T160510
CREATED:20251202T212714Z
LAST-MODIFIED:20251202T212714Z
UID:10002762-1776886200-1776891600@www.swing.se
SUMMARY:Bugg Tävlingsträning
DESCRIPTION:Ort: Växjö\nVar: Lilla hallen\, Växjö\nNär: Onsdagar 19.30-21.00\nStartdatum: 2026-01-14\nUppehåll: \nSlutdatum: 2026-05-27\nAntal tillfällen: 20\nKursledare: Joel Lundberg\nMedlemskap: Obligatoriskt\nBeskrivning: Träningstillfälle för dig som tävlar i bugg. \nObservera att det är en annan avgift för den här träningen. Kontakta klubben för mer information om du är intresserad. \nVarmt välkomna till oss på Dansklubben Swing i Växjö!! \n(OBS! Anmälan sker endast genom samverkan med klubben info@swing.se)
URL:https://www.swing.se/event/bugg-tavlingstraning-6/2026-04-22/
LOCATION:Swinghallen\, Växjö\, Arabygatan 80\, Växjö\, 35246
CATEGORIES:Lilla hallen,Tävlingsträning
ORGANIZER;CN="Dansklubben Swing":MAILTO:info@swing.se
END:VEVENT
BEGIN:VEVENT
DTSTART;TZID=Europe/Stockholm:20260429T193000
DTEND;TZID=Europe/Stockholm:20260429T210000
DTSTAMP:20260421T160510
CREATED:20251202T212714Z
LAST-MODIFIED:20251202T212714Z
UID:10002763-1777491000-1777496400@www.swing.se
SUMMARY:Bugg Tävlingsträning
DESCRIPTION:Ort: Växjö\nVar: Lilla hallen\, Växjö\nNär: Onsdagar 19.30-21.00\nStartdatum: 2026-01-14\nUppehåll: \nSlutdatum: 2026-05-27\nAntal tillfällen: 20\nKursledare: Joel Lundberg\nMedlemskap: Obligatoriskt\nBeskrivning: Träningstillfälle för dig som tävlar i bugg. \nObservera att det är en annan avgift för den här träningen. Kontakta klubben för mer information om du är intresserad. \nVarmt välkomna till oss på Dansklubben Swing i Växjö!! \n(OBS! Anmälan sker endast genom samverkan med klubben info@swing.se)
URL:https://www.swing.se/event/bugg-tavlingstraning-6/2026-04-29/
LOCATION:Swinghallen\, Växjö\, Arabygatan 80\, Växjö\, 35246
CATEGORIES:Lilla hallen,Tävlingsträning
ORGANIZER;CN="Dansklubben Swing":MAILTO:info@swing.se
END:VEVENT
BEGIN:VEVENT
DTSTART;TZID=Europe/Stockholm:20260506T193000
DTEND;TZID=Europe/Stockholm:20260506T210000
DTSTAMP:20260421T160510
CREATED:20251202T212714Z
LAST-MODIFIED:20251202T212714Z
UID:10002764-1778095800-1778101200@www.swing.se
SUMMARY:Bugg Tävlingsträning
DESCRIPTION:Ort: Växjö\nVar: Lilla hallen\, Växjö\nNär: Onsdagar 19.30-21.00\nStartdatum: 2026-01-14\nUppehåll: \nSlutdatum: 2026-05-27\nAntal tillfällen: 20\nKursledare: Joel Lundberg\nMedlemskap: Obligatoriskt\nBeskrivning: Träningstillfälle för dig som tävlar i bugg. \nObservera att det är en annan avgift för den här träningen. Kontakta klubben för mer information om du är intresserad. \nVarmt välkomna till oss på Dansklubben Swing i Växjö!! \n(OBS! Anmälan sker endast genom samverkan med klubben info@swing.se)
URL:https://www.swing.se/event/bugg-tavlingstraning-6/2026-05-06/
LOCATION:Swinghallen\, Växjö\, Arabygatan 80\, Växjö\, 35246
CATEGORIES:Lilla hallen,Tävlingsträning
ORGANIZER;CN="Dansklubben Swing":MAILTO:info@swing.se
END:VEVENT
BEGIN:VEVENT
DTSTART;TZID=Europe/Stockholm:20260513T193000
DTEND;TZID=Europe/Stockholm:20260513T210000
DTSTAMP:20260421T160510
CREATED:20251202T212714Z
LAST-MODIFIED:20251202T212714Z
UID:10002765-1778700600-1778706000@www.swing.se
SUMMARY:Bugg Tävlingsträning
DESCRIPTION:Ort: Växjö\nVar: Lilla hallen\, Växjö\nNär: Onsdagar 19.30-21.00\nStartdatum: 2026-01-14\nUppehåll: \nSlutdatum: 2026-05-27\nAntal tillfällen: 20\nKursledare: Joel Lundberg\nMedlemskap: Obligatoriskt\nBeskrivning: Träningstillfälle för dig som tävlar i bugg. \nObservera att det är en annan avgift för den här träningen. Kontakta klubben för mer information om du är intresserad. \nVarmt välkomna till oss på Dansklubben Swing i Växjö!! \n(OBS! Anmälan sker endast genom samverkan med klubben info@swing.se)
URL:https://www.swing.se/event/bugg-tavlingstraning-6/2026-05-13/
LOCATION:Swinghallen\, Växjö\, Arabygatan 80\, Växjö\, 35246
CATEGORIES:Lilla hallen,Tävlingsträning
ORGANIZER;CN="Dansklubben Swing":MAILTO:info@swing.se
END:VEVENT
BEGIN:VEVENT
DTSTART;TZID=Europe/Stockholm:20260520T193000
DTEND;TZID=Europe/Stockholm:20260520T210000
DTSTAMP:20260421T160510
CREATED:20251202T212714Z
LAST-MODIFIED:20251202T212714Z
UID:10002766-1779305400-1779310800@www.swing.se
SUMMARY:Bugg Tävlingsträning
DESCRIPTION:Ort: Växjö\nVar: Lilla hallen\, Växjö\nNär: Onsdagar 19.30-21.00\nStartdatum: 2026-01-14\nUppehåll: \nSlutdatum: 2026-05-27\nAntal tillfällen: 20\nKursledare: Joel Lundberg\nMedlemskap: Obligatoriskt\nBeskrivning: Träningstillfälle för dig som tävlar i bugg. \nObservera att det är en annan avgift för den här träningen. Kontakta klubben för mer information om du är intresserad. \nVarmt välkomna till oss på Dansklubben Swing i Växjö!! \n(OBS! Anmälan sker endast genom samverkan med klubben info@swing.se)
URL:https://www.swing.se/event/bugg-tavlingstraning-6/2026-05-20/
LOCATION:Swinghallen\, Växjö\, Arabygatan 80\, Växjö\, 35246
CATEGORIES:Lilla hallen,Tävlingsträning
ORGANIZER;CN="Dansklubben Swing":MAILTO:info@swing.se
END:VEVENT
BEGIN:VEVENT
DTSTART;TZID=Europe/Stockholm:20260527T193000
DTEND;TZID=Europe/Stockholm:20260527T210000
DTSTAMP:20260421T160510
CREATED:20251202T212714Z
LAST-MODIFIED:20251202T212714Z
UID:10002767-1779910200-1779915600@www.swing.se
SUMMARY:Bugg Tävlingsträning
DESCRIPTION:Ort: Växjö\nVar: Lilla hallen\, Växjö\nNär: Onsdagar 19.30-21.00\nStartdatum: 2026-01-14\nUppehåll: \nSlutdatum: 2026-05-27\nAntal tillfällen: 20\nKursledare: Joel Lundberg\nMedlemskap: Obligatoriskt\nBeskrivning: Träningstillfälle för dig som tävlar i bugg. \nObservera att det är en annan avgift för den här träningen. Kontakta klubben för mer information om du är intresserad. \nVarmt välkomna till oss på Dansklubben Swing i Växjö!! \n(OBS! Anmälan sker endast genom samverkan med klubben info@swing.se)
URL:https://www.swing.se/event/bugg-tavlingstraning-6/2026-05-27/
LOCATION:Swinghallen\, Växjö\, Arabygatan 80\, Växjö\, 35246
CATEGORIES:Lilla hallen,Tävlingsträning
ORGANIZER;CN="Dansklubben Swing":MAILTO:info@swing.se
END:VEVENT
END:VCALENDAR