BEGIN:VCALENDAR
VERSION:2.0
PRODID:-//Swing - ECPv6.15.17.1//NONSGML v1.0//EN
CALSCALE:GREGORIAN
METHOD:PUBLISH
X-WR-CALNAME:Swing
X-ORIGINAL-URL:https://www.swing.se
X-WR-CALDESC:Händelser för Swing
REFRESH-INTERVAL;VALUE=DURATION:PT1H
X-Robots-Tag:noindex
X-PUBLISHED-TTL:PT1H
BEGIN:VTIMEZONE
TZID:Europe/Stockholm
BEGIN:DAYLIGHT
TZOFFSETFROM:+0100
TZOFFSETTO:+0200
TZNAME:CEST
DTSTART:20240331T010000
END:DAYLIGHT
BEGIN:STANDARD
TZOFFSETFROM:+0200
TZOFFSETTO:+0100
TZNAME:CET
DTSTART:20241027T010000
END:STANDARD
BEGIN:DAYLIGHT
TZOFFSETFROM:+0100
TZOFFSETTO:+0200
TZNAME:CEST
DTSTART:20250330T010000
END:DAYLIGHT
BEGIN:STANDARD
TZOFFSETFROM:+0200
TZOFFSETTO:+0100
TZNAME:CET
DTSTART:20251026T010000
END:STANDARD
BEGIN:DAYLIGHT
TZOFFSETFROM:+0100
TZOFFSETTO:+0200
TZNAME:CEST
DTSTART:20260329T010000
END:DAYLIGHT
BEGIN:STANDARD
TZOFFSETFROM:+0200
TZOFFSETTO:+0100
TZNAME:CET
DTSTART:20261025T010000
END:STANDARD
END:VTIMEZONE
BEGIN:VEVENT
DTSTART;TZID=Europe/Stockholm:20250601T163000
DTEND;TZID=Europe/Stockholm:20250601T203000
DTSTAMP:20260425T182125
CREATED:20241115T200711Z
LAST-MODIFIED:20250524T165943Z
UID:10001879-1748795400-1748809800@www.swing.se
SUMMARY:Orkesterdans - Callinaz
DESCRIPTION:Kom och dansa till Callinaz 16.30 – 20.30 i Gemla Folkets Park. \nDansen är öppen för alla. Varmt välkomna till oss på Dansklubben Swing i Växjö!!
URL:https://www.swing.se/event/orkesterdans-callinaz-4/
LOCATION:Swinghallen\, Växjö\, Arabygatan 80\, Växjö\, 35246
CATEGORIES:Orkesterdanser
ORGANIZER;CN="Dansklubben Swing":MAILTO:info@swing.se
END:VEVENT
BEGIN:VEVENT
DTSTART;TZID=Europe/Stockholm:20250604T183000
DTEND;TZID=Europe/Stockholm:20250604T193000
DTSTAMP:20260425T182125
CREATED:20241214T151556Z
LAST-MODIFIED:20241214T152433Z
UID:10002095-1749061800-1749065400@www.swing.se
SUMMARY:Boogie Woogie Tävlingsträning
DESCRIPTION:Träningstillfälle för dig som tävlar i Boogie Woogie. \nObservera att det är en annan avgift för den här träningen. Kontakta klubben för mer information om du är intresserad. \nVarmt välkomna till oss på Dansklubben Swing i Växjö!! \n(OBS! Anmälan sker endast genom samverkan med klubben info@swing.se)
URL:https://www.swing.se/event/boogie-woogie-tavlingstraning-4/2025-06-04/
LOCATION:Swinghallen\, Växjö\, Arabygatan 80\, Växjö\, 35246
CATEGORIES:Lilla hallen,Tävlingsträning
ORGANIZER;CN="Dansklubben Swing":MAILTO:info@swing.se
END:VEVENT
BEGIN:VEVENT
DTSTART;TZID=Europe/Stockholm:20250604T193000
DTEND;TZID=Europe/Stockholm:20250604T210000
DTSTAMP:20260425T182125
CREATED:20241214T151355Z
LAST-MODIFIED:20241214T151355Z
UID:10002075-1749065400-1749070800@www.swing.se
SUMMARY:Bugg Tävlingsträning
DESCRIPTION:Träningstillfälle för dig som tävlar i bugg. \nObservera att det är en annan avgift för den här träningen. Kontakta klubben för mer information om du är intresserad. \nVarmt välkomna till oss på Dansklubben Swing i Växjö!! \n(OBS! Anmälan sker endast genom samverkan med klubben info@swing.se)
URL:https://www.swing.se/event/bugg-tavlingstraning-4/2025-06-04/
LOCATION:Swinghallen\, Växjö\, Arabygatan 80\, Växjö\, 35246
CATEGORIES:Lilla hallen,Tävlingsträning
ORGANIZER;CN="Dansklubben Swing":MAILTO:info@swing.se
END:VEVENT
BEGIN:VEVENT
DTSTART;TZID=Europe/Stockholm:20250607T110000
DTEND;TZID=Europe/Stockholm:20250608T203000
DTSTAMP:20260425T182125
CREATED:20250224T173630Z
LAST-MODIFIED:20250224T174145Z
UID:10002218-1749294000-1749414600@www.swing.se
SUMMARY:Gemla Dansfest!
DESCRIPTION:Välkomna på en helg fylld med dans i fantastiska Gemla folkets park den 7-8 juni! Vi bjuder in till två dagar med workshops\, danskvällar och härligt umgänge! Kika in på vår facebooksida och bocka i intresserad i evenemanget redan nu så fyller vi på med mer info löpande. \n\nDans:\nHighlights – lördag 19-23\nCasanovas – söndag 16:30-20:30\n\nWorkshops:  Linedance – lördag 11-13 med Magnus Gustavsson\nGammeldans – lördag 13-15 med Eva Arnehall  West Coast Swing – söndag 11-13 med Magnus Gustavsson & Karolina Fagerlund\n\n\nEntré  250 kr/kväll inklusive workshop på em\n400 kr för hela helgen inklusive alla workshops\n\nMat & dryck\nVi har servering öppen lör-söndag så du kan köpa kaffe & kaka under dagen och fralla\, korv med bröd mm under danskvällarna. Båda dagarna finns även kungsgrillen på plats för den som vill köpa mat.   Ställplatser kommer att finnas. Mer info kommer.\n\n\nVarmt varmt välkomna till Gemla dansfest!
URL:https://www.swing.se/event/dansklubben-swing-presenterar-gemla-dansfest/
LOCATION:Folket Park\, Gemla\, Industrivägen 1\, Gemla\, 36032\, Sverige
CATEGORIES:Orkesterdanser
ORGANIZER;CN="Dansklubben Swing":MAILTO:info@swing.se
END:VEVENT
BEGIN:VEVENT
DTSTART;TZID=Europe/Stockholm:20250615T163000
DTEND;TZID=Europe/Stockholm:20250615T203000
DTSTAMP:20260425T182125
CREATED:20241115T200810Z
LAST-MODIFIED:20241115T202440Z
UID:10001881-1750005000-1750019400@www.swing.se
SUMMARY:Orkesterdans - Sannex
DESCRIPTION:Kom och dansa till Sannex  16.30 – 20.30 i Gemla Folkets Park. \nDansen är öppen för alla. Varmt välkomna till oss på Dansklubben Swing i Växjö!!
URL:https://www.swing.se/event/orkesterdans-sannex-3/
LOCATION:Swinghallen\, Växjö\, Arabygatan 80\, Växjö\, 35246
CATEGORIES:Orkesterdanser
ORGANIZER;CN="Dansklubben Swing":MAILTO:info@swing.se
END:VEVENT
END:VCALENDAR