BEGIN:VCALENDAR
VERSION:2.0
PRODID:-//Swing - ECPv6.15.17.1//NONSGML v1.0//EN
CALSCALE:GREGORIAN
METHOD:PUBLISH
X-WR-CALNAME:Swing
X-ORIGINAL-URL:https://www.swing.se
X-WR-CALDESC:Händelser för Swing
REFRESH-INTERVAL;VALUE=DURATION:PT1H
X-Robots-Tag:noindex
X-PUBLISHED-TTL:PT1H
BEGIN:VTIMEZONE
TZID:Europe/Stockholm
BEGIN:DAYLIGHT
TZOFFSETFROM:+0100
TZOFFSETTO:+0200
TZNAME:CEST
DTSTART:20240331T010000
END:DAYLIGHT
BEGIN:STANDARD
TZOFFSETFROM:+0200
TZOFFSETTO:+0100
TZNAME:CET
DTSTART:20241027T010000
END:STANDARD
BEGIN:DAYLIGHT
TZOFFSETFROM:+0100
TZOFFSETTO:+0200
TZNAME:CEST
DTSTART:20250330T010000
END:DAYLIGHT
BEGIN:STANDARD
TZOFFSETFROM:+0200
TZOFFSETTO:+0100
TZNAME:CET
DTSTART:20251026T010000
END:STANDARD
BEGIN:DAYLIGHT
TZOFFSETFROM:+0100
TZOFFSETTO:+0200
TZNAME:CEST
DTSTART:20260329T010000
END:DAYLIGHT
BEGIN:STANDARD
TZOFFSETFROM:+0200
TZOFFSETTO:+0100
TZNAME:CET
DTSTART:20261025T010000
END:STANDARD
END:VTIMEZONE
BEGIN:VEVENT
DTSTART;TZID=Europe/Stockholm:20250504T163000
DTEND;TZID=Europe/Stockholm:20250504T203000
DTSTAMP:20260425T164357
CREATED:20241115T200559Z
LAST-MODIFIED:20241115T202553Z
UID:10001877-1746376200-1746390600@www.swing.se
SUMMARY:Orkesterdans - Blender
DESCRIPTION:Kom och dansa till Blender  16.30 – 20.30 i Gemla Folkets Park. \nDansen är öppen för alla. Varmt välkomna till oss på Dansklubben Swing i Växjö!!
URL:https://www.swing.se/event/orkesterdans-blender-3/
LOCATION:Swinghallen\, Växjö\, Arabygatan 80\, Växjö\, 35246
CATEGORIES:Orkesterdanser
ORGANIZER;CN="Dansklubben Swing":MAILTO:info@swing.se
END:VEVENT
BEGIN:VEVENT
DTSTART;TZID=Europe/Stockholm:20250507T183000
DTEND;TZID=Europe/Stockholm:20250507T193000
DTSTAMP:20260425T164357
CREATED:20241214T151556Z
LAST-MODIFIED:20241214T152433Z
UID:10002091-1746642600-1746646200@www.swing.se
SUMMARY:Boogie Woogie Tävlingsträning
DESCRIPTION:Träningstillfälle för dig som tävlar i Boogie Woogie. \nObservera att det är en annan avgift för den här träningen. Kontakta klubben för mer information om du är intresserad. \nVarmt välkomna till oss på Dansklubben Swing i Växjö!! \n(OBS! Anmälan sker endast genom samverkan med klubben info@swing.se)
URL:https://www.swing.se/event/boogie-woogie-tavlingstraning-4/2025-05-07/
LOCATION:Swinghallen\, Växjö\, Arabygatan 80\, Växjö\, 35246
CATEGORIES:Lilla hallen,Tävlingsträning
ORGANIZER;CN="Dansklubben Swing":MAILTO:info@swing.se
END:VEVENT
BEGIN:VEVENT
DTSTART;TZID=Europe/Stockholm:20250507T193000
DTEND;TZID=Europe/Stockholm:20250507T210000
DTSTAMP:20260425T164357
CREATED:20241214T151355Z
LAST-MODIFIED:20241214T151355Z
UID:10002071-1746646200-1746651600@www.swing.se
SUMMARY:Bugg Tävlingsträning
DESCRIPTION:Träningstillfälle för dig som tävlar i bugg. \nObservera att det är en annan avgift för den här träningen. Kontakta klubben för mer information om du är intresserad. \nVarmt välkomna till oss på Dansklubben Swing i Växjö!! \n(OBS! Anmälan sker endast genom samverkan med klubben info@swing.se)
URL:https://www.swing.se/event/bugg-tavlingstraning-4/2025-05-07/
LOCATION:Swinghallen\, Växjö\, Arabygatan 80\, Växjö\, 35246
CATEGORIES:Lilla hallen,Tävlingsträning
ORGANIZER;CN="Dansklubben Swing":MAILTO:info@swing.se
END:VEVENT
BEGIN:VEVENT
DTSTART;TZID=Europe/Stockholm:20250511T100000
DTEND;TZID=Europe/Stockholm:20250511T104500
DTSTAMP:20260425T164357
CREATED:20241217T184422Z
LAST-MODIFIED:20241217T184717Z
UID:10002202-1746957600-1746960300@www.swing.se
SUMMARY:Amerikansk Linedance
DESCRIPTION:Autentiska danser som dansas på fester och uteställen i delar av USA. Vi lär oss en ny dans vid varje kurstillfälle. Förkunskaper krävs ej. \nVarmt välkomna till oss på Dansklubben Swing i Växjö!! \nSe vårt kursprogram för anmälan.
URL:https://www.swing.se/event/amerikansk-linedance/2025-05-11/
LOCATION:Swinghallen\, Växjö\, Arabygatan 80\, Växjö\, 35246
CATEGORIES:Ordinarie kursverksamhet,Stora hallen
ORGANIZER;CN="Dansklubben Swing":MAILTO:info@swing.se
END:VEVENT
BEGIN:VEVENT
DTSTART;TZID=Europe/Stockholm:20250511T163000
DTEND;TZID=Europe/Stockholm:20250511T203000
DTSTAMP:20260425T164357
CREATED:20241115T200629Z
LAST-MODIFIED:20241115T202531Z
UID:10001878-1746981000-1746995400@www.swing.se
SUMMARY:Orkesterdans - PH:s
DESCRIPTION:Kom och dansa till PH:s  16.30 – 20.30 i Gemla Folkets Park. \nDansen är öppen för alla. Varmt välkomna till oss på Dansklubben Swing i Växjö!!
URL:https://www.swing.se/event/orkesterdans-phs/
LOCATION:Swinghallen\, Växjö\, Arabygatan 80\, Växjö\, 35246
CATEGORIES:Orkesterdanser
ORGANIZER;CN="Dansklubben Swing":MAILTO:info@swing.se
END:VEVENT
BEGIN:VEVENT
DTSTART;TZID=Europe/Stockholm:20250514T183000
DTEND;TZID=Europe/Stockholm:20250514T193000
DTSTAMP:20260425T164357
CREATED:20241214T151556Z
LAST-MODIFIED:20241214T152433Z
UID:10002092-1747247400-1747251000@www.swing.se
SUMMARY:Boogie Woogie Tävlingsträning
DESCRIPTION:Träningstillfälle för dig som tävlar i Boogie Woogie. \nObservera att det är en annan avgift för den här träningen. Kontakta klubben för mer information om du är intresserad. \nVarmt välkomna till oss på Dansklubben Swing i Växjö!! \n(OBS! Anmälan sker endast genom samverkan med klubben info@swing.se)
URL:https://www.swing.se/event/boogie-woogie-tavlingstraning-4/2025-05-14/
LOCATION:Swinghallen\, Växjö\, Arabygatan 80\, Växjö\, 35246
CATEGORIES:Lilla hallen,Tävlingsträning
ORGANIZER;CN="Dansklubben Swing":MAILTO:info@swing.se
END:VEVENT
BEGIN:VEVENT
DTSTART;TZID=Europe/Stockholm:20250514T193000
DTEND;TZID=Europe/Stockholm:20250514T210000
DTSTAMP:20260425T164357
CREATED:20241214T151355Z
LAST-MODIFIED:20241214T151355Z
UID:10002072-1747251000-1747256400@www.swing.se
SUMMARY:Bugg Tävlingsträning
DESCRIPTION:Träningstillfälle för dig som tävlar i bugg. \nObservera att det är en annan avgift för den här träningen. Kontakta klubben för mer information om du är intresserad. \nVarmt välkomna till oss på Dansklubben Swing i Växjö!! \n(OBS! Anmälan sker endast genom samverkan med klubben info@swing.se)
URL:https://www.swing.se/event/bugg-tavlingstraning-4/2025-05-14/
LOCATION:Swinghallen\, Växjö\, Arabygatan 80\, Växjö\, 35246
CATEGORIES:Lilla hallen,Tävlingsträning
ORGANIZER;CN="Dansklubben Swing":MAILTO:info@swing.se
END:VEVENT
BEGIN:VEVENT
DTSTART;TZID=Europe/Stockholm:20250521T183000
DTEND;TZID=Europe/Stockholm:20250521T193000
DTSTAMP:20260425T164357
CREATED:20241214T151556Z
LAST-MODIFIED:20241214T152433Z
UID:10002093-1747852200-1747855800@www.swing.se
SUMMARY:Boogie Woogie Tävlingsträning
DESCRIPTION:Träningstillfälle för dig som tävlar i Boogie Woogie. \nObservera att det är en annan avgift för den här träningen. Kontakta klubben för mer information om du är intresserad. \nVarmt välkomna till oss på Dansklubben Swing i Växjö!! \n(OBS! Anmälan sker endast genom samverkan med klubben info@swing.se)
URL:https://www.swing.se/event/boogie-woogie-tavlingstraning-4/2025-05-21/
LOCATION:Swinghallen\, Växjö\, Arabygatan 80\, Växjö\, 35246
CATEGORIES:Lilla hallen,Tävlingsträning
ORGANIZER;CN="Dansklubben Swing":MAILTO:info@swing.se
END:VEVENT
BEGIN:VEVENT
DTSTART;TZID=Europe/Stockholm:20250521T193000
DTEND;TZID=Europe/Stockholm:20250521T210000
DTSTAMP:20260425T164357
CREATED:20241214T151355Z
LAST-MODIFIED:20241214T151355Z
UID:10002073-1747855800-1747861200@www.swing.se
SUMMARY:Bugg Tävlingsträning
DESCRIPTION:Träningstillfälle för dig som tävlar i bugg. \nObservera att det är en annan avgift för den här träningen. Kontakta klubben för mer information om du är intresserad. \nVarmt välkomna till oss på Dansklubben Swing i Växjö!! \n(OBS! Anmälan sker endast genom samverkan med klubben info@swing.se)
URL:https://www.swing.se/event/bugg-tavlingstraning-4/2025-05-21/
LOCATION:Swinghallen\, Växjö\, Arabygatan 80\, Växjö\, 35246
CATEGORIES:Lilla hallen,Tävlingsträning
ORGANIZER;CN="Dansklubben Swing":MAILTO:info@swing.se
END:VEVENT
BEGIN:VEVENT
DTSTART;TZID=Europe/Stockholm:20250525T100000
DTEND;TZID=Europe/Stockholm:20250525T104500
DTSTAMP:20260425T164357
CREATED:20241217T184422Z
LAST-MODIFIED:20241217T184717Z
UID:10002203-1748167200-1748169900@www.swing.se
SUMMARY:Amerikansk Linedance
DESCRIPTION:Autentiska danser som dansas på fester och uteställen i delar av USA. Vi lär oss en ny dans vid varje kurstillfälle. Förkunskaper krävs ej. \nVarmt välkomna till oss på Dansklubben Swing i Växjö!! \nSe vårt kursprogram för anmälan.
URL:https://www.swing.se/event/amerikansk-linedance/2025-05-25/
LOCATION:Swinghallen\, Växjö\, Arabygatan 80\, Växjö\, 35246
CATEGORIES:Ordinarie kursverksamhet,Stora hallen
ORGANIZER;CN="Dansklubben Swing":MAILTO:info@swing.se
END:VEVENT
BEGIN:VEVENT
DTSTART;TZID=Europe/Stockholm:20250528T183000
DTEND;TZID=Europe/Stockholm:20250528T193000
DTSTAMP:20260425T164357
CREATED:20241214T151556Z
LAST-MODIFIED:20241214T152433Z
UID:10002094-1748457000-1748460600@www.swing.se
SUMMARY:Boogie Woogie Tävlingsträning
DESCRIPTION:Träningstillfälle för dig som tävlar i Boogie Woogie. \nObservera att det är en annan avgift för den här träningen. Kontakta klubben för mer information om du är intresserad. \nVarmt välkomna till oss på Dansklubben Swing i Växjö!! \n(OBS! Anmälan sker endast genom samverkan med klubben info@swing.se)
URL:https://www.swing.se/event/boogie-woogie-tavlingstraning-4/2025-05-28/
LOCATION:Swinghallen\, Växjö\, Arabygatan 80\, Växjö\, 35246
CATEGORIES:Lilla hallen,Tävlingsträning
ORGANIZER;CN="Dansklubben Swing":MAILTO:info@swing.se
END:VEVENT
BEGIN:VEVENT
DTSTART;TZID=Europe/Stockholm:20250528T193000
DTEND;TZID=Europe/Stockholm:20250528T210000
DTSTAMP:20260425T164357
CREATED:20241214T151355Z
LAST-MODIFIED:20241214T151355Z
UID:10002074-1748460600-1748466000@www.swing.se
SUMMARY:Bugg Tävlingsträning
DESCRIPTION:Träningstillfälle för dig som tävlar i bugg. \nObservera att det är en annan avgift för den här träningen. Kontakta klubben för mer information om du är intresserad. \nVarmt välkomna till oss på Dansklubben Swing i Växjö!! \n(OBS! Anmälan sker endast genom samverkan med klubben info@swing.se)
URL:https://www.swing.se/event/bugg-tavlingstraning-4/2025-05-28/
LOCATION:Swinghallen\, Växjö\, Arabygatan 80\, Växjö\, 35246
CATEGORIES:Lilla hallen,Tävlingsträning
ORGANIZER;CN="Dansklubben Swing":MAILTO:info@swing.se
END:VEVENT
END:VCALENDAR