BEGIN:VCALENDAR
VERSION:2.0
PRODID:-//Swing - ECPv6.15.17.1//NONSGML v1.0//EN
CALSCALE:GREGORIAN
METHOD:PUBLISH
X-WR-CALNAME:Swing
X-ORIGINAL-URL:https://www.swing.se
X-WR-CALDESC:Händelser för Swing
REFRESH-INTERVAL;VALUE=DURATION:PT1H
X-Robots-Tag:noindex
X-PUBLISHED-TTL:PT1H
BEGIN:VTIMEZONE
TZID:Europe/Stockholm
BEGIN:DAYLIGHT
TZOFFSETFROM:+0100
TZOFFSETTO:+0200
TZNAME:CEST
DTSTART:20240331T010000
END:DAYLIGHT
BEGIN:STANDARD
TZOFFSETFROM:+0200
TZOFFSETTO:+0100
TZNAME:CET
DTSTART:20241027T010000
END:STANDARD
BEGIN:DAYLIGHT
TZOFFSETFROM:+0100
TZOFFSETTO:+0200
TZNAME:CEST
DTSTART:20250330T010000
END:DAYLIGHT
BEGIN:STANDARD
TZOFFSETFROM:+0200
TZOFFSETTO:+0100
TZNAME:CET
DTSTART:20251026T010000
END:STANDARD
BEGIN:DAYLIGHT
TZOFFSETFROM:+0100
TZOFFSETTO:+0200
TZNAME:CEST
DTSTART:20260329T010000
END:DAYLIGHT
BEGIN:STANDARD
TZOFFSETFROM:+0200
TZOFFSETTO:+0100
TZNAME:CET
DTSTART:20261025T010000
END:STANDARD
END:VTIMEZONE
BEGIN:VEVENT
DTSTART;TZID=Europe/Stockholm:20250930T170000
DTEND;TZID=Europe/Stockholm:20250930T190000
DTSTAMP:20260424T085600
CREATED:20250906T123515Z
LAST-MODIFIED:20250906T123733Z
UID:10002316-1759251600-1759258800@www.swing.se
SUMMARY:BRR Tävlingsträning
DESCRIPTION:Ort: Växjö\nVar: Lilla hallen\, Växjö\nNär: Tisdagar 17.00-19.00\nStartdatum: 2025-08-27\nUppehåll: \nSlutdatum: 2025-12-17\nAntal tillfällen: 17\nKursledare: –\nMedlemskap: Obligatoriskt\nBeskrivning: Träningstillfälle för dig som tävlar i någon av BRR-danserna. \nObservera att det är en annan avgift för den här träningen. Kontakta klubben för mer information om du är intresserad. \nVarmt välkomna till oss på Dansklubben Swing i Växjö!! \n(OBS! Anmälan sker endast genom samverkan med klubben info@swing.se)
URL:https://www.swing.se/event/brr-tavlingstraning-2-2/2025-09-30/
LOCATION:Swinghallen\, Växjö\, Arabygatan 80\, Växjö\, 35246
CATEGORIES:Lilla hallen,Tävlingsträning
ORGANIZER;CN="Dansklubben Swing":MAILTO:info@swing.se
END:VEVENT
BEGIN:VEVENT
DTSTART;TZID=Europe/Stockholm:20250930T180000
DTEND;TZID=Europe/Stockholm:20250930T190000
DTSTAMP:20260424T085600
CREATED:20250906T123249Z
LAST-MODIFIED:20250906T123249Z
UID:10002301-1759255200-1759258800@www.swing.se
SUMMARY:Tiodans tävlingsträning
DESCRIPTION:Ort: Växjö\nVar: Stora hallen\, Växjö\nNär: Tisdagar 18.00-19.00\nStartdatum: 2025-08-26\nUppehåll: \nSlutdatum: 2025-12-09\nAntal tillfällen: 16\nKursledare: –\nMedlemskap: Obligatoriskt\nBeskrivning: Träningstillfälle för dig som tävlar i tiodans. \nVarmt välkomna till oss på Dansklubben Swing i Växjö!! \n(OBS! Anmälan sker endast genom samverkan med klubben info@swing.se)
URL:https://www.swing.se/event/tiodans-tavlingstraning-5/2025-09-30/
LOCATION:Swinghallen\, Växjö\, Arabygatan 80\, Växjö\, 35246
CATEGORIES:Stora hallen,Tävlingsträning
ORGANIZER;CN="Dansklubben Swing":MAILTO:info@swing.se
END:VEVENT
BEGIN:VEVENT
DTSTART;TZID=Europe/Stockholm:20250930T190000
DTEND;TZID=Europe/Stockholm:20250930T200000
DTSTAMP:20260424T085600
CREATED:20250906T124252Z
LAST-MODIFIED:20250906T124252Z
UID:10002333-1759258800-1759262400@www.swing.se
SUMMARY:Tiodans tävlingsträning
DESCRIPTION:Ort: Växjö\nVar: Lilla hallen\, Växjö\nNär: Tisdagar 19.00-20.00\nStartdatum: 2025-08-26\nUppehåll: \nSlutdatum: 2025-12-09\nAntal tillfällen: 16\nKursledare: –\nMedlemskap: Obligatoriskt\nBeskrivning: Träningstillfälle för dig som tävlar i tiodans. \nVarmt välkomna till oss på Dansklubben Swing i Växjö!! \n(OBS! Anmälan sker endast genom samverkan med klubben info@swing.se)
URL:https://www.swing.se/event/tiodans-tavlingstraning-6/2025-09-30/
LOCATION:Swinghallen\, Växjö\, Arabygatan 80\, Växjö\, 35246
CATEGORIES:Lilla hallen,Tävlingsträning
ORGANIZER;CN="Dansklubben Swing":MAILTO:info@swing.se
END:VEVENT
BEGIN:VEVENT
DTSTART;TZID=Europe/Stockholm:20251001T183000
DTEND;TZID=Europe/Stockholm:20251001T193000
DTSTAMP:20260424T085600
CREATED:20250906T124910Z
LAST-MODIFIED:20250906T124910Z
UID:10002409-1759343400-1759347000@www.swing.se
SUMMARY:Boogie Woogie Tävlingsträning
DESCRIPTION:Ort: Växjö\nVar: Lilla hallen\, Växjö\nNär: Onsdagar 18.30-19.30\nStartdatum: 2025-08-27\nUppehåll: \nSlutdatum: 2025-12-17\nAntal tillfällen: 17\nKursledare: Joel Lundberg\nMedlemskap: Obligatoriskt\nBeskrivning: Träningstillfälle för dig som tävlar i Boogie Woogie. \nObservera att det är en annan avgift för den här träningen. Kontakta klubben för mer information om du är intresserad. \nVarmt välkomna till oss på Dansklubben Swing i Växjö!! \n(OBS! Anmälan sker endast genom samverkan med klubben info@swing.se)
URL:https://www.swing.se/event/boogie-woogie-tavlingstraning-5/2025-10-01/
LOCATION:Swinghallen\, Växjö\, Arabygatan 80\, Växjö\, 35246
CATEGORIES:Lilla hallen,Tävlingsträning
ORGANIZER;CN="Dansklubben Swing":MAILTO:info@swing.se
END:VEVENT
BEGIN:VEVENT
DTSTART;TZID=Europe/Stockholm:20251001T193000
DTEND;TZID=Europe/Stockholm:20251001T210000
DTSTAMP:20260424T085600
CREATED:20250906T125043Z
LAST-MODIFIED:20250906T125043Z
UID:10002426-1759347000-1759352400@www.swing.se
SUMMARY:Bugg Tävlingsträning
DESCRIPTION:Ort: Växjö\nVar: Lilla hallen\, Växjö\nNär: Onsdagar 19.30-21.00\nStartdatum: 2025-08-27\nUppehåll: \nSlutdatum: 2025-12-17\nAntal tillfällen: 17\nKursledare: Joel Lundberg\nMedlemskap: Obligatoriskt\nBeskrivning: Träningstillfälle för dig som tävlar i bugg. \nObservera att det är en annan avgift för den här träningen. Kontakta klubben för mer information om du är intresserad. \nVarmt välkomna till oss på Dansklubben Swing i Växjö!! \n(OBS! Anmälan sker endast genom samverkan med klubben info@swing.se)
URL:https://www.swing.se/event/bugg-tavlingstraning-5/2025-10-01/
LOCATION:Swinghallen\, Växjö\, Arabygatan 80\, Växjö\, 35246
CATEGORIES:Lilla hallen,Tävlingsträning
ORGANIZER;CN="Dansklubben Swing":MAILTO:info@swing.se
END:VEVENT
BEGIN:VEVENT
DTSTART;TZID=Europe/Stockholm:20251005T100000
DTEND;TZID=Europe/Stockholm:20251005T130000
DTSTAMP:20260424T085600
CREATED:20250918T190749Z
LAST-MODIFIED:20250918T190749Z
UID:10002571-1759658400-1759669200@www.swing.se
SUMMARY:Top Notch Workshops
DESCRIPTION:Söndagen den 5 oktober har vi den stora glädjen att välkomna ett fantastiskt gäng meriterade tränare till Dansklubben Swing.\nNathalie Albrigtsen\, Marielle Nyberg\, Nicklas Nyberg och Ingemar Önnerås.\nDeras imponerande meriter hittar du längre ner i texten. \nDu har nu möjlighet att träna Bugg för alla fyra. Träningen kommer fördelas lika på tre olika tränarkonstellationer. \nTräningen delas upp i tre grupper\, omfördelning kan ske beroende på antal anmälningar. Tänkta grupper är: \n\nNationell Klass Junior\nNationell Klass Vuxen\nNationell Klass Senior/Grand Senior\n\nAnmäl dig via följande länkar:\n– Nationell Klass Junior\n– Nationell Klass Vuxen\n– Nationell Klass Senior/Grand Senior \nTid: 10.00 – 13.00\, Incheckning från 9.30\nPlats: Dansklubben Swing Wexiö. Arabygatan 80\, Växjö.\nPris: 300 kr per person.\nOBS! Begränsat antal platser för att säkerställa hög kvalitet. \nTränarnas meriter i korthet:\nNathalie Albrigtsen\n– 3 SM-guld och ett flertal pallplatser på SM\n– 2 VM-guld\n– 1 guld i Nordiska Mästerskapen\nMarielle Nyberg\n– 4 SM-guld och 3 SM-silver\n– Silver och Brons både på VM och Nordiska Mästerskapen\n– Har tränat ett tiotal SM-vinnare i olika BRR-danser\n– Domare i samtliga BRR-danser\nNicklas Nyberg\n– 5 SM-guld\n– Guld och 2 Silver på Nordiska Mästerskapen\n– EM-silver\n– Tränat ett tiotal SM-vinnare i olika BRR-danser\n– Domare steg 2 i samtliga BRR-danser\n– Tidigare förbundskapten i Rock’n’Roll i tre år\nIngemar Önnerås\n– Delaktig i 30 SM-guld vunna av 28 olika dansare\n– Tränat SM-finalister 25 år i rad\n– Domare steg 3 i Boogie Woogie och Rock’n’Roll\n– Domare steg 2 i övriga BRR-danser \nVarmt välkomna till oss på Dansklubben Swing i Växjö!!
URL:https://www.swing.se/event/top-notch-workshops/
LOCATION:Swinghallen\, Växjö\, Arabygatan 80\, Växjö\, 35246
CATEGORIES:Helgkurser,Lilla hallen,Stora hallen,Tävlingsträning
ORGANIZER;CN="Dansklubben Swing":MAILTO:info@swing.se
END:VEVENT
BEGIN:VEVENT
DTSTART;TZID=Europe/Stockholm:20251005T161500
DTEND;TZID=Europe/Stockholm:20251005T171500
DTSTAMP:20260424T085600
CREATED:20250906T131957Z
LAST-MODIFIED:20250906T131957Z
UID:10002543-1759680900-1759684500@www.swing.se
SUMMARY:Tiodans för tävlingsdansare
DESCRIPTION:Ort: Växjö\nVar: Stora hallen\, Växjö\nNär: Söndagar 16:15-17:15\nStartdatum: 2025-08-31\nUppehåll: 2025-09-07\, 2025-09-28\, 2025-11-09\, 2025-11-23 på grund av orkesterdanser.\nSlutdatum: 2025-12-07\nAntal tillfällen: 12\nKursledare: Eva Walden och Tomas Petersson\nMedlemskap: Obligatoriskt\nBeskrivning: Träningstillfälle för dig som tävlar i tiodans i klasserna E\, D\, C.\nVarmt välkomna till oss på Dansklubben Swing i Växjö!! \n(OBS! Anmälan sker genom samverkan med klubben info@swing.se)
URL:https://www.swing.se/event/tiodans-for-tavlingsdansare-4/2025-10-05/
LOCATION:Swinghallen\, Växjö\, Arabygatan 80\, Växjö\, 35246
CATEGORIES:Stora hallen,Tävlingsträning
ORGANIZER;CN="Dansklubben Swing":MAILTO:info@swing.se
END:VEVENT
END:VCALENDAR