BEGIN:VCALENDAR
VERSION:2.0
PRODID:-//Swing - ECPv6.15.17.1//NONSGML v1.0//EN
CALSCALE:GREGORIAN
METHOD:PUBLISH
X-ORIGINAL-URL:https://www.swing.se
X-WR-CALDESC:Händelser för Swing
REFRESH-INTERVAL;VALUE=DURATION:PT1H
X-Robots-Tag:noindex
X-PUBLISHED-TTL:PT1H
BEGIN:VTIMEZONE
TZID:Europe/Stockholm
BEGIN:DAYLIGHT
TZOFFSETFROM:+0100
TZOFFSETTO:+0200
TZNAME:CEST
DTSTART:20240331T010000
END:DAYLIGHT
BEGIN:STANDARD
TZOFFSETFROM:+0200
TZOFFSETTO:+0100
TZNAME:CET
DTSTART:20241027T010000
END:STANDARD
BEGIN:DAYLIGHT
TZOFFSETFROM:+0100
TZOFFSETTO:+0200
TZNAME:CEST
DTSTART:20250330T010000
END:DAYLIGHT
BEGIN:STANDARD
TZOFFSETFROM:+0200
TZOFFSETTO:+0100
TZNAME:CET
DTSTART:20251026T010000
END:STANDARD
BEGIN:DAYLIGHT
TZOFFSETFROM:+0100
TZOFFSETTO:+0200
TZNAME:CEST
DTSTART:20260329T010000
END:DAYLIGHT
BEGIN:STANDARD
TZOFFSETFROM:+0200
TZOFFSETTO:+0100
TZNAME:CET
DTSTART:20261025T010000
END:STANDARD
END:VTIMEZONE
BEGIN:VEVENT
DTSTART;TZID=Europe/Stockholm:20251209T170000
DTEND;TZID=Europe/Stockholm:20251209T190000
DTSTAMP:20260424T040532
CREATED:20250906T123515Z
LAST-MODIFIED:20250906T123733Z
UID:10002326-1765299600-1765306800@www.swing.se
SUMMARY:BRR Tävlingsträning
DESCRIPTION:Ort: Växjö\nVar: Lilla hallen\, Växjö\nNär: Tisdagar 17.00-19.00\nStartdatum: 2025-08-27\nUppehåll: \nSlutdatum: 2025-12-17\nAntal tillfällen: 17\nKursledare: –\nMedlemskap: Obligatoriskt\nBeskrivning: Träningstillfälle för dig som tävlar i någon av BRR-danserna. \nObservera att det är en annan avgift för den här träningen. Kontakta klubben för mer information om du är intresserad. \nVarmt välkomna till oss på Dansklubben Swing i Växjö!! \n(OBS! Anmälan sker endast genom samverkan med klubben info@swing.se)
URL:https://www.swing.se/event/brr-tavlingstraning-2-2/2025-12-09/
LOCATION:Swinghallen\, Växjö\, Arabygatan 80\, Växjö\, 35246
CATEGORIES:Lilla hallen,Tävlingsträning
ORGANIZER;CN="Dansklubben Swing":MAILTO:info@swing.se
END:VEVENT
BEGIN:VEVENT
DTSTART;TZID=Europe/Stockholm:20251209T180000
DTEND;TZID=Europe/Stockholm:20251209T190000
DTSTAMP:20260424T040532
CREATED:20250906T123249Z
LAST-MODIFIED:20250906T123249Z
UID:10002311-1765303200-1765306800@www.swing.se
SUMMARY:Tiodans tävlingsträning
DESCRIPTION:Ort: Växjö\nVar: Stora hallen\, Växjö\nNär: Tisdagar 18.00-19.00\nStartdatum: 2025-08-26\nUppehåll: \nSlutdatum: 2025-12-09\nAntal tillfällen: 16\nKursledare: –\nMedlemskap: Obligatoriskt\nBeskrivning: Träningstillfälle för dig som tävlar i tiodans. \nVarmt välkomna till oss på Dansklubben Swing i Växjö!! \n(OBS! Anmälan sker endast genom samverkan med klubben info@swing.se)
URL:https://www.swing.se/event/tiodans-tavlingstraning-5/2025-12-09/
LOCATION:Swinghallen\, Växjö\, Arabygatan 80\, Växjö\, 35246
CATEGORIES:Stora hallen,Tävlingsträning
ORGANIZER;CN="Dansklubben Swing":MAILTO:info@swing.se
END:VEVENT
BEGIN:VEVENT
DTSTART;TZID=Europe/Stockholm:20251209T190000
DTEND;TZID=Europe/Stockholm:20251209T200000
DTSTAMP:20260424T040532
CREATED:20250906T124252Z
LAST-MODIFIED:20250906T124252Z
UID:10002343-1765306800-1765310400@www.swing.se
SUMMARY:Tiodans tävlingsträning
DESCRIPTION:Ort: Växjö\nVar: Lilla hallen\, Växjö\nNär: Tisdagar 19.00-20.00\nStartdatum: 2025-08-26\nUppehåll: \nSlutdatum: 2025-12-09\nAntal tillfällen: 16\nKursledare: –\nMedlemskap: Obligatoriskt\nBeskrivning: Träningstillfälle för dig som tävlar i tiodans. \nVarmt välkomna till oss på Dansklubben Swing i Växjö!! \n(OBS! Anmälan sker endast genom samverkan med klubben info@swing.se)
URL:https://www.swing.se/event/tiodans-tavlingstraning-6/2025-12-09/
LOCATION:Swinghallen\, Växjö\, Arabygatan 80\, Växjö\, 35246
CATEGORIES:Lilla hallen,Tävlingsträning
ORGANIZER;CN="Dansklubben Swing":MAILTO:info@swing.se
END:VEVENT
END:VCALENDAR