BEGIN:VCALENDAR
VERSION:2.0
PRODID:-//Swing - ECPv6.15.17.1//NONSGML v1.0//EN
CALSCALE:GREGORIAN
METHOD:PUBLISH
X-ORIGINAL-URL:https://www.swing.se
X-WR-CALDESC:Händelser för Swing
REFRESH-INTERVAL;VALUE=DURATION:PT1H
X-Robots-Tag:noindex
X-PUBLISHED-TTL:PT1H
BEGIN:VTIMEZONE
TZID:Europe/Stockholm
BEGIN:DAYLIGHT
TZOFFSETFROM:+0100
TZOFFSETTO:+0200
TZNAME:CEST
DTSTART:20230326T010000
END:DAYLIGHT
BEGIN:STANDARD
TZOFFSETFROM:+0200
TZOFFSETTO:+0100
TZNAME:CET
DTSTART:20231029T010000
END:STANDARD
BEGIN:DAYLIGHT
TZOFFSETFROM:+0100
TZOFFSETTO:+0200
TZNAME:CEST
DTSTART:20240331T010000
END:DAYLIGHT
BEGIN:STANDARD
TZOFFSETFROM:+0200
TZOFFSETTO:+0100
TZNAME:CET
DTSTART:20241027T010000
END:STANDARD
BEGIN:DAYLIGHT
TZOFFSETFROM:+0100
TZOFFSETTO:+0200
TZNAME:CEST
DTSTART:20250330T010000
END:DAYLIGHT
BEGIN:STANDARD
TZOFFSETFROM:+0200
TZOFFSETTO:+0100
TZNAME:CET
DTSTART:20251026T010000
END:STANDARD
END:VTIMEZONE
BEGIN:VEVENT
DTSTART;TZID=Europe/Stockholm:20241201T133000
DTEND;TZID=Europe/Stockholm:20241201T160000
DTSTAMP:20260426T045653
CREATED:20240611T201025Z
LAST-MODIFIED:20240611T203159Z
UID:10001748-1733059800-1733068800@www.swing.se
SUMMARY:BRR Tävlingsträning
DESCRIPTION:Träningstillfälle för dig som tävlar i Bugg\, Boogie Woogie\, Rock’n’roll och Lindy Hop. \nIngemar Önnerås är en Sveriges främsta danslärare som för nuvarande är aktiv inom BRR. Han är utbildad och certifierad inom DSF och SDO och har undervisat i Sverige\, Norge\, England och USA. \nHans undervisning präglas av en träningsfilosofi som är helt oberoende av förningstekniker och tränarstall. Detta har hittills resulterat i att hans danspar deltagit i minst en SM-final varje år sedan år 2000. Totalt har Ingemar varit delaktig i 29 SM-guld vunna av 27 olika dansare. \nIngemar har också varit aktiv domare sedan år 1999 och är för närvarande Steg 2 domare i både BRR- och Hip hop-grenarna. \nObservera att det är en annan avgift för den här träningen. Kontakta klubben för mer information om du är intresserad. \nVarmt välkomna till oss på Dansklubben Swing i Växjö!! \n(OBS! Anmälan sker endast genom samverkan med klubben info@swing.se)
URL:https://www.swing.se/event/brr-tavlingstraning/2024-12-01/
LOCATION:Swinghallen\, Växjö\, Arabygatan 80\, Växjö\, 35246
CATEGORIES:Lilla hallen,Tävlingsträning
ORGANIZER;CN="Dansklubben Swing":MAILTO:info@swing.se
END:VEVENT
BEGIN:VEVENT
DTSTART;TZID=Europe/Stockholm:20241201T161500
DTEND;TZID=Europe/Stockholm:20241201T171500
DTSTAMP:20260426T045653
CREATED:20240611T200912Z
LAST-MODIFIED:20240611T200912Z
UID:10001759-1733069700-1733073300@www.swing.se
SUMMARY:Tiodans för tävlingsdansare
DESCRIPTION:Träningstillfälle för dig som tävlar i tiodans i klasserna E\, D\, C.\nVarmt välkomna till oss på Dansklubben Swing i Växjö!! \n(OBS! Anmälan sker genom samverkan med klubben info@swing.se)
URL:https://www.swing.se/event/tiodans-for-tavlingsdansare-2/2024-12-01/
LOCATION:Swinghallen\, Växjö\, Arabygatan 80\, Växjö\, 35246
CATEGORIES:Stora hallen,Tävlingsträning
ORGANIZER;CN="Dansklubben Swing":MAILTO:info@swing.se
END:VEVENT
BEGIN:VEVENT
DTSTART;TZID=Europe/Stockholm:20241204T183000
DTEND;TZID=Europe/Stockholm:20241204T193000
DTSTAMP:20260426T045653
CREATED:20240611T201010Z
LAST-MODIFIED:20240611T201010Z
UID:10001640-1733337000-1733340600@www.swing.se
SUMMARY:Boogie Woogie Tävlingsträning
DESCRIPTION:Träningstillfälle för dig som tävlar i Boogie Woogie. \nObservera att det är en annan avgift för den här träningen. Kontakta klubben för mer information om du är intresserad. \nVarmt välkomna till oss på Dansklubben Swing i Växjö!! \n(OBS! Anmälan sker endast genom samverkan med klubben info@swing.se)
URL:https://www.swing.se/event/boogie-woogie-tavlingstraning-3/2024-12-04/
LOCATION:Swinghallen\, Växjö\, Arabygatan 80\, Växjö\, 35246
CATEGORIES:Lilla hallen,Tävlingsträning
ORGANIZER;CN="Dansklubben Swing":MAILTO:info@swing.se
END:VEVENT
BEGIN:VEVENT
DTSTART;TZID=Europe/Stockholm:20241204T193000
DTEND;TZID=Europe/Stockholm:20241204T203000
DTSTAMP:20260426T045653
CREATED:20240611T200957Z
LAST-MODIFIED:20240611T202745Z
UID:10001840-1733340600-1733344200@www.swing.se
SUMMARY:Bugg Tävlingsträning
DESCRIPTION:Träningstillfälle för dig som tävlar i bugg. \nObservera att det är en annan avgift för den här träningen. Kontakta klubben för mer information om du är intresserad. \nVarmt välkomna till oss på Dansklubben Swing i Växjö!! \n(OBS! Anmälan sker endast genom samverkan med klubben info@swing.se)
URL:https://www.swing.se/event/bugg-tavlingstraning-3/2024-12-04/
LOCATION:Swinghallen\, Växjö\, Arabygatan 80\, Växjö\, 35246
CATEGORIES:Lilla hallen,Tävlingsträning
ORGANIZER;CN="Dansklubben Swing":MAILTO:info@swing.se
END:VEVENT
BEGIN:VEVENT
DTSTART;TZID=Europe/Stockholm:20241208T133000
DTEND;TZID=Europe/Stockholm:20241208T160000
DTSTAMP:20260426T045653
CREATED:20240611T201025Z
LAST-MODIFIED:20240611T203159Z
UID:10001749-1733664600-1733673600@www.swing.se
SUMMARY:BRR Tävlingsträning
DESCRIPTION:Träningstillfälle för dig som tävlar i Bugg\, Boogie Woogie\, Rock’n’roll och Lindy Hop. \nIngemar Önnerås är en Sveriges främsta danslärare som för nuvarande är aktiv inom BRR. Han är utbildad och certifierad inom DSF och SDO och har undervisat i Sverige\, Norge\, England och USA. \nHans undervisning präglas av en träningsfilosofi som är helt oberoende av förningstekniker och tränarstall. Detta har hittills resulterat i att hans danspar deltagit i minst en SM-final varje år sedan år 2000. Totalt har Ingemar varit delaktig i 29 SM-guld vunna av 27 olika dansare. \nIngemar har också varit aktiv domare sedan år 1999 och är för närvarande Steg 2 domare i både BRR- och Hip hop-grenarna. \nObservera att det är en annan avgift för den här träningen. Kontakta klubben för mer information om du är intresserad. \nVarmt välkomna till oss på Dansklubben Swing i Växjö!! \n(OBS! Anmälan sker endast genom samverkan med klubben info@swing.se)
URL:https://www.swing.se/event/brr-tavlingstraning/2024-12-08/
LOCATION:Swinghallen\, Växjö\, Arabygatan 80\, Växjö\, 35246
CATEGORIES:Lilla hallen,Tävlingsträning
ORGANIZER;CN="Dansklubben Swing":MAILTO:info@swing.se
END:VEVENT
BEGIN:VEVENT
DTSTART;TZID=Europe/Stockholm:20241211T183000
DTEND;TZID=Europe/Stockholm:20241211T193000
DTSTAMP:20260426T045653
CREATED:20240611T201010Z
LAST-MODIFIED:20240611T201010Z
UID:10001641-1733941800-1733945400@www.swing.se
SUMMARY:Boogie Woogie Tävlingsträning
DESCRIPTION:Träningstillfälle för dig som tävlar i Boogie Woogie. \nObservera att det är en annan avgift för den här träningen. Kontakta klubben för mer information om du är intresserad. \nVarmt välkomna till oss på Dansklubben Swing i Växjö!! \n(OBS! Anmälan sker endast genom samverkan med klubben info@swing.se)
URL:https://www.swing.se/event/boogie-woogie-tavlingstraning-3/2024-12-11/
LOCATION:Swinghallen\, Växjö\, Arabygatan 80\, Växjö\, 35246
CATEGORIES:Lilla hallen,Tävlingsträning
ORGANIZER;CN="Dansklubben Swing":MAILTO:info@swing.se
END:VEVENT
BEGIN:VEVENT
DTSTART;TZID=Europe/Stockholm:20241211T193000
DTEND;TZID=Europe/Stockholm:20241211T203000
DTSTAMP:20260426T045653
CREATED:20240611T200957Z
LAST-MODIFIED:20240611T202745Z
UID:10001841-1733945400-1733949000@www.swing.se
SUMMARY:Bugg Tävlingsträning
DESCRIPTION:Träningstillfälle för dig som tävlar i bugg. \nObservera att det är en annan avgift för den här träningen. Kontakta klubben för mer information om du är intresserad. \nVarmt välkomna till oss på Dansklubben Swing i Växjö!! \n(OBS! Anmälan sker endast genom samverkan med klubben info@swing.se)
URL:https://www.swing.se/event/bugg-tavlingstraning-3/2024-12-11/
LOCATION:Swinghallen\, Växjö\, Arabygatan 80\, Växjö\, 35246
CATEGORIES:Lilla hallen,Tävlingsträning
ORGANIZER;CN="Dansklubben Swing":MAILTO:info@swing.se
END:VEVENT
END:VCALENDAR