BEGIN:VCALENDAR
VERSION:2.0
PRODID:-//Swing - ECPv6.15.17.1//NONSGML v1.0//EN
CALSCALE:GREGORIAN
METHOD:PUBLISH
X-ORIGINAL-URL:https://www.swing.se
X-WR-CALDESC:Händelser för Swing
REFRESH-INTERVAL;VALUE=DURATION:PT1H
X-Robots-Tag:noindex
X-PUBLISHED-TTL:PT1H
BEGIN:VTIMEZONE
TZID:Europe/Stockholm
BEGIN:DAYLIGHT
TZOFFSETFROM:+0100
TZOFFSETTO:+0200
TZNAME:CEST
DTSTART:20250330T010000
END:DAYLIGHT
BEGIN:STANDARD
TZOFFSETFROM:+0200
TZOFFSETTO:+0100
TZNAME:CET
DTSTART:20251026T010000
END:STANDARD
BEGIN:DAYLIGHT
TZOFFSETFROM:+0100
TZOFFSETTO:+0200
TZNAME:CEST
DTSTART:20260329T010000
END:DAYLIGHT
BEGIN:STANDARD
TZOFFSETFROM:+0200
TZOFFSETTO:+0100
TZNAME:CET
DTSTART:20261025T010000
END:STANDARD
BEGIN:DAYLIGHT
TZOFFSETFROM:+0100
TZOFFSETTO:+0200
TZNAME:CEST
DTSTART:20270328T010000
END:DAYLIGHT
BEGIN:STANDARD
TZOFFSETFROM:+0200
TZOFFSETTO:+0100
TZNAME:CET
DTSTART:20271031T010000
END:STANDARD
END:VTIMEZONE
BEGIN:VEVENT
DTSTART;TZID=Europe/Stockholm:20260421T080000
DTEND;TZID=Europe/Stockholm:20260421T170000
DTSTAMP:20260421T162223
CREATED:20260407T172015Z
LAST-MODIFIED:20260407T172015Z
UID:10002914-1776758400-1776790800@www.swing.se
SUMMARY:West Coast Swing Socialdans
DESCRIPTION:Socialdans i West Coast Swing kl. 19.00-21.00.
URL:https://www.swing.se/event/west-coast-swing-socialdans/2026-04-21/
LOCATION:Swinghallen\, Växjö\, Arabygatan 80\, Växjö\, 35246
CATEGORIES:Övrigt,Stora hallen
ORGANIZER;CN="Dansklubben Swing":MAILTO:info@swing.se
END:VEVENT
BEGIN:VEVENT
DTSTART;TZID=Europe/Stockholm:20260421T180000
DTEND;TZID=Europe/Stockholm:20260421T190000
DTSTAMP:20260421T162223
CREATED:20251202T212101Z
LAST-MODIFIED:20251202T212249Z
UID:10002676-1776794400-1776798000@www.swing.se
SUMMARY:Tiodans tävlingsträning
DESCRIPTION:Ort: Växjö\nVar: Stora hallen / Lilla hallen\, Växjö\nNär: Tisdagar 18.00-19.00 / 19.00-20.00\nStartdatum: 2026-01-13\nUppehåll: \nSlutdatum: 2026-05-12\nAntal tillfällen: 18\nKursledare: –\nMedlemskap: Obligatoriskt\nBeskrivning: Träningstillfälle för dig som tävlar i tiodans. \nVarmt välkomna till oss på Dansklubben Swing i Växjö!! \n(OBS! Anmälan sker endast genom samverkan med klubben info@swing.se)
URL:https://www.swing.se/event/tiodans-tavlingstraning-7/2026-04-21/
LOCATION:Swinghallen\, Växjö\, Arabygatan 80\, Växjö\, 35246
CATEGORIES:Stora hallen,Tävlingsträning
ORGANIZER;CN="Dansklubben Swing":MAILTO:info@swing.se
END:VEVENT
BEGIN:VEVENT
DTSTART;TZID=Europe/Stockholm:20260422T190000
DTEND;TZID=Europe/Stockholm:20260422T220000
DTSTAMP:20260421T162223
CREATED:20260407T174639Z
LAST-MODIFIED:20260407T174703Z
UID:10002915-1776884400-1776895200@www.swing.se
SUMMARY:Kursavslutning
DESCRIPTION:Tiden går snabb och snart är vi inne på sista kursveckan\, vilket betyder att det snart är dags för kursavslutning. \nOnsdagen den 22:e april kl 19.00 till 22.00 bjuder vi alla som deltagit på kurs under vårterminen på dans och fika.\nVi hoppas att så många som möjligt vill komma och att vi ses där.\n\nTycker ni att det än är lite tidigt att ta sommaruppehåll finns det flera möjligheter till mer dans efter terminen är slut.\nVi kommer arrangera flera olika helgkurser\, danser och andra event. Vissa kurser kommer även fortsätta några tillfällen extra med socialdans. Håll utkik efter detta på våran hemsida och i våra sociala medier.\n\nHål även ögonen öppna för Gemladanserna som snart börjar.\n\nVarmt välkomna till oss på Dansklubben Swing i Växjö!!
URL:https://www.swing.se/event/kursavslutning-7/
LOCATION:Swinghallen\, Växjö\, Arabygatan 80\, Växjö\, 35246
CATEGORIES:Övrigt,Stora hallen
ORGANIZER;CN="Dansklubben Swing":MAILTO:info@swing.se
END:VEVENT
BEGIN:VEVENT
DTSTART;TZID=Europe/Stockholm:20260426T161500
DTEND;TZID=Europe/Stockholm:20260426T170000
DTSTAMP:20260421T162223
CREATED:20251202T213302Z
LAST-MODIFIED:20251202T213302Z
UID:10002835-1777220100-1777222800@www.swing.se
SUMMARY:Tiodans för tävlingsdansare
DESCRIPTION:Ort: Växjö\nVar: Stora hallen\, Växjö\nNär: Söndagar 16:15-17:15\nStartdatum: 2026-02-01\nUppehåll: 2026-02-22\, 2026-03-01\, 2026-03-15\, 2026-04-05 och 2026-04-19\nSlutdatum: 2026-04-26\nAntal tillfällen: 9\nKursledare: Eva Walden och Tomas Petersson\nMedlemskap: Obligatoriskt\nBeskrivning: Träningstillfälle för dig som tävlar i tiodans i klasserna E\, D\, C.\nVarmt välkomna till oss på Dansklubben Swing i Växjö!! \n(OBS! Anmälan sker genom samverkan med klubben info@swing.se)
URL:https://www.swing.se/event/tiodans-for-tavlingsdansare-5/2026-04-26/
LOCATION:Swinghallen\, Växjö\, Arabygatan 80\, Växjö\, 35246
CATEGORIES:Stora hallen,Tävlingsträning
ORGANIZER;CN="Dansklubben Swing":MAILTO:info@swing.se
END:VEVENT
END:VCALENDAR