BEGIN:VCALENDAR
VERSION:2.0
PRODID:-//Swing - ECPv6.15.17.1//NONSGML v1.0//EN
CALSCALE:GREGORIAN
METHOD:PUBLISH
X-WR-CALNAME:Swing
X-ORIGINAL-URL:https://www.swing.se
X-WR-CALDESC:Händelser för Swing
REFRESH-INTERVAL;VALUE=DURATION:PT1H
X-Robots-Tag:noindex
X-PUBLISHED-TTL:PT1H
BEGIN:VTIMEZONE
TZID:Europe/Stockholm
BEGIN:DAYLIGHT
TZOFFSETFROM:+0100
TZOFFSETTO:+0200
TZNAME:CEST
DTSTART:20250330T010000
END:DAYLIGHT
BEGIN:STANDARD
TZOFFSETFROM:+0200
TZOFFSETTO:+0100
TZNAME:CET
DTSTART:20251026T010000
END:STANDARD
BEGIN:DAYLIGHT
TZOFFSETFROM:+0100
TZOFFSETTO:+0200
TZNAME:CEST
DTSTART:20260329T010000
END:DAYLIGHT
BEGIN:STANDARD
TZOFFSETFROM:+0200
TZOFFSETTO:+0100
TZNAME:CET
DTSTART:20261025T010000
END:STANDARD
BEGIN:DAYLIGHT
TZOFFSETFROM:+0100
TZOFFSETTO:+0200
TZNAME:CEST
DTSTART:20270328T010000
END:DAYLIGHT
BEGIN:STANDARD
TZOFFSETFROM:+0200
TZOFFSETTO:+0100
TZNAME:CET
DTSTART:20271031T010000
END:STANDARD
END:VTIMEZONE
BEGIN:VEVENT
DTSTART;TZID=Europe/Stockholm:20260607T163000
DTEND;TZID=Europe/Stockholm:20260607T203000
DTSTAMP:20260421T190333
CREATED:20251202T214711Z
LAST-MODIFIED:20251202T214711Z
UID:10002864-1780849800-1780864200@www.swing.se
SUMMARY:Orkesterdans – Casanovas
DESCRIPTION:Kom och dansa till Casanovas 16.30 – 20.30 i Gemla Folkets Park. \nDansen är öppen för alla. \nVarmt välkomna till oss på Dansklubben Swing i Växjö!!
URL:https://www.swing.se/event/orkesterdans-casanovas-5/
LOCATION:Folket Park\, Gemla\, Industrivägen 1\, Gemla\, 36032\, Sverige
CATEGORIES:Orkesterdanser
ORGANIZER;CN="Dansklubben Swing":MAILTO:info@swing.se
END:VEVENT
BEGIN:VEVENT
DTSTART;TZID=Europe/Stockholm:20260613T163000
DTEND;TZID=Europe/Stockholm:20260613T203000
DTSTAMP:20260421T190333
CREATED:20251202T215238Z
LAST-MODIFIED:20251202T215238Z
UID:10002865-1781368200-1781382600@www.swing.se
SUMMARY:Orkesterdans – Streaks
DESCRIPTION:Kom och dansa till Streaks 16.30 – 20.30 i Gemla Folkets Park. \nDansen är öppen för alla. \nVarmt välkomna till oss på Dansklubben Swing i Växjö!!
URL:https://www.swing.se/event/orkesterdans-streaks-2/
LOCATION:Folket Park\, Gemla\, Industrivägen 1\, Gemla\, 36032\, Sverige
CATEGORIES:Orkesterdanser
ORGANIZER;CN="Dansklubben Swing":MAILTO:info@swing.se
END:VEVENT
BEGIN:VEVENT
DTSTART;TZID=Europe/Stockholm:20260614T163000
DTEND;TZID=Europe/Stockholm:20260614T203000
DTSTAMP:20260421T190333
CREATED:20251202T215323Z
LAST-MODIFIED:20251202T215323Z
UID:10002866-1781454600-1781469000@www.swing.se
SUMMARY:Orkesterdans – Sannex
DESCRIPTION:Kom och dansa till Sannex 16.30 – 20.30 i Gemla Folkets Park. \nDansen är öppen för alla. \nVarmt välkomna till oss på Dansklubben Swing i Växjö!!
URL:https://www.swing.se/event/orkesterdans-sannex-4/
LOCATION:Folket Park\, Gemla\, Industrivägen 1\, Gemla\, 36032\, Sverige
CATEGORIES:Orkesterdanser
ORGANIZER;CN="Dansklubben Swing":MAILTO:info@swing.se
END:VEVENT
END:VCALENDAR