BEGIN:VCALENDAR
VERSION:2.0
PRODID:-//Swing - ECPv6.15.17.1//NONSGML v1.0//EN
CALSCALE:GREGORIAN
METHOD:PUBLISH
X-ORIGINAL-URL:https://www.swing.se
X-WR-CALDESC:Händelser för Swing
REFRESH-INTERVAL;VALUE=DURATION:PT1H
X-Robots-Tag:noindex
X-PUBLISHED-TTL:PT1H
BEGIN:VTIMEZONE
TZID:Europe/Stockholm
BEGIN:DAYLIGHT
TZOFFSETFROM:+0100
TZOFFSETTO:+0200
TZNAME:CEST
DTSTART:20250330T010000
END:DAYLIGHT
BEGIN:STANDARD
TZOFFSETFROM:+0200
TZOFFSETTO:+0100
TZNAME:CET
DTSTART:20251026T010000
END:STANDARD
BEGIN:DAYLIGHT
TZOFFSETFROM:+0100
TZOFFSETTO:+0200
TZNAME:CEST
DTSTART:20260329T010000
END:DAYLIGHT
BEGIN:STANDARD
TZOFFSETFROM:+0200
TZOFFSETTO:+0100
TZNAME:CET
DTSTART:20261025T010000
END:STANDARD
BEGIN:DAYLIGHT
TZOFFSETFROM:+0100
TZOFFSETTO:+0200
TZNAME:CEST
DTSTART:20270328T010000
END:DAYLIGHT
BEGIN:STANDARD
TZOFFSETFROM:+0200
TZOFFSETTO:+0100
TZNAME:CET
DTSTART:20271031T010000
END:STANDARD
END:VTIMEZONE
BEGIN:VEVENT
DTSTART;TZID=Europe/Stockholm:20260330T193000
DTEND;TZID=Europe/Stockholm:20260330T203000
DTSTAMP:20260424T022821
CREATED:20251202T211458Z
LAST-MODIFIED:20251202T211643Z
UID:10002609-1774899000-1774902600@www.swing.se
SUMMARY:Bugg Socialdans – ledarstyrd
DESCRIPTION:Ort: Växjö\nVar: Lilla hallen\, Växjö\nNär: Måndagar 19.30-20.30\nStartdatum: 2026-01-19\nUppehåll: 2026-04-06\nSlutdatum: 2026-04-13\nAntal tillfällen: 12\nKursledare: Kenneth Welin och Susanne Lindqvist\nMedlemskap: Obligatoriskt\nBeskrivning: Vi ses för en härlig timme tillsammans och värmer upp inför steg 3 med en ledarstyrd socialdans. Vi dansar till lite olika tempon och olika typer av musik. Vi använder oss av garage och framflytt. Självklart är du välkommen även om du inte planerar att fortsätta kvällen med steg 3. \nVarmt välkomna till oss på Dansklubben Swing i Växjö!!
URL:https://www.swing.se/event/bugg-socialdans-ledarstyrd-3/2026-03-30/
LOCATION:Swinghallen\, Växjö\, Arabygatan 80\, Växjö\, 35246
CATEGORIES:Lilla hallen,Ordinarie kursverksamhet
ORGANIZER;CN="Dansklubben Swing":MAILTO:info@swing.se
END:VEVENT
BEGIN:VEVENT
DTSTART;TZID=Europe/Stockholm:20260331T170000
DTEND;TZID=Europe/Stockholm:20260331T190000
DTSTAMP:20260424T022821
CREATED:20251202T212014Z
LAST-MODIFIED:20251202T212119Z
UID:10002633-1774976400-1774983600@www.swing.se
SUMMARY:BRR Tävlingsträning
DESCRIPTION:Ort: Växjö\nVar: Lilla hallen\, Växjö\nNär: Tisdagar 17.00-19.00\nStartdatum: 2026-01-13\nUppehåll: \nSlutdatum: 2025-05-26\nAntal tillfällen: 20\nKursledare: –\nMedlemskap: Obligatoriskt\nBeskrivning: Träningstillfälle för dig som tävlar i någon av BRR-danserna. \nObservera att det är en annan avgift för den här träningen. Kontakta klubben för mer information om du är intresserad. \nVarmt välkomna till oss på Dansklubben Swing i Växjö!! \n(OBS! Anmälan sker endast genom samverkan med klubben info@swing.se)
URL:https://www.swing.se/event/brr-tavlingstraning-3/2026-03-31/
LOCATION:Swinghallen\, Växjö\, Arabygatan 80\, Växjö\, 35246
CATEGORIES:Lilla hallen,Tävlingsträning
ORGANIZER;CN="Dansklubben Swing":MAILTO:info@swing.se
END:VEVENT
BEGIN:VEVENT
DTSTART;TZID=Europe/Stockholm:20260331T190000
DTEND;TZID=Europe/Stockholm:20260331T200000
DTSTAMP:20260424T022821
CREATED:20251202T212208Z
LAST-MODIFIED:20251202T212208Z
UID:10002656-1774983600-1774987200@www.swing.se
SUMMARY:Tiodans tävlingsträning
DESCRIPTION:Ort: Växjö\nVar: Stora hallen / Lilla hallen\, Växjö\nNär: Tisdagar 18.00-19.00 / 19.00-20.00\nStartdatum: 2026-01-13\nUppehåll: \nSlutdatum: 2026-05-12\nAntal tillfällen: 18\nKursledare: –\nMedlemskap: Obligatoriskt\nBeskrivning: Träningstillfälle för dig som tävlar i tiodans. \nVarmt välkomna till oss på Dansklubben Swing i Växjö!! \n(OBS! Anmälan sker endast genom samverkan med klubben info@swing.se)
URL:https://www.swing.se/event/tiodans-tavlingstraning-8/2026-03-31/
LOCATION:Swinghallen\, Växjö\, Arabygatan 80\, Växjö\, 35246
CATEGORIES:Lilla hallen,Tävlingsträning
ORGANIZER;CN="Dansklubben Swing":MAILTO:info@swing.se
END:VEVENT
BEGIN:VEVENT
DTSTART;TZID=Europe/Stockholm:20260401T183000
DTEND;TZID=Europe/Stockholm:20260401T193000
DTSTAMP:20260424T022821
CREATED:20251202T212640Z
LAST-MODIFIED:20251202T212640Z
UID:10002739-1775068200-1775071800@www.swing.se
SUMMARY:Boogie Woogie Tävlingsträning
DESCRIPTION:Ort: Växjö\nVar: Lilla hallen\, Växjö\nNär: Onsdagar 18.30-19.30\nStartdatum: 2026-01-14\nUppehåll: \nSlutdatum: 2026-05-27\nAntal tillfällen: 20\nKursledare: Joel Lundberg\nMedlemskap: Obligatoriskt\nBeskrivning: Träningstillfälle för dig som tävlar i Boogie Woogie. \nObservera att det är en annan avgift för den här träningen. Kontakta klubben för mer information om du är intresserad. \nVarmt välkomna till oss på Dansklubben Swing i Växjö!! \n(OBS! Anmälan sker endast genom samverkan med klubben info@swing.se)
URL:https://www.swing.se/event/boogie-woogie-tavlingstraning-6/2026-04-01/
LOCATION:Swinghallen\, Växjö\, Arabygatan 80\, Växjö\, 35246
CATEGORIES:Lilla hallen,Tävlingsträning
ORGANIZER;CN="Dansklubben Swing":MAILTO:info@swing.se
END:VEVENT
BEGIN:VEVENT
DTSTART;TZID=Europe/Stockholm:20260401T193000
DTEND;TZID=Europe/Stockholm:20260401T210000
DTSTAMP:20260424T022821
CREATED:20251202T212714Z
LAST-MODIFIED:20251202T212714Z
UID:10002759-1775071800-1775077200@www.swing.se
SUMMARY:Bugg Tävlingsträning
DESCRIPTION:Ort: Växjö\nVar: Lilla hallen\, Växjö\nNär: Onsdagar 19.30-21.00\nStartdatum: 2026-01-14\nUppehåll: \nSlutdatum: 2026-05-27\nAntal tillfällen: 20\nKursledare: Joel Lundberg\nMedlemskap: Obligatoriskt\nBeskrivning: Träningstillfälle för dig som tävlar i bugg. \nObservera att det är en annan avgift för den här träningen. Kontakta klubben för mer information om du är intresserad. \nVarmt välkomna till oss på Dansklubben Swing i Växjö!! \n(OBS! Anmälan sker endast genom samverkan med klubben info@swing.se)
URL:https://www.swing.se/event/bugg-tavlingstraning-6/2026-04-01/
LOCATION:Swinghallen\, Växjö\, Arabygatan 80\, Växjö\, 35246
CATEGORIES:Lilla hallen,Tävlingsträning
ORGANIZER;CN="Dansklubben Swing":MAILTO:info@swing.se
END:VEVENT
END:VCALENDAR