BEGIN:VCALENDAR
VERSION:2.0
PRODID:-//Swing - ECPv6.15.17.1//NONSGML v1.0//EN
CALSCALE:GREGORIAN
METHOD:PUBLISH
X-WR-CALNAME:Swing
X-ORIGINAL-URL:https://www.swing.se
X-WR-CALDESC:Händelser för Swing
REFRESH-INTERVAL;VALUE=DURATION:PT1H
X-Robots-Tag:noindex
X-PUBLISHED-TTL:PT1H
BEGIN:VTIMEZONE
TZID:Europe/Stockholm
BEGIN:DAYLIGHT
TZOFFSETFROM:+0100
TZOFFSETTO:+0200
TZNAME:CEST
DTSTART:20240331T010000
END:DAYLIGHT
BEGIN:STANDARD
TZOFFSETFROM:+0200
TZOFFSETTO:+0100
TZNAME:CET
DTSTART:20241027T010000
END:STANDARD
BEGIN:DAYLIGHT
TZOFFSETFROM:+0100
TZOFFSETTO:+0200
TZNAME:CEST
DTSTART:20250330T010000
END:DAYLIGHT
BEGIN:STANDARD
TZOFFSETFROM:+0200
TZOFFSETTO:+0100
TZNAME:CET
DTSTART:20251026T010000
END:STANDARD
BEGIN:DAYLIGHT
TZOFFSETFROM:+0100
TZOFFSETTO:+0200
TZNAME:CEST
DTSTART:20260329T010000
END:DAYLIGHT
BEGIN:STANDARD
TZOFFSETFROM:+0200
TZOFFSETTO:+0100
TZNAME:CET
DTSTART:20261025T010000
END:STANDARD
END:VTIMEZONE
BEGIN:VEVENT
DTSTART;TZID=Europe/Stockholm:20251103T192000
DTEND;TZID=Europe/Stockholm:20251103T202000
DTSTAMP:20260426T045937
CREATED:20250906T122859Z
LAST-MODIFIED:20250906T122859Z
UID:10002263-1762197600-1762201200@www.swing.se
SUMMARY:Bugg Socialdans – ledarstyrd
DESCRIPTION:Ort: Växjö\nVar: Lilla hallen\, Växjö\nNär: Måndagar 19.20-20.20\nStartdatum: 2025-09-08\nUppehåll:\nSlutdatum: 2025-11-24\nAntal tillfällen: 12\nKursledare: Kenneth Welin och Susanne Lindqvist\nMedlemskap: Obligatoriskt\nBeskrivning: Vi ses för en härlig timme tillsammans och värmer upp inför steg 3 med en ledarstyrd socialdans. Vi dansar till lite olika tempon och olika typer av musik. Vi använder oss av garage och framflytt. Självklart är du välkommen även om du inte planerar att fortsätta kvällen med steg 3. \nVarmt välkomna till oss på Dansklubben Swing i Växjö!!
URL:https://www.swing.se/event/bugg-socialdans-ledarstyrd-2/2025-11-03/
LOCATION:Swinghallen\, Växjö\, Arabygatan 80\, Växjö\, 35246
CATEGORIES:Lilla hallen,Ordinarie kursverksamhet
ORGANIZER;CN="Dansklubben Swing":MAILTO:info@swing.se
END:VEVENT
BEGIN:VEVENT
DTSTART;TZID=Europe/Stockholm:20251104T170000
DTEND;TZID=Europe/Stockholm:20251104T190000
DTSTAMP:20260426T045937
CREATED:20250906T123515Z
LAST-MODIFIED:20250906T123733Z
UID:10002321-1762275600-1762282800@www.swing.se
SUMMARY:BRR Tävlingsträning
DESCRIPTION:Ort: Växjö\nVar: Lilla hallen\, Växjö\nNär: Tisdagar 17.00-19.00\nStartdatum: 2025-08-27\nUppehåll: \nSlutdatum: 2025-12-17\nAntal tillfällen: 17\nKursledare: –\nMedlemskap: Obligatoriskt\nBeskrivning: Träningstillfälle för dig som tävlar i någon av BRR-danserna. \nObservera att det är en annan avgift för den här träningen. Kontakta klubben för mer information om du är intresserad. \nVarmt välkomna till oss på Dansklubben Swing i Växjö!! \n(OBS! Anmälan sker endast genom samverkan med klubben info@swing.se)
URL:https://www.swing.se/event/brr-tavlingstraning-2-2/2025-11-04/
LOCATION:Swinghallen\, Växjö\, Arabygatan 80\, Växjö\, 35246
CATEGORIES:Lilla hallen,Tävlingsträning
ORGANIZER;CN="Dansklubben Swing":MAILTO:info@swing.se
END:VEVENT
BEGIN:VEVENT
DTSTART;TZID=Europe/Stockholm:20251104T190000
DTEND;TZID=Europe/Stockholm:20251104T200000
DTSTAMP:20260426T045937
CREATED:20250906T124252Z
LAST-MODIFIED:20250906T124252Z
UID:10002338-1762282800-1762286400@www.swing.se
SUMMARY:Tiodans tävlingsträning
DESCRIPTION:Ort: Växjö\nVar: Lilla hallen\, Växjö\nNär: Tisdagar 19.00-20.00\nStartdatum: 2025-08-26\nUppehåll: \nSlutdatum: 2025-12-09\nAntal tillfällen: 16\nKursledare: –\nMedlemskap: Obligatoriskt\nBeskrivning: Träningstillfälle för dig som tävlar i tiodans. \nVarmt välkomna till oss på Dansklubben Swing i Växjö!! \n(OBS! Anmälan sker endast genom samverkan med klubben info@swing.se)
URL:https://www.swing.se/event/tiodans-tavlingstraning-6/2025-11-04/
LOCATION:Swinghallen\, Växjö\, Arabygatan 80\, Växjö\, 35246
CATEGORIES:Lilla hallen,Tävlingsträning
ORGANIZER;CN="Dansklubben Swing":MAILTO:info@swing.se
END:VEVENT
BEGIN:VEVENT
DTSTART;TZID=Europe/Stockholm:20251105T183000
DTEND;TZID=Europe/Stockholm:20251105T193000
DTSTAMP:20260426T045937
CREATED:20250906T124910Z
LAST-MODIFIED:20250906T124910Z
UID:10002414-1762367400-1762371000@www.swing.se
SUMMARY:Boogie Woogie Tävlingsträning
DESCRIPTION:Ort: Växjö\nVar: Lilla hallen\, Växjö\nNär: Onsdagar 18.30-19.30\nStartdatum: 2025-08-27\nUppehåll: \nSlutdatum: 2025-12-17\nAntal tillfällen: 17\nKursledare: Joel Lundberg\nMedlemskap: Obligatoriskt\nBeskrivning: Träningstillfälle för dig som tävlar i Boogie Woogie. \nObservera att det är en annan avgift för den här träningen. Kontakta klubben för mer information om du är intresserad. \nVarmt välkomna till oss på Dansklubben Swing i Växjö!! \n(OBS! Anmälan sker endast genom samverkan med klubben info@swing.se)
URL:https://www.swing.se/event/boogie-woogie-tavlingstraning-5/2025-11-05/
LOCATION:Swinghallen\, Växjö\, Arabygatan 80\, Växjö\, 35246
CATEGORIES:Lilla hallen,Tävlingsträning
ORGANIZER;CN="Dansklubben Swing":MAILTO:info@swing.se
END:VEVENT
BEGIN:VEVENT
DTSTART;TZID=Europe/Stockholm:20251105T193000
DTEND;TZID=Europe/Stockholm:20251105T210000
DTSTAMP:20260426T045937
CREATED:20250906T125043Z
LAST-MODIFIED:20250906T125043Z
UID:10002431-1762371000-1762376400@www.swing.se
SUMMARY:Bugg Tävlingsträning
DESCRIPTION:Ort: Växjö\nVar: Lilla hallen\, Växjö\nNär: Onsdagar 19.30-21.00\nStartdatum: 2025-08-27\nUppehåll: \nSlutdatum: 2025-12-17\nAntal tillfällen: 17\nKursledare: Joel Lundberg\nMedlemskap: Obligatoriskt\nBeskrivning: Träningstillfälle för dig som tävlar i bugg. \nObservera att det är en annan avgift för den här träningen. Kontakta klubben för mer information om du är intresserad. \nVarmt välkomna till oss på Dansklubben Swing i Växjö!! \n(OBS! Anmälan sker endast genom samverkan med klubben info@swing.se)
URL:https://www.swing.se/event/bugg-tavlingstraning-5/2025-11-05/
LOCATION:Swinghallen\, Växjö\, Arabygatan 80\, Växjö\, 35246
CATEGORIES:Lilla hallen,Tävlingsträning
ORGANIZER;CN="Dansklubben Swing":MAILTO:info@swing.se
END:VEVENT
BEGIN:VEVENT
DTSTART;TZID=Europe/Stockholm:20251106T183000
DTEND;TZID=Europe/Stockholm:20251106T193000
DTSTAMP:20260426T045937
CREATED:20250906T130059Z
LAST-MODIFIED:20250906T130059Z
UID:10002494-1762453800-1762457400@www.swing.se
SUMMARY:Lindy hop Steg 1
DESCRIPTION:Ort: Växjö\nVar: Lilla hallen\, Växjö\nNär: Torsdagar 18.30-19.30\nStartdatum: 2025-09-11\nUppehåll:\nSlutdatum: 2025-11-27\nAntal tillfällen: 12\nKursledare: Cecilia Andersson och Sami Tobias Nyckling\nMedlemskap: Obligatoriskt\nBeskrivning: Sugen på att lära dig swing? Detta är kursen för dig som aldrig dansat Lindy hop tidigare eller för dig som vill repetera grunderna. \nVarmt välkomna till oss på Dansklubben Swing i Växjö!!
URL:https://www.swing.se/event/lindy-hop-steg-1/2025-11-06/
LOCATION:Swinghallen\, Växjö\, Arabygatan 80\, Växjö\, 35246
CATEGORIES:Lilla hallen,Ordinarie kursverksamhet
ORGANIZER;CN="Dansklubben Swing":MAILTO:info@swing.se
END:VEVENT
BEGIN:VEVENT
DTSTART;TZID=Europe/Stockholm:20251106T193000
DTEND;TZID=Europe/Stockholm:20251106T203000
DTSTAMP:20260426T045937
CREATED:20250906T130145Z
LAST-MODIFIED:20250906T130145Z
UID:10002506-1762457400-1762461000@www.swing.se
SUMMARY:Blues Steg 1
DESCRIPTION:Ort: Växjö\nVar: Lilla hallen\, Växjö\nNär: Torsdagar 19.30-20.30\nStartdatum: 2025-09-11\nUppehåll:\nSlutdatum: 2025-11-27\nAntal tillfällen: 12\nKursledare: Viktoria Jägervall och Sami Tobias Nyckling\nMedlemskap: Obligatoriskt\nBeskrivning: En kurs för dig som aldrig dansat Blues innan. På kursen lär du dig grunderna som du kan nyttja på socialdansgolvet när tempot går ner. Du är naturligtvis även välkommen om du har dansat Blues tidigare. \nVarmt välkomna till oss på Dansklubben Swing i Växjö!!
URL:https://www.swing.se/event/blues-steg-1/2025-11-06/
LOCATION:Swinghallen\, Växjö\, Arabygatan 80\, Växjö\, 35246
CATEGORIES:Lilla hallen,Ordinarie kursverksamhet
ORGANIZER;CN="Dansklubben Swing":MAILTO:info@swing.se
END:VEVENT
BEGIN:VEVENT
DTSTART;TZID=Europe/Stockholm:20251109T163000
DTEND;TZID=Europe/Stockholm:20251109T203000
DTSTAMP:20260426T045937
CREATED:20250906T133226Z
LAST-MODIFIED:20250906T133226Z
UID:10002566-1762705800-1762720200@www.swing.se
SUMMARY:Orkesterdans – PH:s
DESCRIPTION:Kom och dansa till PH:s 16.30 – 20.30 i Swinghallen. \nDansen är öppen för alla. \nVarmt välkomna till oss på Dansklubben Swing i Växjö!!
URL:https://www.swing.se/event/orkesterdans-phs-2/
LOCATION:Swinghallen\, Växjö\, Arabygatan 80\, Växjö\, 35246
CATEGORIES:Lilla hallen,Orkesterdanser,Stora hallen
ORGANIZER;CN="Dansklubben Swing":MAILTO:info@swing.se
END:VEVENT
END:VCALENDAR