BEGIN:VCALENDAR
VERSION:2.0
PRODID:-//Swing - ECPv6.15.17.1//NONSGML v1.0//EN
CALSCALE:GREGORIAN
METHOD:PUBLISH
X-ORIGINAL-URL:https://www.swing.se
X-WR-CALDESC:Händelser för Swing
REFRESH-INTERVAL;VALUE=DURATION:PT1H
X-Robots-Tag:noindex
X-PUBLISHED-TTL:PT1H
BEGIN:VTIMEZONE
TZID:Europe/Stockholm
BEGIN:DAYLIGHT
TZOFFSETFROM:+0100
TZOFFSETTO:+0200
TZNAME:CEST
DTSTART:20230326T010000
END:DAYLIGHT
BEGIN:STANDARD
TZOFFSETFROM:+0200
TZOFFSETTO:+0100
TZNAME:CET
DTSTART:20231029T010000
END:STANDARD
BEGIN:DAYLIGHT
TZOFFSETFROM:+0100
TZOFFSETTO:+0200
TZNAME:CEST
DTSTART:20240331T010000
END:DAYLIGHT
BEGIN:STANDARD
TZOFFSETFROM:+0200
TZOFFSETTO:+0100
TZNAME:CET
DTSTART:20241027T010000
END:STANDARD
BEGIN:DAYLIGHT
TZOFFSETFROM:+0100
TZOFFSETTO:+0200
TZNAME:CEST
DTSTART:20250330T010000
END:DAYLIGHT
BEGIN:STANDARD
TZOFFSETFROM:+0200
TZOFFSETTO:+0100
TZNAME:CET
DTSTART:20251026T010000
END:STANDARD
END:VTIMEZONE
BEGIN:VEVENT
DTSTART;TZID=Europe/Stockholm:20241124T133000
DTEND;TZID=Europe/Stockholm:20241124T160000
DTSTAMP:20260425T172441
CREATED:20240611T201025Z
LAST-MODIFIED:20240611T203159Z
UID:10001747-1732455000-1732464000@www.swing.se
SUMMARY:BRR Tävlingsträning
DESCRIPTION:Träningstillfälle för dig som tävlar i Bugg\, Boogie Woogie\, Rock’n’roll och Lindy Hop. \nIngemar Önnerås är en Sveriges främsta danslärare som för nuvarande är aktiv inom BRR. Han är utbildad och certifierad inom DSF och SDO och har undervisat i Sverige\, Norge\, England och USA. \nHans undervisning präglas av en träningsfilosofi som är helt oberoende av förningstekniker och tränarstall. Detta har hittills resulterat i att hans danspar deltagit i minst en SM-final varje år sedan år 2000. Totalt har Ingemar varit delaktig i 29 SM-guld vunna av 27 olika dansare. \nIngemar har också varit aktiv domare sedan år 1999 och är för närvarande Steg 2 domare i både BRR- och Hip hop-grenarna. \nObservera att det är en annan avgift för den här träningen. Kontakta klubben för mer information om du är intresserad. \nVarmt välkomna till oss på Dansklubben Swing i Växjö!! \n(OBS! Anmälan sker endast genom samverkan med klubben info@swing.se)
URL:https://www.swing.se/event/brr-tavlingstraning/2024-11-24/
LOCATION:Swinghallen\, Växjö\, Arabygatan 80\, Växjö\, 35246
CATEGORIES:Lilla hallen,Tävlingsträning
ORGANIZER;CN="Dansklubben Swing":MAILTO:info@swing.se
END:VEVENT
BEGIN:VEVENT
DTSTART;TZID=Europe/Stockholm:20241120T193000
DTEND;TZID=Europe/Stockholm:20241120T203000
DTSTAMP:20260425T172441
CREATED:20240611T200957Z
LAST-MODIFIED:20240611T202745Z
UID:10001838-1732131000-1732134600@www.swing.se
SUMMARY:Bugg Tävlingsträning
DESCRIPTION:Träningstillfälle för dig som tävlar i bugg. \nObservera att det är en annan avgift för den här träningen. Kontakta klubben för mer information om du är intresserad. \nVarmt välkomna till oss på Dansklubben Swing i Växjö!! \n(OBS! Anmälan sker endast genom samverkan med klubben info@swing.se)
URL:https://www.swing.se/event/bugg-tavlingstraning-3/2024-11-20/
LOCATION:Swinghallen\, Växjö\, Arabygatan 80\, Växjö\, 35246
CATEGORIES:Lilla hallen,Tävlingsträning
ORGANIZER;CN="Dansklubben Swing":MAILTO:info@swing.se
END:VEVENT
BEGIN:VEVENT
DTSTART;TZID=Europe/Stockholm:20241120T183000
DTEND;TZID=Europe/Stockholm:20241120T193000
DTSTAMP:20260425T172441
CREATED:20240611T201010Z
LAST-MODIFIED:20240611T201010Z
UID:10001638-1732127400-1732131000@www.swing.se
SUMMARY:Boogie Woogie Tävlingsträning
DESCRIPTION:Träningstillfälle för dig som tävlar i Boogie Woogie. \nObservera att det är en annan avgift för den här träningen. Kontakta klubben för mer information om du är intresserad. \nVarmt välkomna till oss på Dansklubben Swing i Växjö!! \n(OBS! Anmälan sker endast genom samverkan med klubben info@swing.se)
URL:https://www.swing.se/event/boogie-woogie-tavlingstraning-3/2024-11-20/
LOCATION:Swinghallen\, Växjö\, Arabygatan 80\, Växjö\, 35246
CATEGORIES:Lilla hallen,Tävlingsträning
ORGANIZER;CN="Dansklubben Swing":MAILTO:info@swing.se
END:VEVENT
BEGIN:VEVENT
DTSTART;TZID=Europe/Stockholm:20241120T180000
DTEND;TZID=Europe/Stockholm:20241120T191500
DTSTAMP:20260425T172441
CREATED:20240611T200926Z
LAST-MODIFIED:20240611T200926Z
UID:10001598-1732125600-1732130100@www.swing.se
SUMMARY:Bugg parträning tävling
DESCRIPTION:Funderar ni på att börja tävla? Utmana er dans som par? Då är detta kursen för er. Vi kommer jobba med teknik och musikanpassning för tävlingsgolvet. Öva på att ta plats och visa upp vår dans. Våga testa nya turer och rörelser på egen hand genom att lyssna på musikens uppbyggnad. Vi håller ett högt tempo och peppar varandra mot att ta oss ut på tävlingsgolvet!\nMellan 18.00 och 18.15 kör vi uppvärmning och dropp in innan vi kör igång kursen ordentligt.\nVarmt välkomna till oss på Dansklubben Swing i Växjö!! \nSe vårt kursprogram för anmälan.
URL:https://www.swing.se/event/bugg-partraning-tavling-2/2024-11-20/
LOCATION:Swinghallen\, Växjö\, Arabygatan 80\, Växjö\, 35246
CATEGORIES:Stora hallen,Tävlingsträning
ORGANIZER;CN="Dansklubben Swing":MAILTO:info@swing.se
END:VEVENT
BEGIN:VEVENT
DTSTART;TZID=Europe/Stockholm:20241119T180000
DTEND;TZID=Europe/Stockholm:20241119T193000
DTSTAMP:20260425T172441
CREATED:20240611T200941Z
LAST-MODIFIED:20240611T200941Z
UID:10001538-1732039200-1732044600@www.swing.se
SUMMARY:Tiodans tävlingsträning
DESCRIPTION:Träningstillfälle för dig som tävlar i tiodans.\nVarmt välkomna till oss på Dansklubben Swing i Växjö!! \n(OBS! Anmälan sker endast genom samverkan med klubben info@swing.se)
URL:https://www.swing.se/event/tiodans-tavlingstraning-3/2024-11-19/
LOCATION:Swinghallen\, Växjö\, Arabygatan 80\, Växjö\, 35246
CATEGORIES:Stora hallen,Tävlingsträning
ORGANIZER;CN="Dansklubben Swing":MAILTO:info@swing.se
END:VEVENT
BEGIN:VEVENT
DTSTART;TZID=Europe/Stockholm:20241117T161500
DTEND;TZID=Europe/Stockholm:20241117T171500
DTSTAMP:20260425T172441
CREATED:20240611T200912Z
LAST-MODIFIED:20240611T200912Z
UID:10001757-1731860100-1731863700@www.swing.se
SUMMARY:Tiodans för tävlingsdansare
DESCRIPTION:Träningstillfälle för dig som tävlar i tiodans i klasserna E\, D\, C.\nVarmt välkomna till oss på Dansklubben Swing i Växjö!! \n(OBS! Anmälan sker genom samverkan med klubben info@swing.se)
URL:https://www.swing.se/event/tiodans-for-tavlingsdansare-2/2024-11-17/
LOCATION:Swinghallen\, Växjö\, Arabygatan 80\, Växjö\, 35246
CATEGORIES:Stora hallen,Tävlingsträning
ORGANIZER;CN="Dansklubben Swing":MAILTO:info@swing.se
END:VEVENT
BEGIN:VEVENT
DTSTART;TZID=Europe/Stockholm:20241117T133000
DTEND;TZID=Europe/Stockholm:20241117T160000
DTSTAMP:20260425T172441
CREATED:20240611T201025Z
LAST-MODIFIED:20240611T203159Z
UID:10001746-1731850200-1731859200@www.swing.se
SUMMARY:BRR Tävlingsträning
DESCRIPTION:Träningstillfälle för dig som tävlar i Bugg\, Boogie Woogie\, Rock’n’roll och Lindy Hop. \nIngemar Önnerås är en Sveriges främsta danslärare som för nuvarande är aktiv inom BRR. Han är utbildad och certifierad inom DSF och SDO och har undervisat i Sverige\, Norge\, England och USA. \nHans undervisning präglas av en träningsfilosofi som är helt oberoende av förningstekniker och tränarstall. Detta har hittills resulterat i att hans danspar deltagit i minst en SM-final varje år sedan år 2000. Totalt har Ingemar varit delaktig i 29 SM-guld vunna av 27 olika dansare. \nIngemar har också varit aktiv domare sedan år 1999 och är för närvarande Steg 2 domare i både BRR- och Hip hop-grenarna. \nObservera att det är en annan avgift för den här träningen. Kontakta klubben för mer information om du är intresserad. \nVarmt välkomna till oss på Dansklubben Swing i Växjö!! \n(OBS! Anmälan sker endast genom samverkan med klubben info@swing.se)
URL:https://www.swing.se/event/brr-tavlingstraning/2024-11-17/
LOCATION:Swinghallen\, Växjö\, Arabygatan 80\, Växjö\, 35246
CATEGORIES:Lilla hallen,Tävlingsträning
ORGANIZER;CN="Dansklubben Swing":MAILTO:info@swing.se
END:VEVENT
BEGIN:VEVENT
DTSTART;TZID=Europe/Stockholm:20241113T193000
DTEND;TZID=Europe/Stockholm:20241113T203000
DTSTAMP:20260425T172441
CREATED:20240611T200957Z
LAST-MODIFIED:20240611T202745Z
UID:10001653-1731526200-1731529800@www.swing.se
SUMMARY:Bugg Tävlingsträning
DESCRIPTION:Träningstillfälle för dig som tävlar i bugg. \nObservera att det är en annan avgift för den här träningen. Kontakta klubben för mer information om du är intresserad. \nVarmt välkomna till oss på Dansklubben Swing i Växjö!! \n(OBS! Anmälan sker endast genom samverkan med klubben info@swing.se)
URL:https://www.swing.se/event/bugg-tavlingstraning-3/2024-11-13/
LOCATION:Swinghallen\, Växjö\, Arabygatan 80\, Växjö\, 35246
CATEGORIES:Lilla hallen,Tävlingsträning
ORGANIZER;CN="Dansklubben Swing":MAILTO:info@swing.se
END:VEVENT
BEGIN:VEVENT
DTSTART;TZID=Europe/Stockholm:20241113T183000
DTEND;TZID=Europe/Stockholm:20241113T193000
DTSTAMP:20260425T172441
CREATED:20240611T201010Z
LAST-MODIFIED:20240611T201010Z
UID:10001637-1731522600-1731526200@www.swing.se
SUMMARY:Boogie Woogie Tävlingsträning
DESCRIPTION:Träningstillfälle för dig som tävlar i Boogie Woogie. \nObservera att det är en annan avgift för den här träningen. Kontakta klubben för mer information om du är intresserad. \nVarmt välkomna till oss på Dansklubben Swing i Växjö!! \n(OBS! Anmälan sker endast genom samverkan med klubben info@swing.se)
URL:https://www.swing.se/event/boogie-woogie-tavlingstraning-3/2024-11-13/
LOCATION:Swinghallen\, Växjö\, Arabygatan 80\, Växjö\, 35246
CATEGORIES:Lilla hallen,Tävlingsträning
ORGANIZER;CN="Dansklubben Swing":MAILTO:info@swing.se
END:VEVENT
BEGIN:VEVENT
DTSTART;TZID=Europe/Stockholm:20241113T180000
DTEND;TZID=Europe/Stockholm:20241113T191500
DTSTAMP:20260425T172441
CREATED:20240611T200926Z
LAST-MODIFIED:20240611T200926Z
UID:10001597-1731520800-1731525300@www.swing.se
SUMMARY:Bugg parträning tävling
DESCRIPTION:Funderar ni på att börja tävla? Utmana er dans som par? Då är detta kursen för er. Vi kommer jobba med teknik och musikanpassning för tävlingsgolvet. Öva på att ta plats och visa upp vår dans. Våga testa nya turer och rörelser på egen hand genom att lyssna på musikens uppbyggnad. Vi håller ett högt tempo och peppar varandra mot att ta oss ut på tävlingsgolvet!\nMellan 18.00 och 18.15 kör vi uppvärmning och dropp in innan vi kör igång kursen ordentligt.\nVarmt välkomna till oss på Dansklubben Swing i Växjö!! \nSe vårt kursprogram för anmälan.
URL:https://www.swing.se/event/bugg-partraning-tavling-2/2024-11-13/
LOCATION:Swinghallen\, Växjö\, Arabygatan 80\, Växjö\, 35246
CATEGORIES:Stora hallen,Tävlingsträning
ORGANIZER;CN="Dansklubben Swing":MAILTO:info@swing.se
END:VEVENT
BEGIN:VEVENT
DTSTART;TZID=Europe/Stockholm:20241112T180000
DTEND;TZID=Europe/Stockholm:20241112T193000
DTSTAMP:20260425T172441
CREATED:20240611T200941Z
LAST-MODIFIED:20240611T200941Z
UID:10001537-1731434400-1731439800@www.swing.se
SUMMARY:Tiodans tävlingsträning
DESCRIPTION:Träningstillfälle för dig som tävlar i tiodans.\nVarmt välkomna till oss på Dansklubben Swing i Växjö!! \n(OBS! Anmälan sker endast genom samverkan med klubben info@swing.se)
URL:https://www.swing.se/event/tiodans-tavlingstraning-3/2024-11-12/
LOCATION:Swinghallen\, Växjö\, Arabygatan 80\, Växjö\, 35246
CATEGORIES:Stora hallen,Tävlingsträning
ORGANIZER;CN="Dansklubben Swing":MAILTO:info@swing.se
END:VEVENT
BEGIN:VEVENT
DTSTART;TZID=Europe/Stockholm:20241110T161500
DTEND;TZID=Europe/Stockholm:20241110T171500
DTSTAMP:20260425T172441
CREATED:20240611T200912Z
LAST-MODIFIED:20240611T200912Z
UID:10001756-1731255300-1731258900@www.swing.se
SUMMARY:Tiodans för tävlingsdansare
DESCRIPTION:Träningstillfälle för dig som tävlar i tiodans i klasserna E\, D\, C.\nVarmt välkomna till oss på Dansklubben Swing i Växjö!! \n(OBS! Anmälan sker genom samverkan med klubben info@swing.se)
URL:https://www.swing.se/event/tiodans-for-tavlingsdansare-2/2024-11-10/
LOCATION:Swinghallen\, Växjö\, Arabygatan 80\, Växjö\, 35246
CATEGORIES:Stora hallen,Tävlingsträning
ORGANIZER;CN="Dansklubben Swing":MAILTO:info@swing.se
END:VEVENT
BEGIN:VEVENT
DTSTART;TZID=Europe/Stockholm:20241110T133000
DTEND;TZID=Europe/Stockholm:20241110T160000
DTSTAMP:20260425T172441
CREATED:20240611T201025Z
LAST-MODIFIED:20240611T203159Z
UID:10001745-1731245400-1731254400@www.swing.se
SUMMARY:BRR Tävlingsträning
DESCRIPTION:Träningstillfälle för dig som tävlar i Bugg\, Boogie Woogie\, Rock’n’roll och Lindy Hop. \nIngemar Önnerås är en Sveriges främsta danslärare som för nuvarande är aktiv inom BRR. Han är utbildad och certifierad inom DSF och SDO och har undervisat i Sverige\, Norge\, England och USA. \nHans undervisning präglas av en träningsfilosofi som är helt oberoende av förningstekniker och tränarstall. Detta har hittills resulterat i att hans danspar deltagit i minst en SM-final varje år sedan år 2000. Totalt har Ingemar varit delaktig i 29 SM-guld vunna av 27 olika dansare. \nIngemar har också varit aktiv domare sedan år 1999 och är för närvarande Steg 2 domare i både BRR- och Hip hop-grenarna. \nObservera att det är en annan avgift för den här träningen. Kontakta klubben för mer information om du är intresserad. \nVarmt välkomna till oss på Dansklubben Swing i Växjö!! \n(OBS! Anmälan sker endast genom samverkan med klubben info@swing.se)
URL:https://www.swing.se/event/brr-tavlingstraning/2024-11-10/
LOCATION:Swinghallen\, Växjö\, Arabygatan 80\, Växjö\, 35246
CATEGORIES:Lilla hallen,Tävlingsträning
ORGANIZER;CN="Dansklubben Swing":MAILTO:info@swing.se
END:VEVENT
BEGIN:VEVENT
DTSTART;TZID=Europe/Stockholm:20241106T193000
DTEND;TZID=Europe/Stockholm:20241106T203000
DTSTAMP:20260425T172441
CREATED:20240611T200957Z
LAST-MODIFIED:20240611T202745Z
UID:10001652-1730921400-1730925000@www.swing.se
SUMMARY:Bugg Tävlingsträning
DESCRIPTION:Träningstillfälle för dig som tävlar i bugg. \nObservera att det är en annan avgift för den här träningen. Kontakta klubben för mer information om du är intresserad. \nVarmt välkomna till oss på Dansklubben Swing i Växjö!! \n(OBS! Anmälan sker endast genom samverkan med klubben info@swing.se)
URL:https://www.swing.se/event/bugg-tavlingstraning-3/2024-11-06/
LOCATION:Swinghallen\, Växjö\, Arabygatan 80\, Växjö\, 35246
CATEGORIES:Lilla hallen,Tävlingsträning
ORGANIZER;CN="Dansklubben Swing":MAILTO:info@swing.se
END:VEVENT
BEGIN:VEVENT
DTSTART;TZID=Europe/Stockholm:20241106T183000
DTEND;TZID=Europe/Stockholm:20241106T193000
DTSTAMP:20260425T172441
CREATED:20240611T201010Z
LAST-MODIFIED:20240611T201010Z
UID:10001636-1730917800-1730921400@www.swing.se
SUMMARY:Boogie Woogie Tävlingsträning
DESCRIPTION:Träningstillfälle för dig som tävlar i Boogie Woogie. \nObservera att det är en annan avgift för den här träningen. Kontakta klubben för mer information om du är intresserad. \nVarmt välkomna till oss på Dansklubben Swing i Växjö!! \n(OBS! Anmälan sker endast genom samverkan med klubben info@swing.se)
URL:https://www.swing.se/event/boogie-woogie-tavlingstraning-3/2024-11-06/
LOCATION:Swinghallen\, Växjö\, Arabygatan 80\, Växjö\, 35246
CATEGORIES:Lilla hallen,Tävlingsträning
ORGANIZER;CN="Dansklubben Swing":MAILTO:info@swing.se
END:VEVENT
BEGIN:VEVENT
DTSTART;TZID=Europe/Stockholm:20241106T180000
DTEND;TZID=Europe/Stockholm:20241106T191500
DTSTAMP:20260425T172441
CREATED:20240611T200926Z
LAST-MODIFIED:20240611T200926Z
UID:10001596-1730916000-1730920500@www.swing.se
SUMMARY:Bugg parträning tävling
DESCRIPTION:Funderar ni på att börja tävla? Utmana er dans som par? Då är detta kursen för er. Vi kommer jobba med teknik och musikanpassning för tävlingsgolvet. Öva på att ta plats och visa upp vår dans. Våga testa nya turer och rörelser på egen hand genom att lyssna på musikens uppbyggnad. Vi håller ett högt tempo och peppar varandra mot att ta oss ut på tävlingsgolvet!\nMellan 18.00 och 18.15 kör vi uppvärmning och dropp in innan vi kör igång kursen ordentligt.\nVarmt välkomna till oss på Dansklubben Swing i Växjö!! \nSe vårt kursprogram för anmälan.
URL:https://www.swing.se/event/bugg-partraning-tavling-2/2024-11-06/
LOCATION:Swinghallen\, Växjö\, Arabygatan 80\, Växjö\, 35246
CATEGORIES:Stora hallen,Tävlingsträning
ORGANIZER;CN="Dansklubben Swing":MAILTO:info@swing.se
END:VEVENT
BEGIN:VEVENT
DTSTART;TZID=Europe/Stockholm:20241105T180000
DTEND;TZID=Europe/Stockholm:20241105T193000
DTSTAMP:20260425T172441
CREATED:20240611T200941Z
LAST-MODIFIED:20240611T200941Z
UID:10001536-1730829600-1730835000@www.swing.se
SUMMARY:Tiodans tävlingsträning
DESCRIPTION:Träningstillfälle för dig som tävlar i tiodans.\nVarmt välkomna till oss på Dansklubben Swing i Växjö!! \n(OBS! Anmälan sker endast genom samverkan med klubben info@swing.se)
URL:https://www.swing.se/event/tiodans-tavlingstraning-3/2024-11-05/
LOCATION:Swinghallen\, Växjö\, Arabygatan 80\, Växjö\, 35246
CATEGORIES:Stora hallen,Tävlingsträning
ORGANIZER;CN="Dansklubben Swing":MAILTO:info@swing.se
END:VEVENT
BEGIN:VEVENT
DTSTART;TZID=Europe/Stockholm:20241030T193000
DTEND;TZID=Europe/Stockholm:20241030T203000
DTSTAMP:20260425T172441
CREATED:20240611T200957Z
LAST-MODIFIED:20240611T202745Z
UID:10001651-1730316600-1730320200@www.swing.se
SUMMARY:Bugg Tävlingsträning
DESCRIPTION:Träningstillfälle för dig som tävlar i bugg. \nObservera att det är en annan avgift för den här träningen. Kontakta klubben för mer information om du är intresserad. \nVarmt välkomna till oss på Dansklubben Swing i Växjö!! \n(OBS! Anmälan sker endast genom samverkan med klubben info@swing.se)
URL:https://www.swing.se/event/bugg-tavlingstraning-3/2024-10-30/
LOCATION:Swinghallen\, Växjö\, Arabygatan 80\, Växjö\, 35246
CATEGORIES:Lilla hallen,Tävlingsträning
ORGANIZER;CN="Dansklubben Swing":MAILTO:info@swing.se
END:VEVENT
BEGIN:VEVENT
DTSTART;TZID=Europe/Stockholm:20241030T183000
DTEND;TZID=Europe/Stockholm:20241030T193000
DTSTAMP:20260425T172441
CREATED:20240611T201010Z
LAST-MODIFIED:20240611T201010Z
UID:10001635-1730313000-1730316600@www.swing.se
SUMMARY:Boogie Woogie Tävlingsträning
DESCRIPTION:Träningstillfälle för dig som tävlar i Boogie Woogie. \nObservera att det är en annan avgift för den här träningen. Kontakta klubben för mer information om du är intresserad. \nVarmt välkomna till oss på Dansklubben Swing i Växjö!! \n(OBS! Anmälan sker endast genom samverkan med klubben info@swing.se)
URL:https://www.swing.se/event/boogie-woogie-tavlingstraning-3/2024-10-30/
LOCATION:Swinghallen\, Växjö\, Arabygatan 80\, Växjö\, 35246
CATEGORIES:Lilla hallen,Tävlingsträning
ORGANIZER;CN="Dansklubben Swing":MAILTO:info@swing.se
END:VEVENT
BEGIN:VEVENT
DTSTART;TZID=Europe/Stockholm:20241030T180000
DTEND;TZID=Europe/Stockholm:20241030T191500
DTSTAMP:20260425T172441
CREATED:20240611T200926Z
LAST-MODIFIED:20240611T200926Z
UID:10001595-1730311200-1730315700@www.swing.se
SUMMARY:Bugg parträning tävling
DESCRIPTION:Funderar ni på att börja tävla? Utmana er dans som par? Då är detta kursen för er. Vi kommer jobba med teknik och musikanpassning för tävlingsgolvet. Öva på att ta plats och visa upp vår dans. Våga testa nya turer och rörelser på egen hand genom att lyssna på musikens uppbyggnad. Vi håller ett högt tempo och peppar varandra mot att ta oss ut på tävlingsgolvet!\nMellan 18.00 och 18.15 kör vi uppvärmning och dropp in innan vi kör igång kursen ordentligt.\nVarmt välkomna till oss på Dansklubben Swing i Växjö!! \nSe vårt kursprogram för anmälan.
URL:https://www.swing.se/event/bugg-partraning-tavling-2/2024-10-30/
LOCATION:Swinghallen\, Växjö\, Arabygatan 80\, Växjö\, 35246
CATEGORIES:Stora hallen,Tävlingsträning
ORGANIZER;CN="Dansklubben Swing":MAILTO:info@swing.se
END:VEVENT
BEGIN:VEVENT
DTSTART;TZID=Europe/Stockholm:20241029T180000
DTEND;TZID=Europe/Stockholm:20241029T193000
DTSTAMP:20260425T172441
CREATED:20240611T200941Z
LAST-MODIFIED:20240611T200941Z
UID:10001535-1730224800-1730230200@www.swing.se
SUMMARY:Tiodans tävlingsträning
DESCRIPTION:Träningstillfälle för dig som tävlar i tiodans.\nVarmt välkomna till oss på Dansklubben Swing i Växjö!! \n(OBS! Anmälan sker endast genom samverkan med klubben info@swing.se)
URL:https://www.swing.se/event/tiodans-tavlingstraning-3/2024-10-29/
LOCATION:Swinghallen\, Växjö\, Arabygatan 80\, Växjö\, 35246
CATEGORIES:Stora hallen,Tävlingsträning
ORGANIZER;CN="Dansklubben Swing":MAILTO:info@swing.se
END:VEVENT
BEGIN:VEVENT
DTSTART;TZID=Europe/Stockholm:20241027T161500
DTEND;TZID=Europe/Stockholm:20241027T171500
DTSTAMP:20260425T172441
CREATED:20240611T200912Z
LAST-MODIFIED:20240611T200912Z
UID:10001755-1730045700-1730049300@www.swing.se
SUMMARY:Tiodans för tävlingsdansare
DESCRIPTION:Träningstillfälle för dig som tävlar i tiodans i klasserna E\, D\, C.\nVarmt välkomna till oss på Dansklubben Swing i Växjö!! \n(OBS! Anmälan sker genom samverkan med klubben info@swing.se)
URL:https://www.swing.se/event/tiodans-for-tavlingsdansare-2/2024-10-27/
LOCATION:Swinghallen\, Växjö\, Arabygatan 80\, Växjö\, 35246
CATEGORIES:Stora hallen,Tävlingsträning
ORGANIZER;CN="Dansklubben Swing":MAILTO:info@swing.se
END:VEVENT
BEGIN:VEVENT
DTSTART;TZID=Europe/Stockholm:20241027T133000
DTEND;TZID=Europe/Stockholm:20241027T160000
DTSTAMP:20260425T172441
CREATED:20240611T201025Z
LAST-MODIFIED:20240611T203159Z
UID:10001744-1730035800-1730044800@www.swing.se
SUMMARY:BRR Tävlingsträning
DESCRIPTION:Träningstillfälle för dig som tävlar i Bugg\, Boogie Woogie\, Rock’n’roll och Lindy Hop. \nIngemar Önnerås är en Sveriges främsta danslärare som för nuvarande är aktiv inom BRR. Han är utbildad och certifierad inom DSF och SDO och har undervisat i Sverige\, Norge\, England och USA. \nHans undervisning präglas av en träningsfilosofi som är helt oberoende av förningstekniker och tränarstall. Detta har hittills resulterat i att hans danspar deltagit i minst en SM-final varje år sedan år 2000. Totalt har Ingemar varit delaktig i 29 SM-guld vunna av 27 olika dansare. \nIngemar har också varit aktiv domare sedan år 1999 och är för närvarande Steg 2 domare i både BRR- och Hip hop-grenarna. \nObservera att det är en annan avgift för den här träningen. Kontakta klubben för mer information om du är intresserad. \nVarmt välkomna till oss på Dansklubben Swing i Växjö!! \n(OBS! Anmälan sker endast genom samverkan med klubben info@swing.se)
URL:https://www.swing.se/event/brr-tavlingstraning/2024-10-27/
LOCATION:Swinghallen\, Växjö\, Arabygatan 80\, Växjö\, 35246
CATEGORIES:Lilla hallen,Tävlingsträning
ORGANIZER;CN="Dansklubben Swing":MAILTO:info@swing.se
END:VEVENT
BEGIN:VEVENT
DTSTART;TZID=Europe/Stockholm:20241023T193000
DTEND;TZID=Europe/Stockholm:20241023T203000
DTSTAMP:20260425T172441
CREATED:20240611T200957Z
LAST-MODIFIED:20240611T202745Z
UID:10001650-1729711800-1729715400@www.swing.se
SUMMARY:Bugg Tävlingsträning
DESCRIPTION:Träningstillfälle för dig som tävlar i bugg. \nObservera att det är en annan avgift för den här träningen. Kontakta klubben för mer information om du är intresserad. \nVarmt välkomna till oss på Dansklubben Swing i Växjö!! \n(OBS! Anmälan sker endast genom samverkan med klubben info@swing.se)
URL:https://www.swing.se/event/bugg-tavlingstraning-3/2024-10-23/
LOCATION:Swinghallen\, Växjö\, Arabygatan 80\, Växjö\, 35246
CATEGORIES:Lilla hallen,Tävlingsträning
ORGANIZER;CN="Dansklubben Swing":MAILTO:info@swing.se
END:VEVENT
BEGIN:VEVENT
DTSTART;TZID=Europe/Stockholm:20241023T183000
DTEND;TZID=Europe/Stockholm:20241023T193000
DTSTAMP:20260425T172441
CREATED:20240611T201010Z
LAST-MODIFIED:20240611T201010Z
UID:10001634-1729708200-1729711800@www.swing.se
SUMMARY:Boogie Woogie Tävlingsträning
DESCRIPTION:Träningstillfälle för dig som tävlar i Boogie Woogie. \nObservera att det är en annan avgift för den här träningen. Kontakta klubben för mer information om du är intresserad. \nVarmt välkomna till oss på Dansklubben Swing i Växjö!! \n(OBS! Anmälan sker endast genom samverkan med klubben info@swing.se)
URL:https://www.swing.se/event/boogie-woogie-tavlingstraning-3/2024-10-23/
LOCATION:Swinghallen\, Växjö\, Arabygatan 80\, Växjö\, 35246
CATEGORIES:Lilla hallen,Tävlingsträning
ORGANIZER;CN="Dansklubben Swing":MAILTO:info@swing.se
END:VEVENT
BEGIN:VEVENT
DTSTART;TZID=Europe/Stockholm:20241023T180000
DTEND;TZID=Europe/Stockholm:20241023T191500
DTSTAMP:20260425T172441
CREATED:20240611T200926Z
LAST-MODIFIED:20240611T200926Z
UID:10001594-1729706400-1729710900@www.swing.se
SUMMARY:Bugg parträning tävling
DESCRIPTION:Funderar ni på att börja tävla? Utmana er dans som par? Då är detta kursen för er. Vi kommer jobba med teknik och musikanpassning för tävlingsgolvet. Öva på att ta plats och visa upp vår dans. Våga testa nya turer och rörelser på egen hand genom att lyssna på musikens uppbyggnad. Vi håller ett högt tempo och peppar varandra mot att ta oss ut på tävlingsgolvet!\nMellan 18.00 och 18.15 kör vi uppvärmning och dropp in innan vi kör igång kursen ordentligt.\nVarmt välkomna till oss på Dansklubben Swing i Växjö!! \nSe vårt kursprogram för anmälan.
URL:https://www.swing.se/event/bugg-partraning-tavling-2/2024-10-23/
LOCATION:Swinghallen\, Växjö\, Arabygatan 80\, Växjö\, 35246
CATEGORIES:Stora hallen,Tävlingsträning
ORGANIZER;CN="Dansklubben Swing":MAILTO:info@swing.se
END:VEVENT
BEGIN:VEVENT
DTSTART;TZID=Europe/Stockholm:20241022T180000
DTEND;TZID=Europe/Stockholm:20241022T193000
DTSTAMP:20260425T172441
CREATED:20240611T200941Z
LAST-MODIFIED:20240611T200941Z
UID:10001534-1729620000-1729625400@www.swing.se
SUMMARY:Tiodans tävlingsträning
DESCRIPTION:Träningstillfälle för dig som tävlar i tiodans.\nVarmt välkomna till oss på Dansklubben Swing i Växjö!! \n(OBS! Anmälan sker endast genom samverkan med klubben info@swing.se)
URL:https://www.swing.se/event/tiodans-tavlingstraning-3/2024-10-22/
LOCATION:Swinghallen\, Växjö\, Arabygatan 80\, Växjö\, 35246
CATEGORIES:Stora hallen,Tävlingsträning
ORGANIZER;CN="Dansklubben Swing":MAILTO:info@swing.se
END:VEVENT
BEGIN:VEVENT
DTSTART;TZID=Europe/Stockholm:20241020T161500
DTEND;TZID=Europe/Stockholm:20241020T171500
DTSTAMP:20260425T172441
CREATED:20240611T200912Z
LAST-MODIFIED:20240611T200912Z
UID:10001754-1729440900-1729444500@www.swing.se
SUMMARY:Tiodans för tävlingsdansare
DESCRIPTION:Träningstillfälle för dig som tävlar i tiodans i klasserna E\, D\, C.\nVarmt välkomna till oss på Dansklubben Swing i Växjö!! \n(OBS! Anmälan sker genom samverkan med klubben info@swing.se)
URL:https://www.swing.se/event/tiodans-for-tavlingsdansare-2/2024-10-20/
LOCATION:Swinghallen\, Växjö\, Arabygatan 80\, Växjö\, 35246
CATEGORIES:Stora hallen,Tävlingsträning
ORGANIZER;CN="Dansklubben Swing":MAILTO:info@swing.se
END:VEVENT
BEGIN:VEVENT
DTSTART;TZID=Europe/Stockholm:20241020T133000
DTEND;TZID=Europe/Stockholm:20241020T160000
DTSTAMP:20260425T172441
CREATED:20240611T201025Z
LAST-MODIFIED:20240611T203159Z
UID:10001743-1729431000-1729440000@www.swing.se
SUMMARY:BRR Tävlingsträning
DESCRIPTION:Träningstillfälle för dig som tävlar i Bugg\, Boogie Woogie\, Rock’n’roll och Lindy Hop. \nIngemar Önnerås är en Sveriges främsta danslärare som för nuvarande är aktiv inom BRR. Han är utbildad och certifierad inom DSF och SDO och har undervisat i Sverige\, Norge\, England och USA. \nHans undervisning präglas av en träningsfilosofi som är helt oberoende av förningstekniker och tränarstall. Detta har hittills resulterat i att hans danspar deltagit i minst en SM-final varje år sedan år 2000. Totalt har Ingemar varit delaktig i 29 SM-guld vunna av 27 olika dansare. \nIngemar har också varit aktiv domare sedan år 1999 och är för närvarande Steg 2 domare i både BRR- och Hip hop-grenarna. \nObservera att det är en annan avgift för den här träningen. Kontakta klubben för mer information om du är intresserad. \nVarmt välkomna till oss på Dansklubben Swing i Växjö!! \n(OBS! Anmälan sker endast genom samverkan med klubben info@swing.se)
URL:https://www.swing.se/event/brr-tavlingstraning/2024-10-20/
LOCATION:Swinghallen\, Växjö\, Arabygatan 80\, Växjö\, 35246
CATEGORIES:Lilla hallen,Tävlingsträning
ORGANIZER;CN="Dansklubben Swing":MAILTO:info@swing.se
END:VEVENT
BEGIN:VEVENT
DTSTART;TZID=Europe/Stockholm:20241016T193000
DTEND;TZID=Europe/Stockholm:20241016T203000
DTSTAMP:20260425T172441
CREATED:20240611T200957Z
LAST-MODIFIED:20240611T202745Z
UID:10001649-1729107000-1729110600@www.swing.se
SUMMARY:Bugg Tävlingsträning
DESCRIPTION:Träningstillfälle för dig som tävlar i bugg. \nObservera att det är en annan avgift för den här träningen. Kontakta klubben för mer information om du är intresserad. \nVarmt välkomna till oss på Dansklubben Swing i Växjö!! \n(OBS! Anmälan sker endast genom samverkan med klubben info@swing.se)
URL:https://www.swing.se/event/bugg-tavlingstraning-3/2024-10-16/
LOCATION:Swinghallen\, Växjö\, Arabygatan 80\, Växjö\, 35246
CATEGORIES:Lilla hallen,Tävlingsträning
ORGANIZER;CN="Dansklubben Swing":MAILTO:info@swing.se
END:VEVENT
END:VCALENDAR