BEGIN:VCALENDAR
VERSION:2.0
PRODID:-//Swing - ECPv6.15.17.1//NONSGML v1.0//EN
CALSCALE:GREGORIAN
METHOD:PUBLISH
X-WR-CALNAME:Swing
X-ORIGINAL-URL:https://www.swing.se
X-WR-CALDESC:Händelser för Swing
REFRESH-INTERVAL;VALUE=DURATION:PT1H
X-Robots-Tag:noindex
X-PUBLISHED-TTL:PT1H
BEGIN:VTIMEZONE
TZID:Europe/Stockholm
BEGIN:DAYLIGHT
TZOFFSETFROM:+0100
TZOFFSETTO:+0200
TZNAME:CEST
DTSTART:20250330T010000
END:DAYLIGHT
BEGIN:STANDARD
TZOFFSETFROM:+0200
TZOFFSETTO:+0100
TZNAME:CET
DTSTART:20251026T010000
END:STANDARD
BEGIN:DAYLIGHT
TZOFFSETFROM:+0100
TZOFFSETTO:+0200
TZNAME:CEST
DTSTART:20260329T010000
END:DAYLIGHT
BEGIN:STANDARD
TZOFFSETFROM:+0200
TZOFFSETTO:+0100
TZNAME:CET
DTSTART:20261025T010000
END:STANDARD
BEGIN:DAYLIGHT
TZOFFSETFROM:+0100
TZOFFSETTO:+0200
TZNAME:CEST
DTSTART:20270328T010000
END:DAYLIGHT
BEGIN:STANDARD
TZOFFSETFROM:+0200
TZOFFSETTO:+0100
TZNAME:CET
DTSTART:20271031T010000
END:STANDARD
END:VTIMEZONE
BEGIN:VEVENT
DTSTART;TZID=Europe/Stockholm:20260412T161500
DTEND;TZID=Europe/Stockholm:20260412T170000
DTSTAMP:20260421T184830
CREATED:20251202T213302Z
LAST-MODIFIED:20251202T213302Z
UID:10002834-1776010500-1776013200@www.swing.se
SUMMARY:Tiodans för tävlingsdansare
DESCRIPTION:Ort: Växjö\nVar: Stora hallen\, Växjö\nNär: Söndagar 16:15-17:15\nStartdatum: 2026-02-01\nUppehåll: 2026-02-22\, 2026-03-01\, 2026-03-15\, 2026-04-05 och 2026-04-19\nSlutdatum: 2026-04-26\nAntal tillfällen: 9\nKursledare: Eva Walden och Tomas Petersson\nMedlemskap: Obligatoriskt\nBeskrivning: Träningstillfälle för dig som tävlar i tiodans i klasserna E\, D\, C.\nVarmt välkomna till oss på Dansklubben Swing i Växjö!! \n(OBS! Anmälan sker genom samverkan med klubben info@swing.se)
URL:https://www.swing.se/event/tiodans-for-tavlingsdansare-5/2026-04-12/
LOCATION:Swinghallen\, Växjö\, Arabygatan 80\, Växjö\, 35246
CATEGORIES:Stora hallen,Tävlingsträning
ORGANIZER;CN="Dansklubben Swing":MAILTO:info@swing.se
END:VEVENT
BEGIN:VEVENT
DTSTART;TZID=Europe/Stockholm:20260412T173000
DTEND;TZID=Europe/Stockholm:20260412T183000
DTSTAMP:20260421T184831
CREATED:20251202T213356Z
LAST-MODIFIED:20251202T213356Z
UID:10002847-1776015000-1776018600@www.swing.se
SUMMARY:Tiodans friträning
DESCRIPTION:Ort: Växjö\nVar: Stora hallen\, Växjö\nNär: Söndagar 17:30-18:30\nStartdatum: 2026-02-01\nUppehåll: 2026-02-22\, 2026-03-01\, 2026-04-05\nSlutdatum: 2026-04-12\nAntal tillfällen: 8\nKursledare:\nMedlemskap: obligatoriskt\nBeskrivning: Träningsmöjlighet under söndagseftermiddagen för alla som dansar eller har dansat tiodans och vill hålla igång och träna själva. \nVarmt välkomna till oss på Dansklubben Swing i Växjö!!
URL:https://www.swing.se/event/tiodans-fritraning-5/2026-04-12/
LOCATION:Swinghallen\, Växjö\, Arabygatan 80\, Växjö\, 35246
CATEGORIES:Ordinarie kursverksamhet,Stora hallen
ORGANIZER;CN="Dansklubben Swing":MAILTO:info@swing.se
END:VEVENT
BEGIN:VEVENT
DTSTART;TZID=Europe/Stockholm:20260412T183000
DTEND;TZID=Europe/Stockholm:20260412T200000
DTSTAMP:20260421T184831
CREATED:20251202T213456Z
LAST-MODIFIED:20251202T213456Z
UID:10002855-1776018600-1776024000@www.swing.se
SUMMARY:Modern Linedance
DESCRIPTION:Ort: Växjö\nVar: Stora hallen\, Växjö\nNär: Söndagar 18:30-20:00\nStartdatum: 2026-02-01\nUppehåll: 2026-03-01\, 2026-03-29\, 2026-04-05\nSlutdatum: 2026-04-12\nAntal tillfällen: 8\nKursledare: Magnus Gustafsson\nMedlemskap: obligatoriskt\nBeskrivning: Välkommen till en värld av rytm och glädje – Upptäck Modern Linedance! \nÄr du redo att röra på dig\, ha kul och lära dig något nytt? Då är vår kurs i Modern Linedance perfekt för dig! \nVad är Modern Linedance? Modern Linedance är en dynamisk och rolig dansform som passar alla\, oavsett ålder eller tidigare danserfarenhet. Modern linedance handlar om att dansa i rader (linjer) tillsammans med andra\, men utan en partner. Varje dans består av en specifik koreografi som upprepas. Det unika med modern linedance är den otroliga bredden av musikstilar vi dansar till. Vi rör oss till allt från Pop och rock\, Hip-hop\, R&B\, Latinamerikanska rytmer\, Blues\, Funk …och självklart\, en och annan Modern Countrylåt!\nDet betyder att du får möjlighet att utforska en mängd olika stilar och uttryck\, allt i en och samma dansform. \nUnder kursen kommer vi att gå igenom grundläggande steg och tekniker inom modern linedance. Vi lär oss successivt olika koreografier\, från enklare till lite mer utmanande\, och vi fokuserar på att ha kul under tiden! Du kommer att märka hur snabbt du kommer in i det och hur givande det är att se sina framsteg. Inga förkunskaper krävs – bara ett öppet sinne och en vilja att dansa! \nVarmt välkomna till oss på Dansklubben Swing i Växjö!!
URL:https://www.swing.se/event/modern-linedance-2/2026-04-12/
LOCATION:Swinghallen\, Växjö\, Arabygatan 80\, Växjö\, 35246
CATEGORIES:Ordinarie kursverksamhet,Stora hallen
ORGANIZER;CN="Dansklubben Swing":MAILTO:info@swing.se
END:VEVENT
END:VCALENDAR