BEGIN:VCALENDAR
VERSION:2.0
PRODID:-//Swing - ECPv6.15.17.1//NONSGML v1.0//EN
CALSCALE:GREGORIAN
METHOD:PUBLISH
X-WR-CALNAME:Swing
X-ORIGINAL-URL:https://www.swing.se
X-WR-CALDESC:Händelser för Swing
REFRESH-INTERVAL;VALUE=DURATION:PT1H
X-Robots-Tag:noindex
X-PUBLISHED-TTL:PT1H
BEGIN:VTIMEZONE
TZID:Europe/Stockholm
BEGIN:DAYLIGHT
TZOFFSETFROM:+0100
TZOFFSETTO:+0200
TZNAME:CEST
DTSTART:20250330T010000
END:DAYLIGHT
BEGIN:STANDARD
TZOFFSETFROM:+0200
TZOFFSETTO:+0100
TZNAME:CET
DTSTART:20251026T010000
END:STANDARD
BEGIN:DAYLIGHT
TZOFFSETFROM:+0100
TZOFFSETTO:+0200
TZNAME:CEST
DTSTART:20260329T010000
END:DAYLIGHT
BEGIN:STANDARD
TZOFFSETFROM:+0200
TZOFFSETTO:+0100
TZNAME:CET
DTSTART:20261025T010000
END:STANDARD
BEGIN:DAYLIGHT
TZOFFSETFROM:+0100
TZOFFSETTO:+0200
TZNAME:CEST
DTSTART:20270328T010000
END:DAYLIGHT
BEGIN:STANDARD
TZOFFSETFROM:+0200
TZOFFSETTO:+0100
TZNAME:CET
DTSTART:20271031T010000
END:STANDARD
END:VTIMEZONE
BEGIN:VEVENT
DTSTART;TZID=Europe/Stockholm:20260316T181500
DTEND;TZID=Europe/Stockholm:20260316T191500
DTSTAMP:20260423T125856
CREATED:20251202T211241Z
LAST-MODIFIED:20251202T211410Z
UID:10002583-1773684900-1773688500@www.swing.se
SUMMARY:Bugg Steg 1
DESCRIPTION:Ort: Växjö\nVar: Stora hallen\, Växjö\nNär: Måndagar 18.15-19.15\nStartdatum: 2026-01-19\nUppehåll: 2026-04-06\nSlutdatum: 2026-04-13\nAntal tillfällen: 12\nKursledare: Elin Cederbrant och André Gustafsson\nMedlemskap: Obligatoriskt\nBeskrivning: Har du aldrig dansat bugg tidigare så är detta kursen för dig!\nMålet med kursen är att lära sig grunderna och lite enkla figurer (ex. vänstersnurr & högersnurr). Vi övar till många olika typer av musik & med massor av dansglädje.\nIngen som helst dansvana krävs. \nOBS! Tänk på att detta är en nybörjarkurs. Har du dansat länge och känner att du behärskar grunderna är du istället välkommen på våra fortsättningskurser. \nVarmt välkomna till oss på Dansklubben Swing i Växjö!!
URL:https://www.swing.se/event/bugg-steg-1-7/2026-03-16/
LOCATION:Swinghallen\, Växjö\, Arabygatan 80\, Växjö\, 35246
CATEGORIES:Ordinarie kursverksamhet,Stora hallen
ORGANIZER;CN="Dansklubben Swing":MAILTO:info@swing.se
END:VEVENT
BEGIN:VEVENT
DTSTART;TZID=Europe/Stockholm:20260316T193000
DTEND;TZID=Europe/Stockholm:20260316T203000
DTSTAMP:20260423T125856
CREATED:20251202T211351Z
LAST-MODIFIED:20251202T211351Z
UID:10002595-1773689400-1773693000@www.swing.se
SUMMARY:Bugg Steg 2
DESCRIPTION:Ort: Växjö\nVar: Stora hallen\, Växjö\nNär: Måndagar 19.30-20.30\nStartdatum: 2026-01-19\nUppehåll: 2026-04-06\nSlutdatum: 2026-04-13\nAntal tillfällen: 12\nKursledare: Lowe Arnehov\, André Gustafsson\nMedlemskap: Obligatoriskt\nBeskrivning: Fortsättningskurs för dig som gått minst en nybörjarkurs. Vi repeterar grunderna och fortsätter sedan att bygga på med teknik och figurer för att utvecklas i dansen. Mycket dans till olika typer av musik utlovas i kombination med härlig dansglädje! \n\nOBS! Tänk på att detta är steg 2\, steget efter nybörjarkurs. Har du dansat länge och känner att du behärskar grunderna rekommenderar vi den ledarledda socialdansen i lilla hallen samma tid. \nVarmt välkomna till oss på Dansklubben Swing i Växjö!!
URL:https://www.swing.se/event/bugg-steg-2-7/2026-03-16/
LOCATION:Swinghallen\, Växjö\, Arabygatan 80\, Växjö\, 35246
CATEGORIES:Ordinarie kursverksamhet,Stora hallen
ORGANIZER;CN="Dansklubben Swing":MAILTO:info@swing.se
END:VEVENT
BEGIN:VEVENT
DTSTART;TZID=Europe/Stockholm:20260316T193000
DTEND;TZID=Europe/Stockholm:20260316T203000
DTSTAMP:20260423T125856
CREATED:20251202T211458Z
LAST-MODIFIED:20251202T211643Z
UID:10002607-1773689400-1773693000@www.swing.se
SUMMARY:Bugg Socialdans – ledarstyrd
DESCRIPTION:Ort: Växjö\nVar: Lilla hallen\, Växjö\nNär: Måndagar 19.30-20.30\nStartdatum: 2026-01-19\nUppehåll: 2026-04-06\nSlutdatum: 2026-04-13\nAntal tillfällen: 12\nKursledare: Kenneth Welin och Susanne Lindqvist\nMedlemskap: Obligatoriskt\nBeskrivning: Vi ses för en härlig timme tillsammans och värmer upp inför steg 3 med en ledarstyrd socialdans. Vi dansar till lite olika tempon och olika typer av musik. Vi använder oss av garage och framflytt. Självklart är du välkommen även om du inte planerar att fortsätta kvällen med steg 3. \nVarmt välkomna till oss på Dansklubben Swing i Växjö!!
URL:https://www.swing.se/event/bugg-socialdans-ledarstyrd-3/2026-03-16/
LOCATION:Swinghallen\, Växjö\, Arabygatan 80\, Växjö\, 35246
CATEGORIES:Lilla hallen,Ordinarie kursverksamhet
ORGANIZER;CN="Dansklubben Swing":MAILTO:info@swing.se
END:VEVENT
BEGIN:VEVENT
DTSTART;TZID=Europe/Stockholm:20260316T204000
DTEND;TZID=Europe/Stockholm:20260316T214000
DTSTAMP:20260423T125856
CREATED:20251202T211826Z
LAST-MODIFIED:20251202T211826Z
UID:10002619-1773693600-1773697200@www.swing.se
SUMMARY:Bugg Steg 3
DESCRIPTION:Ort: Växjö\nVar: Stora hallen\, Växjö\nNär: Måndagar 20.40-21.40\nStartdatum: 2026-01-19\nUppehåll: 2026-04-06\nSlutdatum: 2026-04-13\nAntal tillfällen: 12\nKursledare: Kenneth Welin och Susanne Lindqvist\nMedlemskap: Obligatoriskt\nBeskrivning: Välkomna till bugg steg 3. Denna kursen passar dig som har gått steg 2 minst en termin och känner dig väl bekväm med alla moment på steg 2. Du känner även att du väl behärskar tryck-och-drag förning\, puls\, grundbeteende och höger- och vänstervändningar i flera variationer. Vi kommer jobba mycket med att våga testa nya kombinationer och rörelser på egen hand. Olika stegvariationer och lite musikanpassning står också med på schemat. \n\nVarmt välkomna till oss på Dansklubben Swing i Växjö!!
URL:https://www.swing.se/event/bugg-steg-3-6/2026-03-16/
LOCATION:Swinghallen\, Växjö\, Arabygatan 80\, Växjö\, 35246
CATEGORIES:Ordinarie kursverksamhet,Stora hallen
ORGANIZER;CN="Dansklubben Swing":MAILTO:info@swing.se
END:VEVENT
END:VCALENDAR