BEGIN:VCALENDAR
VERSION:2.0
PRODID:-//Swing - ECPv6.15.17.1//NONSGML v1.0//EN
CALSCALE:GREGORIAN
METHOD:PUBLISH
X-ORIGINAL-URL:https://www.swing.se
X-WR-CALDESC:Händelser för Swing
REFRESH-INTERVAL;VALUE=DURATION:PT1H
X-Robots-Tag:noindex
X-PUBLISHED-TTL:PT1H
BEGIN:VTIMEZONE
TZID:Europe/Stockholm
BEGIN:DAYLIGHT
TZOFFSETFROM:+0100
TZOFFSETTO:+0200
TZNAME:CEST
DTSTART:20240331T010000
END:DAYLIGHT
BEGIN:STANDARD
TZOFFSETFROM:+0200
TZOFFSETTO:+0100
TZNAME:CET
DTSTART:20241027T010000
END:STANDARD
BEGIN:DAYLIGHT
TZOFFSETFROM:+0100
TZOFFSETTO:+0200
TZNAME:CEST
DTSTART:20250330T010000
END:DAYLIGHT
BEGIN:STANDARD
TZOFFSETFROM:+0200
TZOFFSETTO:+0100
TZNAME:CET
DTSTART:20251026T010000
END:STANDARD
BEGIN:DAYLIGHT
TZOFFSETFROM:+0100
TZOFFSETTO:+0200
TZNAME:CEST
DTSTART:20260329T010000
END:DAYLIGHT
BEGIN:STANDARD
TZOFFSETFROM:+0200
TZOFFSETTO:+0100
TZNAME:CET
DTSTART:20261025T010000
END:STANDARD
END:VTIMEZONE
BEGIN:VEVENT
DTSTART;TZID=Europe/Stockholm:20251028T170000
DTEND;TZID=Europe/Stockholm:20251028T190000
DTSTAMP:20260424T102645
CREATED:20250906T123515Z
LAST-MODIFIED:20250906T123733Z
UID:10002320-1761670800-1761678000@www.swing.se
SUMMARY:BRR Tävlingsträning
DESCRIPTION:Ort: Växjö\nVar: Lilla hallen\, Växjö\nNär: Tisdagar 17.00-19.00\nStartdatum: 2025-08-27\nUppehåll: \nSlutdatum: 2025-12-17\nAntal tillfällen: 17\nKursledare: –\nMedlemskap: Obligatoriskt\nBeskrivning: Träningstillfälle för dig som tävlar i någon av BRR-danserna. \nObservera att det är en annan avgift för den här träningen. Kontakta klubben för mer information om du är intresserad. \nVarmt välkomna till oss på Dansklubben Swing i Växjö!! \n(OBS! Anmälan sker endast genom samverkan med klubben info@swing.se)
URL:https://www.swing.se/event/brr-tavlingstraning-2-2/2025-10-28/
LOCATION:Swinghallen\, Växjö\, Arabygatan 80\, Växjö\, 35246
CATEGORIES:Lilla hallen,Tävlingsträning
ORGANIZER;CN="Dansklubben Swing":MAILTO:info@swing.se
END:VEVENT
BEGIN:VEVENT
DTSTART;TZID=Europe/Stockholm:20251028T180000
DTEND;TZID=Europe/Stockholm:20251028T190000
DTSTAMP:20260424T102645
CREATED:20250906T123249Z
LAST-MODIFIED:20250906T123249Z
UID:10002305-1761674400-1761678000@www.swing.se
SUMMARY:Tiodans tävlingsträning
DESCRIPTION:Ort: Växjö\nVar: Stora hallen\, Växjö\nNär: Tisdagar 18.00-19.00\nStartdatum: 2025-08-26\nUppehåll: \nSlutdatum: 2025-12-09\nAntal tillfällen: 16\nKursledare: –\nMedlemskap: Obligatoriskt\nBeskrivning: Träningstillfälle för dig som tävlar i tiodans. \nVarmt välkomna till oss på Dansklubben Swing i Växjö!! \n(OBS! Anmälan sker endast genom samverkan med klubben info@swing.se)
URL:https://www.swing.se/event/tiodans-tavlingstraning-5/2025-10-28/
LOCATION:Swinghallen\, Växjö\, Arabygatan 80\, Växjö\, 35246
CATEGORIES:Stora hallen,Tävlingsträning
ORGANIZER;CN="Dansklubben Swing":MAILTO:info@swing.se
END:VEVENT
BEGIN:VEVENT
DTSTART;TZID=Europe/Stockholm:20251028T190000
DTEND;TZID=Europe/Stockholm:20251028T200000
DTSTAMP:20260424T102645
CREATED:20250906T124252Z
LAST-MODIFIED:20250906T124252Z
UID:10002337-1761678000-1761681600@www.swing.se
SUMMARY:Tiodans tävlingsträning
DESCRIPTION:Ort: Växjö\nVar: Lilla hallen\, Växjö\nNär: Tisdagar 19.00-20.00\nStartdatum: 2025-08-26\nUppehåll: \nSlutdatum: 2025-12-09\nAntal tillfällen: 16\nKursledare: –\nMedlemskap: Obligatoriskt\nBeskrivning: Träningstillfälle för dig som tävlar i tiodans. \nVarmt välkomna till oss på Dansklubben Swing i Växjö!! \n(OBS! Anmälan sker endast genom samverkan med klubben info@swing.se)
URL:https://www.swing.se/event/tiodans-tavlingstraning-6/2025-10-28/
LOCATION:Swinghallen\, Växjö\, Arabygatan 80\, Växjö\, 35246
CATEGORIES:Lilla hallen,Tävlingsträning
ORGANIZER;CN="Dansklubben Swing":MAILTO:info@swing.se
END:VEVENT
BEGIN:VEVENT
DTSTART;TZID=Europe/Stockholm:20251028T190000
DTEND;TZID=Europe/Stockholm:20251028T200000
DTSTAMP:20260424T102645
CREATED:20250906T124434Z
LAST-MODIFIED:20250906T124434Z
UID:10002351-1761678000-1761681600@www.swing.se
SUMMARY:West Coast Swing Steg 1
DESCRIPTION:Ort: Växjö\nVar: Stora hallen\, Växjö\nNär: Tisdagar 19.00-20.00\nStartdatum: 2025-09-09\nUppehåll: \nSlutdatum: 2025-11-25\nAntal tillfällen: 12\nKursledare: Magnus Gustafsson och Karolina Fagerlund\nMedlemskap: Obligatoriskt\nBeskrivning: Denna kursen vänder sig till dig som aldrig dansat West Coast Swing och till dig som dansat en grundkurs tidigare men inte känner dig redo att gå på en högre nivå ännu. Målet med kursen är att lära sig grunderna i West Coast Swing\, fantastic 4\, whip samt några enklare figurer och turer. Vi kommer ha fokus på timing\, ram\, stretch och kompression. \nEfter kursen kommer det att finnas möjlighet till 30 minuter med fridans innan vi drar igång Steg 2. Här är både ni som dansar Steg 1 och Steg 2 välkomna. \nVarmt välkomna till oss på Dansklubben Swing i Växjö!!
URL:https://www.swing.se/event/west-coast-swing-steg-1/2025-10-28/
LOCATION:Swinghallen\, Växjö\, Arabygatan 80\, Växjö\, 35246
CATEGORIES:Ordinarie kursverksamhet,Stora hallen
ORGANIZER;CN="Dansklubben Swing":MAILTO:info@swing.se
END:VEVENT
BEGIN:VEVENT
DTSTART;TZID=Europe/Stockholm:20251028T203000
DTEND;TZID=Europe/Stockholm:20251028T213000
DTSTAMP:20260424T102645
CREATED:20250906T124509Z
LAST-MODIFIED:20250906T124509Z
UID:10002363-1761683400-1761687000@www.swing.se
SUMMARY:West Coast Swing Steg 2
DESCRIPTION:Ort: Växjö\nVar: Stora hallen\, Växjö\nNär: Tisdagar 20.30-21.30\nStartdatum: 2025-09-09\nUppehåll: \nSlutdatum: 2025-11-25\nAntal tillfällen: 12\nKursledare: Magnus Gustafsson och Karolina Fagerlund\nMedlemskap: Obligatoriskt\nBeskrivning: Har du gått minst en grundkurs i WCS och har med dig Fantastic 4 och Whip samt\nnågra grundläggande snurrar är detta kursen för dig. Vi jobbar vidare på grundtekniker\, lär ut fler turer och börjar lite med musikanpassning och improvisation. Bra kurs att gå även om man dansat ett tag för att repetera\, mängdträna och givetvis för att det är kul. \nInnan kursen kommer det att finnas möjlighet till 30 minuter med fridans innan vi drar igång Steg 2. Här är både ni som dansar Steg 1 och Steg 2 välkomna. \nVarmt välkomna till oss på Dansklubben Swing i Växjö!!
URL:https://www.swing.se/event/west-coast-swing-steg-2/2025-10-28/
LOCATION:Swinghallen\, Växjö\, Arabygatan 80\, Växjö\, 35246
CATEGORIES:Ordinarie kursverksamhet,Stora hallen
ORGANIZER;CN="Dansklubben Swing":MAILTO:info@swing.se
END:VEVENT
END:VCALENDAR