BEGIN:VCALENDAR
VERSION:2.0
PRODID:-//Swing - ECPv6.15.17.1//NONSGML v1.0//EN
CALSCALE:GREGORIAN
METHOD:PUBLISH
X-ORIGINAL-URL:https://www.swing.se
X-WR-CALDESC:Händelser för Swing
REFRESH-INTERVAL;VALUE=DURATION:PT1H
X-Robots-Tag:noindex
X-PUBLISHED-TTL:PT1H
BEGIN:VTIMEZONE
TZID:Europe/Stockholm
BEGIN:DAYLIGHT
TZOFFSETFROM:+0100
TZOFFSETTO:+0200
TZNAME:CEST
DTSTART:20240331T010000
END:DAYLIGHT
BEGIN:STANDARD
TZOFFSETFROM:+0200
TZOFFSETTO:+0100
TZNAME:CET
DTSTART:20241027T010000
END:STANDARD
BEGIN:DAYLIGHT
TZOFFSETFROM:+0100
TZOFFSETTO:+0200
TZNAME:CEST
DTSTART:20250330T010000
END:DAYLIGHT
BEGIN:STANDARD
TZOFFSETFROM:+0200
TZOFFSETTO:+0100
TZNAME:CET
DTSTART:20251026T010000
END:STANDARD
BEGIN:DAYLIGHT
TZOFFSETFROM:+0100
TZOFFSETTO:+0200
TZNAME:CEST
DTSTART:20260329T010000
END:DAYLIGHT
BEGIN:STANDARD
TZOFFSETFROM:+0200
TZOFFSETTO:+0100
TZNAME:CET
DTSTART:20261025T010000
END:STANDARD
END:VTIMEZONE
BEGIN:VEVENT
DTSTART;TZID=Europe/Stockholm:20251005T100000
DTEND;TZID=Europe/Stockholm:20251005T130000
DTSTAMP:20260424T121506
CREATED:20250918T190749Z
LAST-MODIFIED:20250918T190749Z
UID:10002571-1759658400-1759669200@www.swing.se
SUMMARY:Top Notch Workshops
DESCRIPTION:Söndagen den 5 oktober har vi den stora glädjen att välkomna ett fantastiskt gäng meriterade tränare till Dansklubben Swing.\nNathalie Albrigtsen\, Marielle Nyberg\, Nicklas Nyberg och Ingemar Önnerås.\nDeras imponerande meriter hittar du längre ner i texten. \nDu har nu möjlighet att träna Bugg för alla fyra. Träningen kommer fördelas lika på tre olika tränarkonstellationer. \nTräningen delas upp i tre grupper\, omfördelning kan ske beroende på antal anmälningar. Tänkta grupper är: \n\nNationell Klass Junior\nNationell Klass Vuxen\nNationell Klass Senior/Grand Senior\n\nAnmäl dig via följande länkar:\n– Nationell Klass Junior\n– Nationell Klass Vuxen\n– Nationell Klass Senior/Grand Senior \nTid: 10.00 – 13.00\, Incheckning från 9.30\nPlats: Dansklubben Swing Wexiö. Arabygatan 80\, Växjö.\nPris: 300 kr per person.\nOBS! Begränsat antal platser för att säkerställa hög kvalitet. \nTränarnas meriter i korthet:\nNathalie Albrigtsen\n– 3 SM-guld och ett flertal pallplatser på SM\n– 2 VM-guld\n– 1 guld i Nordiska Mästerskapen\nMarielle Nyberg\n– 4 SM-guld och 3 SM-silver\n– Silver och Brons både på VM och Nordiska Mästerskapen\n– Har tränat ett tiotal SM-vinnare i olika BRR-danser\n– Domare i samtliga BRR-danser\nNicklas Nyberg\n– 5 SM-guld\n– Guld och 2 Silver på Nordiska Mästerskapen\n– EM-silver\n– Tränat ett tiotal SM-vinnare i olika BRR-danser\n– Domare steg 2 i samtliga BRR-danser\n– Tidigare förbundskapten i Rock’n’Roll i tre år\nIngemar Önnerås\n– Delaktig i 30 SM-guld vunna av 28 olika dansare\n– Tränat SM-finalister 25 år i rad\n– Domare steg 3 i Boogie Woogie och Rock’n’Roll\n– Domare steg 2 i övriga BRR-danser \nVarmt välkomna till oss på Dansklubben Swing i Växjö!!
URL:https://www.swing.se/event/top-notch-workshops/
LOCATION:Swinghallen\, Växjö\, Arabygatan 80\, Växjö\, 35246
CATEGORIES:Helgkurser,Lilla hallen,Stora hallen,Tävlingsträning
ORGANIZER;CN="Dansklubben Swing":MAILTO:info@swing.se
END:VEVENT
BEGIN:VEVENT
DTSTART;TZID=Europe/Stockholm:20251005T161500
DTEND;TZID=Europe/Stockholm:20251005T171500
DTSTAMP:20260424T121506
CREATED:20250906T131957Z
LAST-MODIFIED:20250906T131957Z
UID:10002543-1759680900-1759684500@www.swing.se
SUMMARY:Tiodans för tävlingsdansare
DESCRIPTION:Ort: Växjö\nVar: Stora hallen\, Växjö\nNär: Söndagar 16:15-17:15\nStartdatum: 2025-08-31\nUppehåll: 2025-09-07\, 2025-09-28\, 2025-11-09\, 2025-11-23 på grund av orkesterdanser.\nSlutdatum: 2025-12-07\nAntal tillfällen: 12\nKursledare: Eva Walden och Tomas Petersson\nMedlemskap: Obligatoriskt\nBeskrivning: Träningstillfälle för dig som tävlar i tiodans i klasserna E\, D\, C.\nVarmt välkomna till oss på Dansklubben Swing i Växjö!! \n(OBS! Anmälan sker genom samverkan med klubben info@swing.se)
URL:https://www.swing.se/event/tiodans-for-tavlingsdansare-4/2025-10-05/
LOCATION:Swinghallen\, Växjö\, Arabygatan 80\, Växjö\, 35246
CATEGORIES:Stora hallen,Tävlingsträning
ORGANIZER;CN="Dansklubben Swing":MAILTO:info@swing.se
END:VEVENT
BEGIN:VEVENT
DTSTART;TZID=Europe/Stockholm:20251005T173000
DTEND;TZID=Europe/Stockholm:20251005T183000
DTSTAMP:20260424T121506
CREATED:20250906T132222Z
LAST-MODIFIED:20250906T132222Z
UID:10002553-1759685400-1759689000@www.swing.se
SUMMARY:Tiodans friträning
DESCRIPTION:Ort: Växjö\nVar: Stora hallen\, Växjö\nNär: Söndagar 17:30-18:30\nStartdatum: 2025-09-14\nUppehåll: 2025-09-28\, 2025-11-09\, 2025-11-23 på grund av orkesterdanser.\nSlutdatum: 2025-12-30\nAntal tillfällen: 9\nKursledare:\nMedlemskap: obligatoriskt\nBeskrivning: Träningsmöjlighet under söndagseftermiddagen för alla som dansar eller har dansat tiodans och vill hålla igång och träna själva. \nVarmt välkomna till oss på Dansklubben Swing i Växjö!!
URL:https://www.swing.se/event/tiodans-fritraning-4/2025-10-05/
LOCATION:Swinghallen\, Växjö\, Arabygatan 80\, Växjö\, 35246
CATEGORIES:Ordinarie kursverksamhet,Stora hallen
ORGANIZER;CN="Dansklubben Swing":MAILTO:info@swing.se
END:VEVENT
BEGIN:VEVENT
DTSTART;TZID=Europe/Stockholm:20251005T183000
DTEND;TZID=Europe/Stockholm:20251005T200000
DTSTAMP:20260424T121506
CREATED:20250906T132511Z
LAST-MODIFIED:20250906T132511Z
UID:10002563-1759689000-1759694400@www.swing.se
SUMMARY:Modern Linedance
DESCRIPTION:Ort: Växjö\nVar: Stora hallen\, Växjö\nNär: Söndagar 18:30-20:00\nStartdatum: 2025-09-07\nUppehåll: 2025-09-28 på grund av orkesterdans.\nSlutdatum: 2025-10-05\nAntal tillfällen: 4 (Detta är en provperiod och ny kurs startas upp om intresset finns)\nKursledare: Magnus Gustafsson\nMedlemskap: obligatoriskt\nBeskrivning: Välkommen till en värld av rytm och glädje – Upptäck Modern Linedance! \nÄr du redo att röra på dig\, ha kul och lära dig något nytt? Då är vår kurs i Modern Linedance perfekt för dig! \nVad är Modern Linedance? Modern Linedance är en dynamisk och rolig dansform som passar alla\, oavsett ålder eller tidigare danserfarenhet. Modern linedance handlar om att dansa i rader (linjer) tillsammans med andra\, men utan en partner. Varje dans består av en specifik koreografi som upprepas. Det unika med modern linedance är den otroliga bredden av musikstilar vi dansar till. Vi rör oss till allt från Pop och rock\, Hip-hop\, R&B\, Latinamerikanska rytmer\, Blues\, Funk …och självklart\, en och annan Modern Countrylåt!\nDet betyder att du får möjlighet att utforska en mängd olika stilar och uttryck\, allt i en och samma dansform. \nUnder kursen kommer vi att gå igenom grundläggande steg och tekniker inom modern linedance. Vi lär oss successivt olika koreografier\, från enklare till lite mer utmanande\, och vi fokuserar på att ha kul under tiden! Du kommer att märka hur snabbt du kommer in i det och hur givande det är att se sina framsteg. Inga förkunskaper krävs – bara ett öppet sinne och en vilja att dansa! \nAnmäl dig redan idag och upptäck varför så många älskar modern linedance! \nFör dig som har löst ordinarie träningsavgift ingår den här kursen men anmälan krävs för att vi ska kunna kommunicera med gruppen. \nVarmt välkomna till oss på Dansklubben Swing i Växjö!!
URL:https://www.swing.se/event/modern-linedance/2025-10-05/
LOCATION:Swinghallen\, Växjö\, Arabygatan 80\, Växjö\, 35246
CATEGORIES:Ordinarie kursverksamhet,Stora hallen
ORGANIZER;CN="Dansklubben Swing":MAILTO:info@swing.se
END:VEVENT
END:VCALENDAR