BEGIN:VCALENDAR
VERSION:2.0
PRODID:-//Swing - ECPv6.15.17.1//NONSGML v1.0//EN
CALSCALE:GREGORIAN
METHOD:PUBLISH
X-ORIGINAL-URL:https://www.swing.se
X-WR-CALDESC:Händelser för Swing
REFRESH-INTERVAL;VALUE=DURATION:PT1H
X-Robots-Tag:noindex
X-PUBLISHED-TTL:PT1H
BEGIN:VTIMEZONE
TZID:Europe/Stockholm
BEGIN:DAYLIGHT
TZOFFSETFROM:+0100
TZOFFSETTO:+0200
TZNAME:CEST
DTSTART:20240331T010000
END:DAYLIGHT
BEGIN:STANDARD
TZOFFSETFROM:+0200
TZOFFSETTO:+0100
TZNAME:CET
DTSTART:20241027T010000
END:STANDARD
BEGIN:DAYLIGHT
TZOFFSETFROM:+0100
TZOFFSETTO:+0200
TZNAME:CEST
DTSTART:20250330T010000
END:DAYLIGHT
BEGIN:STANDARD
TZOFFSETFROM:+0200
TZOFFSETTO:+0100
TZNAME:CET
DTSTART:20251026T010000
END:STANDARD
BEGIN:DAYLIGHT
TZOFFSETFROM:+0100
TZOFFSETTO:+0200
TZNAME:CEST
DTSTART:20260329T010000
END:DAYLIGHT
BEGIN:STANDARD
TZOFFSETFROM:+0200
TZOFFSETTO:+0100
TZNAME:CET
DTSTART:20261025T010000
END:STANDARD
END:VTIMEZONE
BEGIN:VEVENT
DTSTART;TZID=Europe/Stockholm:20250226T180000
DTEND;TZID=Europe/Stockholm:20250226T191500
DTSTAMP:20260426T024837
CREATED:20241214T151355Z
LAST-MODIFIED:20241214T151355Z
UID:10002096-1740592800-1740597300@www.swing.se
SUMMARY:Bugg parträning
DESCRIPTION:På denna kurs varvar vi egen parträning med inslag av ledarledda övningar. Vi nöter in teknik och utmanar oss med nya turer och rörelsemönster. Med gemenskap och dansglädje i fokus samarbetar vi mellan paren för att delge våra bästa tips och trix.\nTempot är högt och man behöver ha dansat steg 2-3 innan.\nDrop-in för egen uppvärmning från kl.18:00. \nVarmt välkomna till oss på Dansklubben Swing i Växjö!! \nSe vårt kursprogram för anmälan.
URL:https://www.swing.se/event/bugg-partraning-2/2025-02-26/
LOCATION:Swinghallen\, Växjö\, Arabygatan 80\, Växjö\, 35246
CATEGORIES:Ordinarie kursverksamhet,Stora hallen
ORGANIZER;CN="Dansklubben Swing":MAILTO:info@swing.se
END:VEVENT
BEGIN:VEVENT
DTSTART;TZID=Europe/Stockholm:20250226T183000
DTEND;TZID=Europe/Stockholm:20250226T193000
DTSTAMP:20260426T024837
CREATED:20241214T151556Z
LAST-MODIFIED:20241214T152433Z
UID:10002082-1740594600-1740598200@www.swing.se
SUMMARY:Boogie Woogie Tävlingsträning
DESCRIPTION:Träningstillfälle för dig som tävlar i Boogie Woogie. \nObservera att det är en annan avgift för den här träningen. Kontakta klubben för mer information om du är intresserad. \nVarmt välkomna till oss på Dansklubben Swing i Växjö!! \n(OBS! Anmälan sker endast genom samverkan med klubben info@swing.se)
URL:https://www.swing.se/event/boogie-woogie-tavlingstraning-4/2025-02-26/
LOCATION:Swinghallen\, Växjö\, Arabygatan 80\, Växjö\, 35246
CATEGORIES:Lilla hallen,Tävlingsträning
ORGANIZER;CN="Dansklubben Swing":MAILTO:info@swing.se
END:VEVENT
BEGIN:VEVENT
DTSTART;TZID=Europe/Stockholm:20250226T193000
DTEND;TZID=Europe/Stockholm:20250226T203000
DTSTAMP:20260426T024837
CREATED:20241214T151628Z
LAST-MODIFIED:20241214T151628Z
UID:10002018-1740598200-1740601800@www.swing.se
SUMMARY:Fox Nybörjare
DESCRIPTION:Alla är välkomna!!\nDu lär dig att föra och följa till den variation av musik som spelas på dansbanorna.Vi kommer börja från grunden så du som nybörjare är varmt välkommen. Du som är nybörjare kommer dessutom att få ett antal hjälpledare som tar hand om dig. \nVarmt välkomna till oss på Dansklubben Swing i Växjö!! \nSe vårt kursprogram för anmälan.
URL:https://www.swing.se/event/fox-nyborjare-4/2025-02-26/
LOCATION:Swinghallen\, Växjö\, Arabygatan 80\, Växjö\, 35246
CATEGORIES:Ordinarie kursverksamhet,Stora hallen
ORGANIZER;CN="Dansklubben Swing":MAILTO:info@swing.se
END:VEVENT
BEGIN:VEVENT
DTSTART;TZID=Europe/Stockholm:20250226T193000
DTEND;TZID=Europe/Stockholm:20250226T210000
DTSTAMP:20260426T024837
CREATED:20241214T151355Z
LAST-MODIFIED:20241214T151355Z
UID:10002062-1740598200-1740603600@www.swing.se
SUMMARY:Bugg Tävlingsträning
DESCRIPTION:Träningstillfälle för dig som tävlar i bugg. \nObservera att det är en annan avgift för den här träningen. Kontakta klubben för mer information om du är intresserad. \nVarmt välkomna till oss på Dansklubben Swing i Växjö!! \n(OBS! Anmälan sker endast genom samverkan med klubben info@swing.se)
URL:https://www.swing.se/event/bugg-tavlingstraning-4/2025-02-26/
LOCATION:Swinghallen\, Växjö\, Arabygatan 80\, Växjö\, 35246
CATEGORIES:Lilla hallen,Tävlingsträning
ORGANIZER;CN="Dansklubben Swing":MAILTO:info@swing.se
END:VEVENT
BEGIN:VEVENT
DTSTART;TZID=Europe/Stockholm:20250226T204000
DTEND;TZID=Europe/Stockholm:20250226T214000
DTSTAMP:20260426T024837
CREATED:20241214T151628Z
LAST-MODIFIED:20241214T151628Z
UID:10002030-1740602400-1740606000@www.swing.se
SUMMARY:Fox Fortsättning
DESCRIPTION:En kurs för dig som dansat fox innan och känner dig bekväm med grunderna och vill utmana dig själv och utveckla din dans ytterligare. I denna kursen lär du dig att ta ut svängarna ytterligare. Vi slipar vidare på teknik och utvecklar vår dansstil ytterligare.\nEfter kursen kommer det finnas möjlighet till socialdans fram till kl. 22.15. \nVarmt välkomna till oss på Dansklubben Swing i Växjö!! \nSe vårt kursprogram för anmälan.
URL:https://www.swing.se/event/fox-fortsattning-4/2025-02-26/
LOCATION:Swinghallen\, Växjö\, Arabygatan 80\, Växjö\, 35246
CATEGORIES:Ordinarie kursverksamhet,Stora hallen
ORGANIZER;CN="Dansklubben Swing":MAILTO:info@swing.se
END:VEVENT
END:VCALENDAR